BEGIN:VCALENDAR
VERSION:2.0
PRODID:-//Kritika HDP - ECPv6.15.20//NONSGML v1.0//EN
CALSCALE:GREGORIAN
METHOD:PUBLISH
X-WR-CALNAME:Kritika HDP
X-ORIGINAL-URL:https://kritika-hdp.hr
X-WR-CALDESC:Događaji za Kritika HDP
REFRESH-INTERVAL;VALUE=DURATION:PT1H
X-Robots-Tag:noindex
X-PUBLISHED-TTL:PT1H
BEGIN:VTIMEZONE
TZID:Europe/Zagreb
BEGIN:DAYLIGHT
TZOFFSETFROM:+0100
TZOFFSETTO:+0200
TZNAME:CEST
DTSTART:20230326T010000
END:DAYLIGHT
BEGIN:STANDARD
TZOFFSETFROM:+0200
TZOFFSETTO:+0100
TZNAME:CET
DTSTART:20231029T010000
END:STANDARD
BEGIN:DAYLIGHT
TZOFFSETFROM:+0100
TZOFFSETTO:+0200
TZNAME:CEST
DTSTART:20240331T010000
END:DAYLIGHT
BEGIN:STANDARD
TZOFFSETFROM:+0200
TZOFFSETTO:+0100
TZNAME:CET
DTSTART:20241027T010000
END:STANDARD
BEGIN:DAYLIGHT
TZOFFSETFROM:+0100
TZOFFSETTO:+0200
TZNAME:CEST
DTSTART:20250330T010000
END:DAYLIGHT
BEGIN:STANDARD
TZOFFSETFROM:+0200
TZOFFSETTO:+0100
TZNAME:CET
DTSTART:20251026T010000
END:STANDARD
END:VTIMEZONE
BEGIN:VEVENT
DTSTART;VALUE=DATE:20241213
DTEND;VALUE=DATE:20241214
DTSTAMP:20260425T045141
CREATED:20241208T083000Z
LAST-MODIFIED:20241208T083804Z
UID:13600-1734048000-1734134399@kritika-hdp.hr
SUMMARY:Znanstveni kolokvij: „Poduplani autorski štep“ Dubravka Ugrešić od postmoderne do postsocijalizma
DESCRIPTION:  \nNa Filozofskom fakultetu u Zagrebu 13. prosinca 2024. održava se znanstveni kolokvij „Poduplani autorski štep“ Dubravka Ugrešić od postmoderne do postsocijalizma\, a program možete naći u nastavku \nMjesto održavanja: Vijećnica Filozofskog fakulteta \n9.00 – 9.15 Otvaranje skupa i pozdravne riječi organizatorica (Maša Kolanović\, Danijela Lugarić Vukas\, Anera Ryznar)\n9.15 – 10.00 Plenarno izlaganje:\nJasmina Lukić (Central European University): Between Zagreb\, Berlin and Amsterdam: Dubravka Ugrešić as a Translocal Writer\n10.00 – 11.15 \nI. (Anti)politika jedne spisateljice (predsjedavajuća: Danijela Lugarić Vukas)\nNenad Ivić (Filozofski fakultet Sveučilišta u Zagrebu): (A)političnost Forsiranja romana reke. Dubravka Ugrešić u raljama postmodernizma\nMirela Dakić (Filozofski fakultet Sveučilišta u Zagrebu): Politika žanra – na njezin način\nAnera Ryznar (Filozofski fakultet Sveučilišta u Zagrebu): Politika nemoguće ljubavi: ljubavna priča u opusu Dubravke Ugrešić\nPauza za kavu 11.15 – 11.30\n11.30 – 12.45 \nII. Ruski kulturni kod (predsjedavajuća: Maša Kolanović)\nStijn Vervaet (University of Oslo): On Life and Letters\, Authors and Masks: Dubravka Ugrešić Rethinking Formalism\nMarina Protrka Štimec (Filozofski fakultet Sveučilišta u Zagrebu): Avangardni métaterxies Dubravke Ugrešić\nDanijela Lugarić Vukas (Filozofski fakultet Sveučilišta u Zagrebu): Rusija u stvaralaštvu Dubravke Ugrešić\nPauza za ručak 13 – 14.30\nDvorana IV\n14.30 – 15.45 \nIII. Autorstvo i literarni patchwork (predsjedavajuća: Anera Ryznar)\nMerima Omeragić (National Yang Ming Chiao Tung University\, International Center for Cultural Studies): (Auto)literarni životi Dubravke Ugrešić (online)\nKatarina Luketić (nezavisna istraživačica): Što je autorica?\nVladislav Beronja (University of Texas at Austin): The Late Modern Flâneuse: Urban Patchworks in Dubravka Ugrešić’s Exile Fiction\nPauza za kavu 15.45 – 16.00\n16.00 – 18.00 \nIV. Spisateljica u raljama konteksta (predsjedavajuća: Marina Protrka Štimec)\nMaša Kolanović (Filozofski fakultet Sveučilišta u Zagrebu): Što je bio jugoslavenski socijalizam i što dolazi poslije? Dubravka Ugrešić i društveno znanje književnosti\nTijana Matijević (IFDT\, Univerzitet u Beogradu): Knjige za decu Dubravke Ugrešić. Jugoslovenska književna levica početkom sedamdesetih\nIva Kosmos (ERA Fellow – Marie Sklodowska Curie Actions\, Filozofski fakultet Sveučilišta u Zagrebu): Kulturno sjećanje na Dubravku Ugrešić iz perspektive hrvatskog i internacionalnog književnog polja \nV. Završna promišljanja\nNika Pulig (Filozofski fakultet Sveučilišta u Zagrebu): Komemorativni diskurz o Dubravki Ugrešić\nU organizaciji Centra za teorijska istraživanja u humanistici Filozofskog fakulteta Sveučilišta u Zagrebu i New Yugoslav Studies Association pri Association for Slavic\, East European\, and Eurasian Studies.\nUz potporu Institucijskog istraživačkog projekta “Diskurzivni i narativni tekstovi u transnacionalnoj perspektivi“\, Zaklade Dubravka Ugrešić\, Odsjeka za kroatistiku i Filozofskog fakulteta Sveučilišta u Zagrebu.
URL:https://kritika-hdp.hr/dogadjaji/znanstveni-kolokvij-poduplani-autorski-step-dubravka-ugresic-od-postmoderne-do-postsocijalizma/
ATTACH;FMTTYPE=image/jpeg:https://kritika-hdp.hr/wp-content/uploads/2024/12/43079464_1840309046024364_4068079124533477376_n.jpg
END:VEVENT
END:VCALENDAR