BEGIN:VCALENDAR
VERSION:2.0
PRODID:-//Kritika HDP - ECPv6.15.20//NONSGML v1.0//EN
CALSCALE:GREGORIAN
METHOD:PUBLISH
X-WR-CALNAME:Kritika HDP
X-ORIGINAL-URL:https://kritika-hdp.hr
X-WR-CALDESC:Događaji za Kritika HDP
REFRESH-INTERVAL;VALUE=DURATION:PT1H
X-Robots-Tag:noindex
X-PUBLISHED-TTL:PT1H
BEGIN:VTIMEZONE
TZID:Europe/Zagreb
BEGIN:DAYLIGHT
TZOFFSETFROM:+0100
TZOFFSETTO:+0200
TZNAME:CEST
DTSTART:20220327T010000
END:DAYLIGHT
BEGIN:STANDARD
TZOFFSETFROM:+0200
TZOFFSETTO:+0100
TZNAME:CET
DTSTART:20221030T010000
END:STANDARD
BEGIN:DAYLIGHT
TZOFFSETFROM:+0100
TZOFFSETTO:+0200
TZNAME:CEST
DTSTART:20230326T010000
END:DAYLIGHT
BEGIN:STANDARD
TZOFFSETFROM:+0200
TZOFFSETTO:+0100
TZNAME:CET
DTSTART:20231029T010000
END:STANDARD
BEGIN:DAYLIGHT
TZOFFSETFROM:+0100
TZOFFSETTO:+0200
TZNAME:CEST
DTSTART:20240331T010000
END:DAYLIGHT
BEGIN:STANDARD
TZOFFSETFROM:+0200
TZOFFSETTO:+0100
TZNAME:CET
DTSTART:20241027T010000
END:STANDARD
END:VTIMEZONE
BEGIN:VEVENT
DTSTART;TZID=Europe/Zagreb:20230731T100000
DTEND;TZID=Europe/Zagreb:20230815T190000
DTSTAMP:20260419T140321
CREATED:20230804T143947Z
LAST-MODIFIED:20230804T145941Z
UID:9441-1690797600-1692126000@kritika-hdp.hr
SUMMARY:ŠKURE: Objavljen poziv literarnim entuzijastima iz Šibensko-kninske županije
DESCRIPTION:Međunarodni festival suvremene književnosti ŠKURE (Šibenske književne ure)\, čije će treće izdanje biti održano u rujnu u Šibeniku\, objavljuje POZIV namijenjen literarnim entuzijastima iz Šibensko-kninske županije. \nSvi vi koji pišete poeziju ili prozu\, a zainteresirani ste za sudjelovanje u pratećem programu festivala ŠKURE\, svoje radove možete poslati do 15. kolovoza na e-mail adresu praznik.rada1@gmail.com. \nSvoje radove autori će čitati na lokaciji u staroj gradskoj jezgri koja će naknadno biti objavljena. \nI ovogodišnje izdanje festivala ŠKURE donosi u Šibenik književne tribine\, promocije\, gostovanja renomiranih autora\, susrete s čitateljima. I ove će godine  biti dodijeljena Nagrada Stjepan Gulin za najbolju knjigu poezije objavljenu u regiji.
URL:https://kritika-hdp.hr/dogadjaji/skure-objavljen-poziv-literarnim-entuzijastima-iz-sibensko-kninske-zupanije/
ATTACH;FMTTYPE=image/png:https://kritika-hdp.hr/wp-content/uploads/2023/08/download.png
END:VEVENT
END:VCALENDAR