BEGIN:VCALENDAR
VERSION:2.0
PRODID:-//Kritika HDP - ECPv6.15.20//NONSGML v1.0//EN
CALSCALE:GREGORIAN
METHOD:PUBLISH
X-WR-CALNAME:Kritika HDP
X-ORIGINAL-URL:https://kritika-hdp.hr
X-WR-CALDESC:Događaji za Kritika HDP
REFRESH-INTERVAL;VALUE=DURATION:PT1H
X-Robots-Tag:noindex
X-PUBLISHED-TTL:PT1H
BEGIN:VTIMEZONE
TZID:Europe/Zagreb
BEGIN:DAYLIGHT
TZOFFSETFROM:+0100
TZOFFSETTO:+0200
TZNAME:CEST
DTSTART:20240331T010000
END:DAYLIGHT
BEGIN:STANDARD
TZOFFSETFROM:+0200
TZOFFSETTO:+0100
TZNAME:CET
DTSTART:20241027T010000
END:STANDARD
BEGIN:DAYLIGHT
TZOFFSETFROM:+0100
TZOFFSETTO:+0200
TZNAME:CEST
DTSTART:20250330T010000
END:DAYLIGHT
BEGIN:STANDARD
TZOFFSETFROM:+0200
TZOFFSETTO:+0100
TZNAME:CET
DTSTART:20251026T010000
END:STANDARD
BEGIN:DAYLIGHT
TZOFFSETFROM:+0100
TZOFFSETTO:+0200
TZNAME:CEST
DTSTART:20260329T010000
END:DAYLIGHT
BEGIN:STANDARD
TZOFFSETFROM:+0200
TZOFFSETTO:+0100
TZNAME:CET
DTSTART:20261025T010000
END:STANDARD
END:VTIMEZONE
BEGIN:VEVENT
DTSTART;VALUE=DATE:20250306
DTEND;VALUE=DATE:20250403
DTSTAMP:20260421T014656
CREATED:20250306T173512Z
LAST-MODIFIED:20250306T173738Z
UID:14998-1741219200-1743638399@kritika-hdp.hr
SUMMARY:Radionica superkratke priče
DESCRIPTION:Radionica superkratke priče namijenjena je svima koji žele naučiti puno o kratkoj priči bruseći malu količinu teksta. Kroz slavne i manje slavne primjere iz domene tzv. flash ficitiona istražit ćemo osnove mehanike kratke priče i potom napisati vlastitu jednominutnu priču. Priču ćemo samostalno i u grupi brusiti dok ne bude spremna za objavu\, odnosno za slanje na natječaj Gradske knjižnice Požega i Festivala jednominutnog filma „Jednominutna priča”. Centralna ideja ove radionice jest da se kroz igru\, diskusiju i rad na tekstu ohrabrimo i pripremimo za puštanje vlastite priče u svijet. \nTermini radionice: srijedom (12. 3.\, 19. 3.\, 26. 3. i 2. 4.) od 18 do 20 sati u Knjižnici Ivana Gorana Kovačića\, Ulica grada Vukovara 35 u Zagrebu. \nVoditeljica radionice: spisateljica Luiza Bouharaoua. \nRadionica je besplatna\, ali se za nju potrebno prijaviti na: skribonauti@gmail.com \nBroj polaznika je ograničen. \nPridružite nam se da zajedno napišemo baš super kratku priču! \nViše o natječaju za koji ćemo pisati saznajte na: https://gkpz.hr/jednominutna-prica-2/. \nRadionicu organizira Udruga Skribonauti uz potporu Grada Zagreba kroz program Kultura u zajednici.
URL:https://kritika-hdp.hr/dogadjaji/radionica-superkratke-price/
ATTACH;FMTTYPE=image/jpeg:https://kritika-hdp.hr/wp-content/uploads/2025/03/Radionica-Superkatke-price.jpg
END:VEVENT
END:VCALENDAR