BEGIN:VCALENDAR
VERSION:2.0
PRODID:-//Kritika HDP - ECPv6.15.20//NONSGML v1.0//EN
CALSCALE:GREGORIAN
METHOD:PUBLISH
X-WR-CALNAME:Kritika HDP
X-ORIGINAL-URL:https://kritika-hdp.hr
X-WR-CALDESC:Događaji za Kritika HDP
REFRESH-INTERVAL;VALUE=DURATION:PT1H
X-Robots-Tag:noindex
X-PUBLISHED-TTL:PT1H
BEGIN:VTIMEZONE
TZID:Europe/Zagreb
BEGIN:DAYLIGHT
TZOFFSETFROM:+0100
TZOFFSETTO:+0200
TZNAME:CEST
DTSTART:20230326T010000
END:DAYLIGHT
BEGIN:STANDARD
TZOFFSETFROM:+0200
TZOFFSETTO:+0100
TZNAME:CET
DTSTART:20231029T010000
END:STANDARD
BEGIN:DAYLIGHT
TZOFFSETFROM:+0100
TZOFFSETTO:+0200
TZNAME:CEST
DTSTART:20240331T010000
END:DAYLIGHT
BEGIN:STANDARD
TZOFFSETFROM:+0200
TZOFFSETTO:+0100
TZNAME:CET
DTSTART:20241027T010000
END:STANDARD
BEGIN:DAYLIGHT
TZOFFSETFROM:+0100
TZOFFSETTO:+0200
TZNAME:CEST
DTSTART:20250330T010000
END:DAYLIGHT
BEGIN:STANDARD
TZOFFSETFROM:+0200
TZOFFSETTO:+0100
TZNAME:CET
DTSTART:20251026T010000
END:STANDARD
BEGIN:DAYLIGHT
TZOFFSETFROM:+0100
TZOFFSETTO:+0200
TZNAME:CEST
DTSTART:20260329T010000
END:DAYLIGHT
BEGIN:STANDARD
TZOFFSETFROM:+0200
TZOFFSETTO:+0100
TZNAME:CET
DTSTART:20261025T010000
END:STANDARD
END:VTIMEZONE
BEGIN:VEVENT
DTSTART;TZID=Europe/Zagreb:20241208T080000
DTEND;TZID=Europe/Zagreb:20250131T170000
DTSTAMP:20260421T095121
CREATED:20241208T090332Z
LAST-MODIFIED:20241208T090356Z
UID:13615-1733644800-1738342800@kritika-hdp.hr
SUMMARY:Prvi prozak na vrh jezika
DESCRIPTION:Nagrade za rukopise autora do 35 godina Na vrh jezika za poeziju i Prozak za fikcijsku prozu organiziraju Udruga Kultipraktik\, a godišnje dodjeljuje žiri u sastavu: Marija Andrijašević\, Marko Pogačar i Kruno Lokotar.\n\n\n\nNagrada Prozak se sastoji od objave knjige fikcijske proze sa svim pripadnim autorskim pravima u izdanju naklade Jesenski i Turk\, Prozak/Na vrh jezika prstena i diplome.\n\nNagrada Na vrh jezika se sastoji od objave zbirke poezije\, Prozak/Na vrh jezika prstena i diplome.\n\n\n\nNatječaji Na vrh jezika za poeziju i Prozak za prozu\, trajno su otvoreni za sve građane Republike Hrvatske mlađe od 35 godina.\n\n\n\nIzbor do 10 neobjavljenih pjesama uz bio-bibliografsku crticu i kontakt (telefon) treba poslati kao privitak u jednom Word dokumentu na adresu navrhjezika@gmail.com\, a neobjavljenu prozu(e) opsega do pet kartica teksta (9000 znakova s proredom) na adresu prozaknatjecaj@gmail.com. Uz prijavu treba poslati i portretnu fotografiju autora/ice u .jpg formatu.\n\nRadovi koji budu ulazili u širi izbor bit će tijekom godine objavljivani na Facebooku Prvi prozak na vrh jezika.\n\n\nAutori koji uđu u uži izbor bit će o tome obaviješteni e-mailom i zamoljeni da žiriju na uvid pošalju sav materijal koji bi mogao ući u knjigu.\n\n\n\nZahvaljujemo se na suradnji.
URL:https://kritika-hdp.hr/dogadjaji/prvi-prozak-na-vrh-jezika/
ATTACH;FMTTYPE=image/jpeg:https://kritika-hdp.hr/wp-content/uploads/2024/06/prozak.jpg
END:VEVENT
END:VCALENDAR