BEGIN:VCALENDAR
VERSION:2.0
PRODID:-//Kritika HDP - ECPv6.15.20//NONSGML v1.0//EN
CALSCALE:GREGORIAN
METHOD:PUBLISH
X-WR-CALNAME:Kritika HDP
X-ORIGINAL-URL:https://kritika-hdp.hr
X-WR-CALDESC:Događaji za Kritika HDP
REFRESH-INTERVAL;VALUE=DURATION:PT1H
X-Robots-Tag:noindex
X-PUBLISHED-TTL:PT1H
BEGIN:VTIMEZONE
TZID:Europe/Zagreb
BEGIN:DAYLIGHT
TZOFFSETFROM:+0100
TZOFFSETTO:+0200
TZNAME:CEST
DTSTART:20210328T010000
END:DAYLIGHT
BEGIN:STANDARD
TZOFFSETFROM:+0200
TZOFFSETTO:+0100
TZNAME:CET
DTSTART:20211031T010000
END:STANDARD
BEGIN:DAYLIGHT
TZOFFSETFROM:+0100
TZOFFSETTO:+0200
TZNAME:CEST
DTSTART:20220327T010000
END:DAYLIGHT
BEGIN:STANDARD
TZOFFSETFROM:+0200
TZOFFSETTO:+0100
TZNAME:CET
DTSTART:20221030T010000
END:STANDARD
BEGIN:DAYLIGHT
TZOFFSETFROM:+0100
TZOFFSETTO:+0200
TZNAME:CEST
DTSTART:20230326T010000
END:DAYLIGHT
BEGIN:STANDARD
TZOFFSETFROM:+0200
TZOFFSETTO:+0100
TZNAME:CET
DTSTART:20231029T010000
END:STANDARD
END:VTIMEZONE
BEGIN:VEVENT
DTSTART;TZID=Europe/Zagreb:20220517T173000
DTEND;TZID=Europe/Zagreb:20220517T183000
DTSTAMP:20260420T062917
CREATED:20220516T132532Z
LAST-MODIFIED:20220722T112613Z
UID:1376-1652808600-1652812200@kritika-hdp.hr
SUMMARY:Promocija knjige "Gdje je nestao Kir"
DESCRIPTION:Roman Elvisa Bošnjaka Gdje je nestao Kir sastoji se od dvije pripovjedne linije koje naizmjence prate žrtvu i ubojicu. Pripovijedanje o žrtvi\, Josipu Kiru\, ide prema trenutku ubojstva\, opisuje njegove zadnje dane i sate\, dok ubojicu Marka Šutala pratimo od čina ubojstva\, kroz faze bijega. Čitamo roman usisani u dva tunela koja se u jednom trenu kobno sastaju\, e da bi se… opet sastali? \nPortretirajući i kontrastirajući dva potpuno drugačija lika\, njihove misije i logike\, i skicirajući likove iz njihova neposredna okoliša\, autor pripovijeda o vremenu početka rata u Slavoniji\, i potiče da se svatko zapita što se zapravo dogodilo\, jer značenja izmiču\, sve do danas\, premda je nesumnjivo da je ubojstvo iz zasjede\, pogotovo policijskog načelnika na zadatku\, dobro organizirani zločin.  \nFikcionalizirajući\, Elvis Bošnjak vodi nas kroz tunele na čijim krajevima se nazire svjetlo\, istina\, ona plemenitog kova\, na koju se ne hvata hrđa. A istinu je teško ubiti\, kao i Kira. \nKruno Lokotar \n 
URL:https://kritika-hdp.hr/dogadjaji/promocija-knjige-gdje-je-nestao-kir/
LOCATION:Knjižnica i čitaonica Bogdana Ogrizovića
ATTACH;FMTTYPE=image/png:https://kritika-hdp.hr/wp-content/uploads/2022/05/Pozivnica.png
END:VEVENT
END:VCALENDAR