BEGIN:VCALENDAR
VERSION:2.0
PRODID:-//Kritika HDP - ECPv6.15.20//NONSGML v1.0//EN
CALSCALE:GREGORIAN
METHOD:PUBLISH
X-WR-CALNAME:Kritika HDP
X-ORIGINAL-URL:https://kritika-hdp.hr
X-WR-CALDESC:Događaji za Kritika HDP
REFRESH-INTERVAL;VALUE=DURATION:PT1H
X-Robots-Tag:noindex
X-PUBLISHED-TTL:PT1H
BEGIN:VTIMEZONE
TZID:Europe/Zagreb
BEGIN:DAYLIGHT
TZOFFSETFROM:+0100
TZOFFSETTO:+0200
TZNAME:CEST
DTSTART:20220327T010000
END:DAYLIGHT
BEGIN:STANDARD
TZOFFSETFROM:+0200
TZOFFSETTO:+0100
TZNAME:CET
DTSTART:20221030T010000
END:STANDARD
BEGIN:DAYLIGHT
TZOFFSETFROM:+0100
TZOFFSETTO:+0200
TZNAME:CEST
DTSTART:20230326T010000
END:DAYLIGHT
BEGIN:STANDARD
TZOFFSETFROM:+0200
TZOFFSETTO:+0100
TZNAME:CET
DTSTART:20231029T010000
END:STANDARD
BEGIN:DAYLIGHT
TZOFFSETFROM:+0100
TZOFFSETTO:+0200
TZNAME:CEST
DTSTART:20240331T010000
END:DAYLIGHT
BEGIN:STANDARD
TZOFFSETFROM:+0200
TZOFFSETTO:+0100
TZNAME:CET
DTSTART:20241027T010000
END:STANDARD
END:VTIMEZONE
BEGIN:VEVENT
DTSTART;TZID=Europe/Zagreb:20230524T100000
DTEND;TZID=Europe/Zagreb:20230528T220000
DTSTAMP:20260425T155530
CREATED:20230523T201403Z
LAST-MODIFIED:20230523T201446Z
UID:8918-1684922400-1685311200@kritika-hdp.hr
SUMMARY:Knjiga u krošnjama
DESCRIPTION:Zagrebački park Ribnjak od 24. svibnja drugu godinu zaredom postaje domaćin festivala književnosti za djecu i mlade Knjige u krošnjama u organizaciji Centra mladih Ribnjak i izdavačke kuće Ibis grafika. Bogat program uključuje književne i likovne radionice\, upoznavanje audio knjiga\, predstave\, koncerte i druge sadržaje\, a brojni suradnici festivala pobrinuli su se da program bude raznovrstan i primjeren za sve uzraste. Djeca će imati priliku upoznati domaće autore i ilustratore\, ali i goste iz Italije i Slovenije koji su uz predstavljanja slikovnica i knjiga pripremili i radionice\, slušaonice i interaktivne predstave. Zabavu za najmlađe osigurat će Zalogaj palačinke\, zalogaj slikovnice s Jelenom Pervan — popularni program koji nakon niza događanja na zagrebačkim Ravnicama ponovno dolazi na Ribnjak\, a kako mu i samo ime govori glavne sastavnice programa su djeci omiljene slikovnice i palačinke! U popodnevnom i večernjem terminu očekuju vas radionice za srednjoškolce i predstave za djecu. Događanja će se odvijati u parku i u prostorijama Centra mladih Ribnjak\, a u slučaju kiše sav program održat će se u unutrašnjem prostoru Centra. U sklopu Festivala\, bit će organizirana i prigodna prodaja knjiga. U programima će sudjelovati djeca nižih i viših razreda osnovne škole\, kao i srednjoškolci. \nDAN 1 | SRIJEDA\, 24.5.2023.\n9:00 – 13:00 \nbook&zvook u krošnjama \nslušanje audioknjiga \nPARK \n9:30 – 11:00 \nMelita Rundek i Vanda Čižmek \nKiki\, mi te volimo \nPARK / MALA DVORANA\, 1. KAT \n11:00 – 12:30 \nSTEAM \ninteraktivna radionica za djecu \nPARK / MALA DVORANA\, 1. KAT \n4-10 god \n16:00 – 20:00 \nbook&zvook u krošnjama \nslušanje audioknjiga \nPARK \n16:30 – 17:00 \nBrbljanje \nzvučna šetnja za bebe i gegavce \nPARK (PRIJAVE KOD INFOPUNKTA) \n17:00 – 18:00 \nZalogaj palačinke\, zalogaj slikovnice \nJelena Pervan \nPARK / SOBA 15\, 1. KAT \n17:00 – 19:00 \nMali novinari \nIva Bezinović-Haydon \n“STAKLENIK”\, 2. KAT \nPRIJAVE KOD INFOPUNKTA \n17:00 – 20:00 \nRadionica stripa \nDavor Schunk \n“KAFIĆ”\, PRIZEMLJE \n18:00 – 18:30 \nKamišibaj \nPARK / MALA DVORANA\, 1. KAT \n18:00 \nSvečano otvorenje festivala \nPARK / VELIKA DVORANA\, 1. K9:00 – 13:00 \nbook&zvook u krošnjama \nslušanje audioknjiga \nPARK \n9:30 – 11:00 \nBiljana Crvenkovska \nNevidljiva kuća \nPARK / MALA DVORANA\, 1. KAT \n11:00 – 12:30 \nJana Bauer i Peter Škerl \nKako zagrliti ježa \nPARK / MALA DVORANA\, 1. KAT \n16:00 – 20:00 \nbook&zvook u krošnjama \nslušanje audioknjiga \nPARK \n16:30 – 17:00 \nBrbljanje \nzvučna šetnja za bebe i gegavce \nPARK (PRIJAVE KOD INFOPUNKTA) \n17:00 – 18:00 \nZalogaj palačinke\, zalogaj slikovnice \nJelena Pervan \nPARK / “KAFIĆ U PRIZEMLJU \n17:00 – 19:00 \nMali novinari \nIva Bezinović-Haydon \n“STAKLENIK”\, 2. KAT \nPRIJAVE KOD INFOPUNKTA \n17:30 – 19:30 \nRadionica prevođenja \nLara Hölbling Matković \nMALA DVORANA\, 1. KAT \n19:00 – 19:45 \nSitzFleisch koncert školskog benda \nOŠ I. G. Kovačića\, Zagreb \nPARK / VELIKA DVORANA\, 1. KAT \n20:00 – 21:00 \nViše od Knjige \nPredstavljanje knjige \nTko tko tko to Hu-hu-huče \nTERASA\, 2. KAT / MALA DVORANA\, 1. KAT \nDAN 3 | PETAK\, 26.5.2023.\n9:00 – 13:00 \nbook&zvook u krošnjama \nslušanje audioknjiga \nPARK \n09:30 – 11:00 \nSusanna Mattiangeli: HB Olovka \nPARK / MALA DVORANA\, 1. KAT \n11:00 – 12:30 \nArhistorija \ninteraktivna radionica za djecu \nPARK / MALA DVORANA\, 1. KAT \n16:00 – 20:00 \nbook&zvook u krošnjama \nslušanje audioknjiga \nPARK \n16:30 – 17:00 \nBrbljanje \nzvučna šetnja za bebe i gegavce \nPARK (PRIJAVE KOD INFOPUNKTA) \n17:00 – 18:00 \nZalogaj palačinke\, zalogaj slikovnice \nJelena Pervan \nPARK / “KAFIĆ U PRIZEMLJU \n17:00 – 19:00 \nMali novinari \nIva Bezinović-Haydon \n“STAKLENIK”\, 2. KAT \nPRIJAVE KOD INFOPUNKTA \n17:30 – 19:30 \nPredstava Patka\, Smrt i tulipan \nVRUM Kolektiv\, ulaznice 5 € \nVELIKA DVORANA\, 1. KAT \n18:00 – 19:00 \nKoncert zborova i orkestra GŠ \nBlagoje Bersa \nPARK / VELIKA DVORANA\, 1. KAT \n18:00 – 19:30 \nPredstavljanje projekta \nNaša mala knjižnica – kraj i početak \nSOBA 15\, 1. KAT \n19:00 – 19:30 \nPredstava Plesna haljina žutog maslačka \nCentar za razvoj kreativnih vještina \nDoza drame \nPARK / MALA DVORANA\, 1. KAT \n19:30 – 20:30 \nRazgovor s autorima \nTERASA\, 2. KAT / VELIKA DVORANA\, 1. KAT \nDAN 4 | SUBOTA\, 27.5.2023.\n9:00 – 13:00 \nbook&zvook u krošnjama \nslušanje audioknjiga \nPARK \n9:00 – 09:30 (1-2 GOD) \nopera rosa\, opera za bebe i gegavce \nulaznice 10 € \nTERASA\, 2. KAT / U SLUČAJU KIŠE SE OTKAZUJE \n10:00 – 10:30 (3-4 GOD) \nopera rosa\, opera za bebe i gegavce \nulaznice 10 € \nTERASA\, 2. KAT / U SLUČAJU KIŠE SE OTKAZUJE \n09:30 – 10:00 \nBrbljanje \nzvučna šetnja za bebe i gegavce \nPARK (PRIJAVE KOD INFOPUNKTA) \n10:30 – 11:00 \nBrbljanje \nzvučna šetnja za bebe i gegavce \nPARK (PRIJAVE KOD INFOPUNKTA) \n11:00 – 12:00 \nKoncert puhačkog orkestra \nGŠ Vatroslav Lisinski \nPARK / VELIKA DVORANA\, 1. KAT \n15:00 – 15:30 \nGlazbena kuhinja \nradiodrama za bebe s moderacijom \nMALA DVORANA\, 1. KAT \n16:00 – 16:30 \nGlazbena kuhinja \nradiodrama za bebe s moderacijom \nMALA DVORANA\, 1. KAT \n16:00 – 12:00 \nbook&zvook u krošnjama \nslušanje audioknjiga \nPARK \n15:30 – 16:00 \nBrbljanje \nzvučna šetnja za bebe i gegavce \nPARK (PRIJAVE KOD INFOPUNKTA) \n16:30 – 17:00 \nBrbljanje \nzvučna šetnja za bebe i gegavce \nPARK (PRIJAVE KOD INFOPUNKTA) \n17:30 – 18:00 \nRaspjevane priče: Priče o bubama \nkoncertno predstavljanje audioknjige \nPARK / VELIKA DVORANA\, 1. KAT \n18:00 – 19:00 \nLabudica\, kraljeva žena \nstorytelling: Srebrenka Peregrin \nPARK / MALA DVORANA\, 1. KAT \n19:30 – 20:30 \nPredstavljanje knjige \nVera Antolić: Djeca uši zatvaraju savjetu\, a oči otvaraju primjeru \nTERASA\, 2. KAT / VELIKA DVORANA\, 1. KAT \nDAN 5 | NEDJELJA\, 28.5.2023.\n9:00 – 13:00 \nbook&zvook u krošnjama \nslušanje audioknjiga \nPARK \n9:00 – 09:30 (1-2 GOD) \nopera rosa\, opera za bebe i gegavce \nulaznice 10 € \nTERASA\, 2. KAT / U SLUČAJU KIŠE SE OTKAZUJE \n10:00 – 10:30 (3-4 GOD) \nopera rosa\, opera za bebe i gegavce \nulaznice 10 € \nTERASA\, 2. KAT / U SLUČAJU KIŠE SE OTKAZUJE \n9:30 – 10:00 \nBrbljanje \nzvučna šetnja za bebe i gegavce \nPARK (PRIJAVE KOD INFOPUNKTA) \n10:30 – 11:00 \nBrbljanje \nzvučna šetnja za bebe i gegavce \nPARK (PRIJAVE KOD INFOPUNKTA) \n10:00 – 10:40 \nBAJKA ZA VAN: Crvenkapica\, Vuk i Baka \nTeatar Poco Loco\, ulaznice 5\,5 € \nPARK / U SLUČAJU KIŠE SE OTKAZUJE \n11:30 – 12:10 \nBAJKA ZA VAN: Crvenkapica\, Vuk i Baka \nTeatar Poco Loco\, ulaznice 5\,5 € \nPARK / U SLUČAJU KIŠE SE OTKAZUJE \n16:00 – 12:00 \nbook&zvook u krošnjama \nslušanje audioknjiga \nPARK \n16:00 – 16:30 \nGlazbena kuhinja \nradiodrama za bebe s moderacijom \nMALA DVORANA\, 1. KAT \n16:30 – 17:00 \nBrbljanje \nzvučna šetnja za bebe i gegavce \nPARK (PRIJAVE KOD INFOPUNKTA) \n17:30 – 18:00 \nGlazbena kuhinja \nradiodrama za bebe s moderacijom \nMALA DVORANA\, 1. KAT \n18:00 – 18:30 \nBrbljanje \nzvučna šetnja za bebe i gegavce \nPARK (PRIJAVE KOD INFOPUNKTA)
URL:https://kritika-hdp.hr/dogadjaji/knjiga-u-krosnjama/
LOCATION:Zagrebački park Ribnjak
ATTACH;FMTTYPE=image/jpeg:https://kritika-hdp.hr/wp-content/uploads/2023/05/342540779_1009792559992203_9066083697365323803_n.jpg
END:VEVENT
END:VCALENDAR