BEGIN:VCALENDAR
VERSION:2.0
PRODID:-//Kritika HDP - ECPv6.15.20//NONSGML v1.0//EN
CALSCALE:GREGORIAN
METHOD:PUBLISH
X-WR-CALNAME:Kritika HDP
X-ORIGINAL-URL:https://kritika-hdp.hr
X-WR-CALDESC:Događaji za Kritika HDP
REFRESH-INTERVAL;VALUE=DURATION:PT1H
X-Robots-Tag:noindex
X-PUBLISHED-TTL:PT1H
BEGIN:VTIMEZONE
TZID:Europe/Zagreb
BEGIN:DAYLIGHT
TZOFFSETFROM:+0100
TZOFFSETTO:+0200
TZNAME:CEST
DTSTART:20220327T010000
END:DAYLIGHT
BEGIN:STANDARD
TZOFFSETFROM:+0200
TZOFFSETTO:+0100
TZNAME:CET
DTSTART:20221030T010000
END:STANDARD
BEGIN:DAYLIGHT
TZOFFSETFROM:+0100
TZOFFSETTO:+0200
TZNAME:CEST
DTSTART:20230326T010000
END:DAYLIGHT
BEGIN:STANDARD
TZOFFSETFROM:+0200
TZOFFSETTO:+0100
TZNAME:CET
DTSTART:20231029T010000
END:STANDARD
BEGIN:DAYLIGHT
TZOFFSETFROM:+0100
TZOFFSETTO:+0200
TZNAME:CEST
DTSTART:20240331T010000
END:DAYLIGHT
BEGIN:STANDARD
TZOFFSETFROM:+0200
TZOFFSETTO:+0100
TZNAME:CET
DTSTART:20241027T010000
END:STANDARD
END:VTIMEZONE
BEGIN:VEVENT
DTSTART;VALUE=DATE:20230516
DTEND;VALUE=DATE:20230522
DTSTAMP:20260424T020644
CREATED:20230510T193413Z
LAST-MODIFIED:20230510T193506Z
UID:8783-1684202400-1684634399@kritika-hdp.hr
SUMMARY:24. Forum Tomizza
DESCRIPTION:24. Forum Tomizza ove godine odvijat će se od 16. do 20. svibnja u Trstu\, Kopru i Umagu\, tema: KARNEVAL BEZ GRANICA. U programu su promocije knjiga\, izložbe\, književni itinerari\, performansi\, pjesnički nastupi i\, naravno\, simpozij. Među našim sudionicima su: Ahmed Burić\, Saša Ćirić\, Nina Dragičević\, Šura Dumanić\, Monika Herceg\, Maja Klarić\, Barbara Korun\, Bojan Krivokapić\, István Ladányi\, Mila Lazić\, Jedrt Maležič\, Slavica Marin\, Dragan Markovina\, Lorena Monica Kmet\, Gianluca Pacciucci\, Igor Pison\, Aljoša Pužar\, Milan Rakovac\, Sanja Roić\, Marijan Rupert\, Renata Salecl\, Erika Šporčić Calabrò\, Marcel Štefančič jr.\, Rosanna Turcinovich Giuricin\, Martina Vocci\, Goran Vojnović\, Diego Zandel… Dobrodošli! \nPROGRAM\nUMAGUMAGO\nPredvečer Foruma \nutorak\, 16. 5.\n18.00 Gradska knjižnica Umag \nPredavanje Erike Šporčić Calabrò: „Kazališno stvaralaštvo Giuseppea Rote“ \nKOPARCAPODISTRIA\nPredvečer Foruma \nutorak\, 16. 5.\n19.00 Palača Gravisi\, sjedište Zajednice Talijana Santorio Santorio\, Ulica OF 10 \nProjekcija dokumentarnog filma „Le storie in movimento: Fulvio Tomizza e i contemporanei“\, razgovor s autoricom Martinom Vocci vodi Irena Urbič \nsrijeda\, 17. 5.\n16.00 Titov trg \nTomizzini itinerari\, vodi Jasna Čebron \n19.00 Palača Gravisi\, sjedište Zajednice Talijana Santorio Santorio\, Ulica OF 10 \nOtvaranje fotografske izložbe Maurizija Frullanija: „Sveci\, mitovi i legende“\, kuratorica Maja Briski \nTRSTTRIESTE\nsrijeda\, 17. 5. \n18.00 STAZIONE ROGERS\, Riva Grumula 14 \nSIMPOZIJ KARNEVAL BEZ GRANICA\nUvodna riječ: Milan Rakovac\nSudionici: Martina Vocci (Kaldanija)\, Igor Pison (Trst)\, Rosanna Turcinovich Giuricin (Trst)\, Gianluca Pacciucci (Trst)\, Mila Lazić (Trst) \nKOPARCAPODISTRIA\nčetvrtak\, 18. 5. \n10.30 PRETORSKA PALAČA\, Titov trg 1 \nSIMPOZIJ KARNEVAL BEZ GRANICA \nUvodna riječ: Marcel Štefančič\, jr.\nSudionici: Diego Zandel (Rim)\, Saša Ćirić (Beograd)\, Monika Herceg (Zagreb)\, Nina Dragičević (Ljubljana)\, Marijan Rupert (Ljubljana)\, Ahmed Burić (Sarajevo) \n16.30 MALA LOŽA\, ispod Pretorske palače \nPredstavljanje zbornika kratkih priča i otvorenje izložbe Lapis Histriae: Kaos Kairos Caos Art Posters\, kuratorica Maja Briski. \n17.30 Vrt obitelji Čalija\, Ul. Agrarne reforme 8a \nPJESNIK NA CESTI \nBarbara Korun\, Nina Dragičević\, István Ladányi\, Monika Herceg\, Diego Zandel\, Ahmed Burić \nUMAGUMAGO\npetak\, 19. 5. \n10.00 ZAJEDNICA TALIJANA „FULVIO TOMIZZA“\, Brolo 1 \nDodjela nagrade Lapis Histriae 2023 \nSIMPOZIJ KARNEVAL BEZ GRANICA\nUvodna riječ: Goran Vojnović\nSudionici: Dragan Markovina (Split)\, Renata Salecl (Ljubljana)\, István Ladányi (Veszprém)\, Rosanna Turcinovich Giuricin (Trst)\, Jedrt Maležič (Ljubljana)\, Aljoša Pužar (Rijeka) \n17.00 TRG SVETOG MARTINA (ispred Muzeja Grada Umaga) \nperformans Slavice Marin i pjesnici Diego Zandel\, Monika Herceg\, István Ladányi\, Nina Dragičević\, Bojan Krivokapić i Maja Klarić \n18.00 CIRCOLO\, Brolo 1 \nPredstavljanje hrvatskog prijevoda romana Fulvija Tomizze „Kamo se vratiti“ (Dove tornare\, nakladnik Gradska knjižnica Umag)\, sudjeluju prevoditeljica Lorena Monica Kmet i urednica Sanja Roić \nPredstavljanje knjige Milana Rakovca „Slovo Bosni“\, sudjeluju autor\, nakladnica Šura Dumanić\, pisac pogovora Ahmed Burić i urednik Neven Ušumović \nMATERADAMATTERADA\nsubota\, 20. 5.\n12.00 Komemoracija na grobu Fulvija Tomizze
URL:https://kritika-hdp.hr/dogadjaji/24-forum-tomizza/
ATTACH;FMTTYPE=image/png:https://kritika-hdp.hr/wp-content/uploads/2023/05/2023_tomizza_program.png
END:VEVENT
END:VCALENDAR