BEGIN:VCALENDAR
VERSION:2.0
PRODID:-//Kritika HDP - ECPv6.15.20//NONSGML v1.0//EN
CALSCALE:GREGORIAN
METHOD:PUBLISH
X-WR-CALNAME:Kritika HDP
X-ORIGINAL-URL:https://kritika-hdp.hr
X-WR-CALDESC:Događaji za Kritika HDP
REFRESH-INTERVAL;VALUE=DURATION:PT1H
X-Robots-Tag:noindex
X-PUBLISHED-TTL:PT1H
BEGIN:VTIMEZONE
TZID:Europe/Zagreb
BEGIN:DAYLIGHT
TZOFFSETFROM:+0100
TZOFFSETTO:+0200
TZNAME:CEST
DTSTART:20200329T010000
END:DAYLIGHT
BEGIN:STANDARD
TZOFFSETFROM:+0200
TZOFFSETTO:+0100
TZNAME:CET
DTSTART:20201025T010000
END:STANDARD
BEGIN:DAYLIGHT
TZOFFSETFROM:+0100
TZOFFSETTO:+0200
TZNAME:CEST
DTSTART:20210328T010000
END:DAYLIGHT
BEGIN:STANDARD
TZOFFSETFROM:+0200
TZOFFSETTO:+0100
TZNAME:CET
DTSTART:20211031T010000
END:STANDARD
BEGIN:DAYLIGHT
TZOFFSETFROM:+0100
TZOFFSETTO:+0200
TZNAME:CEST
DTSTART:20220327T010000
END:DAYLIGHT
BEGIN:STANDARD
TZOFFSETFROM:+0200
TZOFFSETTO:+0100
TZNAME:CET
DTSTART:20221030T010000
END:STANDARD
BEGIN:DAYLIGHT
TZOFFSETFROM:+0100
TZOFFSETTO:+0200
TZNAME:CEST
DTSTART:20230326T010000
END:DAYLIGHT
BEGIN:STANDARD
TZOFFSETFROM:+0200
TZOFFSETTO:+0100
TZNAME:CET
DTSTART:20231029T010000
END:STANDARD
END:VTIMEZONE
BEGIN:VEVENT
DTSTART;VALUE=DATE:20221105
DTEND;VALUE=DATE:20221106
DTSTAMP:20260421T234523
CREATED:20221102T151256Z
LAST-MODIFIED:20221107T105605Z
UID:6915-1667606400-1667692799@kritika-hdp.hr
SUMMARY:O čemu govorimo kad govorimo o seksizmu: Maja u saboru
DESCRIPTION:Nastavljaju se tribine iz ciklusa “O čemu govorimo kad govorimo o seksizmu”. Sljedeća tribina\, pod nazivom Maja u saboru\, održat će se u subotu 5. studenog 2022. u 18 sati\, u Knjižnici i čitaonici Bogdana Ogrizovića u Zagrebu \nSaborske zastupnice Urša Raukar i Dalija Orešković te pravobraniteljica za ravnopravnost spolova Višnja Ljubičić razgovarat će s voditeljicom i moderatoricom tribine Ivanom Bodrožić. \nDovoljno je pogledati svaki dosadašnji saziv Sabora kako bismo uočili temeljnu neravnopravnost u sudjelovanju u političkom i javnom životu žena i muškaraca u Hrvatskoj. Iako su prema statistikama žene obrazovanije\, daleko manje obnašaju upravljačkih i važnih političkih funkcija te su nerijetko izložene seksističkim komentarima kolega. Osim toga i dalje većinski podnose teret života u obiteljskim zajednicama\, brige za djecu\, kućanstvo\, roditelje. Kako izgleda prikriveni ili izravni seksizam u političkom segmentu\, kako se on prelijeva na ostale dijelove društva\, ima li solidarnosti među zastupnicama i zastupnicima\, kako preokrenuti trendove te o mnogim drugim temama razgovarat ćemo s našim gošćama
URL:https://kritika-hdp.hr/dogadjaji/o-cemu-govorimo-kad-govorimo-o-seksizmu-maja-u-saboru/
ATTACH;FMTTYPE=image/jpeg:https://kritika-hdp.hr/wp-content/uploads/2022/11/unnamed.jpg
END:VEVENT
BEGIN:VEVENT
DTSTART;TZID=Europe/Zagreb:20220228T200000
DTEND;TZID=Europe/Zagreb:20220228T210000
DTSTAMP:20260421T234523
CREATED:20220228T103157Z
LAST-MODIFIED:20220722T115527Z
UID:1344-1646078400-1646082000@kritika-hdp.hr
SUMMARY:"O ukrajinskoj književnosti i kulturi": Josip Ivanović\, Miljenko Jergović\, Dariya Pavlešen\, Alla Tatarenko\, Seid Serdarević: Fraktura: 28.2. u 20 sati
DESCRIPTION:Na tribini O ukrajinskoj književnosti i kulturi koja će se održati u ponedjeljak 28. veljače 2022. godine u 20 sati govorit će Josip Ivanović\, Miljenko Jergović\, Dariya Pavlešen\, Alla Tatarenko i Seid Serdarević. \nTribina će se održati u Knjižari Fraktura uz provođenje i pridržavanje svih propisanih epidemioloških mjera\, a broj posjetitelja bit će ograničen na 20\, stoga vas molimo da se što prije prijavite na promocije@fraktura.hr.  \nRazgovor ćete moći pratiti uživo na YouTube-kanalu Fraktura Najbolja Literatura i na FB profilu Fraktura – najbolja literatura.
URL:https://kritika-hdp.hr/dogadjaji/o-ukrajinskoj-knjizevnosti-i-kulturi-josip-ivanovic-miljenko-jergovic-dariya-pavlesen-alla/
ATTACH;FMTTYPE=image/jpeg:https://kritika-hdp.hr/wp-content/uploads/2022/02/tribina.jpg
END:VEVENT
BEGIN:VEVENT
DTSTART;TZID=Europe/Zagreb:20211203T190000
DTEND;TZID=Europe/Zagreb:20211203T200000
DTSTAMP:20260421T234523
CREATED:20211130T190042Z
LAST-MODIFIED:20220729T030235Z
UID:1324-1638558000-1638561600@kritika-hdp.hr
SUMMARY:Ciklus tribina HDP-a "Kultura na remontu"
DESCRIPTION:Nakon prve tribine u ciklusu koja je nosila naziv ”Od čega vi zapravo živite” a koja se bavila materijalnim i egzistencijalnim  uvjetima života pisaca na malom tržištu\, institucionalnim okvirom kao i mitovima o potrebnoj muci i siromaštvu za dobru  inspiraciju\, tribina HDP-a ide dalje i ovoga puta postavlja pitanje: ”O čemu vi zapravo pišete?” Što je ono što autorice i autore pokreće\,  postoje li cjeloživotne teme\, bira li pisac temu ili tema njega/nju\, što vam ne da da se dignete od ekrana\, zbog čega  žrtvujete sate u propitivanju\, što je za vas crvena nit u priči? Je li\, u konačnici\, važno samo da pišete ili je važno samo ono o čemu pišete? \nO svemu tome razgovarat će Dorta Jagić\, Ena Katarina Haler i Drago Glamuzina\, uz voditeljicu tribine Ivanu Bodrožić.. \nTribina u organizaciji Hrvatskog društva pisaca i partnera Bookse / Kulturtregera održat će se u petak\, 03. prosinca 2021. u 19 sati\, u parku ispred Bookse (Martićeva 14d) u Zagrebu.
URL:https://kritika-hdp.hr/dogadjaji/ciklus-tribina-hdp-kultura-na-remontu/
LOCATION:Booksa\, Martićeva ul. 14D\, Zagreb\, Croatia (Local Name: Hrvatska)
ATTACH;FMTTYPE=image/png:https://kritika-hdp.hr/wp-content/uploads/2021/11/unnamed.png
END:VEVENT
BEGIN:VEVENT
DTSTART;TZID=Europe/Zagreb:20211015T180000
DTEND;TZID=Europe/Zagreb:20211115T190000
DTSTAMP:20260421T234523
CREATED:20211013T120314Z
LAST-MODIFIED:20220724T203638Z
UID:1305-1634320800-1637002800@kritika-hdp.hr
SUMMARY:Tribina Kultura na remontu - "Pisati iz tuđeg": 15. listopada
DESCRIPTION:U ciklusu tribina HDP-a Kultura na remontu u petak 15. listopada u 18 sati u Parku ispred Bookse (Martićeva 14d\, Zagreb) održat će se tribina pod naslovom Pisati iz tuđeg. U ovotjednoj tribini povest će se razgovor s kolegama piscima i prevoditeljima o tome kako i koliko dobro\, autentično\, možemo pisati o iskustvima koja nisu naša. Ako nam se postavlja granica\, imamo li u tom slučaju pravo samo na jedan književni lik\, a ako možemo pisati o svemu i iz svačije kože\, kolika je naša odgovornost. Ta tema nije nova\, ali je ponovo došla u interes javnosti kada se nedavno postavilo pitanje mogu li prevoditelji prevoditi autore koji nisu iste boje kože\, istog roda\, klasnog iskustva. \nO svemu tome razgovarat će Srđan Sandić\, Dinko Telećan i Nives Curić\, uz voditeljicu tribine Ivanu Bodrožić.. \nOrganizator: Hrvatsko društvo pisaca. Partner: Booksa / Kulturtreger \nProgram se odvija uz potporu Ministarstva kulture i medija RH i Grada Zagreba.
URL:https://kritika-hdp.hr/dogadjaji/tribina-kultura-na-remontu-pisati-iz-tudeg-15-listopada/
LOCATION:Zagreb
ATTACH;FMTTYPE=image/jpeg:https://kritika-hdp.hr/wp-content/uploads/2021/10/tribina-15.10.-foto.jpg
END:VEVENT
BEGIN:VEVENT
DTSTART;TZID=Europe/Zagreb:20210901T200000
DTEND;TZID=Europe/Zagreb:20210901T210000
DTSTAMP:20260421T234523
CREATED:20210830T122606Z
LAST-MODIFIED:20220724T204216Z
UID:1291-1630526400-1630530000@kritika-hdp.hr
SUMMARY:Tribina "Ma tko još čita": 1. rujna u Petrinji
DESCRIPTION:Višemjesečni projekt Gledam\, čitam\, pišem Hrvatskog društva pisaca počinje 1. rujna u Petrinji tribinom Ma tko još čita i prvom radionicom pisanja proze sa Zoranom Ferićem. Tribina počinje u 20 sati na Rukometnom igralištu u Petrinji i na njoj će gostovati pisci i spisateljice Zoran Ferić\, Nora Verde\, Ena Katarina Haler i Sven Popović\, dok će razgovor moderirati Maja Sever. Razgovarat će se o čitanju i zašto je ono danas možda i važnije nego prije. \nProjekt Gledam\, čitam\, pišem dovodi poznate hrvatske pisce i spisateljice na Baniju\, u Petrinju i Glinu te u područne škole. Nosivi dio projekta su radionice pisanja proze i poezije te čitanja koje će na nastradalim područjima Banije s polaznicima voditi ugledni domaći pisci i spisateljice. \nViše o samom projektu pročitajte ovdje.\nKritika h\,d\,p\, će objavljivati u narednom periodu razne sadržaje vezane uz projekt.
URL:https://kritika-hdp.hr/dogadjaji/tribina-ma-tko-jos-cita-1-rujna-u-petrinji/
LOCATION:Petrinja
ATTACH;FMTTYPE=image/jpeg:https://kritika-hdp.hr/wp-content/uploads/2021/08/tribina-petrinja_0.jpg
END:VEVENT
BEGIN:VEVENT
DTSTART;TZID=Europe/Zagreb:20210318T200000
DTEND;TZID=Europe/Zagreb:20210318T210000
DTSTAMP:20260421T234523
CREATED:20210316T052427Z
LAST-MODIFIED:20220725T075735Z
UID:1266-1616097600-1616101200@kritika-hdp.hr
SUMMARY:Pisci na Baniji; Glina\, 18.3.2021. u 18h
DESCRIPTION:Knjižnica i čitaonica Glina i Hrvatsko društvo pisaca organiziraju književnu tribinu u okviru programa “Pisci na Baniji”\, u četvrtak\, 18. ožujka 2021. u 18 sati\, u glinskoj Knjižnici (Ulica S. i A. Radića 10). \nNastupaju pisci Bogdan Arnautović\, Nikola Petković i Nenad Stipanić\, a razgovor moderira knjižničarka Lidija Klobučar.
URL:https://kritika-hdp.hr/dogadjaji/pisci-na-baniji-glina-1832021-u-18h/
END:VEVENT
END:VCALENDAR