BEGIN:VCALENDAR
VERSION:2.0
PRODID:-//Kritika HDP - ECPv6.15.20//NONSGML v1.0//EN
CALSCALE:GREGORIAN
METHOD:PUBLISH
X-WR-CALNAME:Kritika HDP
X-ORIGINAL-URL:https://kritika-hdp.hr
X-WR-CALDESC:Događaji za Kritika HDP
REFRESH-INTERVAL;VALUE=DURATION:PT1H
X-Robots-Tag:noindex
X-PUBLISHED-TTL:PT1H
BEGIN:VTIMEZONE
TZID:Europe/Zagreb
BEGIN:DAYLIGHT
TZOFFSETFROM:+0100
TZOFFSETTO:+0200
TZNAME:CEST
DTSTART:20200329T010000
END:DAYLIGHT
BEGIN:STANDARD
TZOFFSETFROM:+0200
TZOFFSETTO:+0100
TZNAME:CET
DTSTART:20201025T010000
END:STANDARD
BEGIN:DAYLIGHT
TZOFFSETFROM:+0100
TZOFFSETTO:+0200
TZNAME:CEST
DTSTART:20210328T010000
END:DAYLIGHT
BEGIN:STANDARD
TZOFFSETFROM:+0200
TZOFFSETTO:+0100
TZNAME:CET
DTSTART:20211031T010000
END:STANDARD
BEGIN:DAYLIGHT
TZOFFSETFROM:+0100
TZOFFSETTO:+0200
TZNAME:CEST
DTSTART:20220327T010000
END:DAYLIGHT
BEGIN:STANDARD
TZOFFSETFROM:+0200
TZOFFSETTO:+0100
TZNAME:CET
DTSTART:20221030T010000
END:STANDARD
BEGIN:DAYLIGHT
TZOFFSETFROM:+0100
TZOFFSETTO:+0200
TZNAME:CEST
DTSTART:20230326T010000
END:DAYLIGHT
BEGIN:STANDARD
TZOFFSETFROM:+0200
TZOFFSETTO:+0100
TZNAME:CET
DTSTART:20231029T010000
END:STANDARD
BEGIN:DAYLIGHT
TZOFFSETFROM:+0100
TZOFFSETTO:+0200
TZNAME:CEST
DTSTART:20240331T010000
END:DAYLIGHT
BEGIN:STANDARD
TZOFFSETFROM:+0200
TZOFFSETTO:+0100
TZNAME:CET
DTSTART:20241027T010000
END:STANDARD
BEGIN:DAYLIGHT
TZOFFSETFROM:+0100
TZOFFSETTO:+0200
TZNAME:CEST
DTSTART:20250330T010000
END:DAYLIGHT
BEGIN:STANDARD
TZOFFSETFROM:+0200
TZOFFSETTO:+0100
TZNAME:CET
DTSTART:20251026T010000
END:STANDARD
END:VTIMEZONE
BEGIN:VEVENT
DTSTART;TZID=Europe/Zagreb:20240219T090000
DTEND;TZID=Europe/Zagreb:20240229T180000
DTSTAMP:20260419T192711
CREATED:20240225T223258Z
LAST-MODIFIED:20240225T223337Z
UID:11085-1708333200-1709229600@kritika-hdp.hr
SUMMARY:Tportalov natječaj za najbolji hrvatski roman
DESCRIPTION:Otvorene su prijave za sedamnaesti natječaj Tportala za najbolji hrvatski roman! Detaljnije informacije i propozicije natječaja možete naći na poveznici: Tportal. \nO dobitniku književne nagrade tportala odlučuje peteročlani žiri koji čine kroatistica Andrea Milanko\, redateljica Anica Tomić\, pisac Robert Perišić\, psiholog i kolumnist tportala Boris Jokić te prevoditeljica i pjesnikinja Vanda Mikšić\, ujedno predsjednica žirija. \nŽiri će najprije odabrati 11 polufinalnih\, zatim pet finalnih naslova\, a ovogodišnja dobitnica ili dobitnik bit će poznati u lipnju. \nU konkurenciju za književnu nagradu tportala ulaze romani na hrvatskom jeziku\, izdani pri hrvatskom izdavaču u prošloj kalendarskoj godini (u razdoblju od 1. siječnja 2023. do 31. prosinca 2023.)\, a mogu ih prijaviti izdavači ili autori u razdoblju od 19. veljače 2024. do 29. veljače 2024. \nFormular za prijavu možete naći na poveznici: Formular.
URL:https://kritika-hdp.hr/dogadjaji/tportalov-natjecaj-za-najbolji-hrvatski-roman/
ATTACH;FMTTYPE=image/jpeg:https://kritika-hdp.hr/wp-content/uploads/2024/02/books.jpg
END:VEVENT
BEGIN:VEVENT
DTSTART;VALUE=DATE:20230210
DTEND;VALUE=DATE:20230227
DTSTAMP:20260419T192711
CREATED:20230205T170113Z
LAST-MODIFIED:20230205T170200Z
UID:7894-1675990800-1677373199@kritika-hdp.hr
SUMMARY:16. Natječaj tportala za najbolji hrvatski roman
DESCRIPTION:Žiri će najprije odabrati 11 polufinalnih\, zatim pet finalnih naslova\, a ovogodišnja dobitnica ili dobitnik bit će poznati u lipnju. \nU konkurenciju za književnu nagradu tportala ulaze romani na hrvatskom jeziku\, izdani pri hrvatskom izdavaču u prošloj kalendarskoj godini (u razdoblju od 1. siječnja 2022. do 31. prosinca 2022.)\, a mogu ih prijaviti izdavači ili autori u razdoblju od 10.2.2023. do 25.2.2023. \n\nO dobitniku 50 tisuća kuna vrijedne književne nagrade tportala odlučuje peteročlani žiri koji čine kroatistica Andrea Milanko\, redateljica Anica Tomić\, pisac Robert Perišić\, psiholog i kolumnist tportala Boris Jokić te prevoditeljica i pjesnikinja Vanda Mikšić\, ujedno predsjednica žirija.\n\nDetalji o uvjetima natječaja i izboru dostupni su u Pravilniku natječaja\, a sve o tijeku natječaja pratite na tportalu. Ponovno ove godine\, Književna nagrada tportala donosi sa sobom i dodanu vrijednost u obliku audio izdanja pobjedničkog romana na platformi Book&Zvook. \nOd 2008. godine tportalova književna nagrada za najbolji hrvatski roman dodijeljena je petnaest puta\, a s godinama je postala relevantnom činjenicom domaće kulturne scene. Jedina je domaća književna nagrada koja se dodjeljuje za roman pisan na hrvatskom jeziku izdan kod nakladnika registriranog u Hrvatskoj te joj je\, uz promociju autora i književnog stvaralaštva\, cilj promocija izdavaštva. \nLani je najboljim proglašen roman “Zemlja bez sutona” spisateljice Marije Andrijašević u izdanju Frakture. \nGodinu ranije nagrađen je Želimir Periš za roman ‘Mladenka Kostonoga’. Damir Karakaš za roman ‘Proslava’ u izdanju OceanMora bio je nagrađen 2020. godine\, dok je 2019. dobitnik književne nagrade tportala bio Nikola Petković za roman ‘Put u Gonars’ u izdanju Profila. 2018. godine godine\, nagrađena je Dubravka Ugrešić za roman ‘Lisica’ u izdanju Frakture. Prije nje\, 2017.\, pobijedio je Kristian Novak s romanom ‘Ciganin\, ali najljepši’ (OceanMore). To mu je bio drugi put da je osvojio tportalovu književnu nagradu. Ranije je nagrađen za roman ‘Črna mati zemla’ (Algoritam\, novo izdanje OceanMore). \nPrethodnih godina nagradu su dobile i autorice Olja Savičević Ivančević za roman ‘Adio kauboju’ (Algoritam\, novo izdanje Sandorf) i Sibila Petlevski za ‘Vrijeme laži’ (Fraktura) te autori Dalibor Šimpraga za roman ‘Anastasia’ (Durieux)\, Tahir Mujičić za roman ‘Budi Hamlet\, pane Hamlete’ (AGM)\, Drago Glamuzina za roman ‘Tri’ (Profil)\, Zoran Malkoč za roman ‘Roki Raketa’ (Profil)\, Ivica Đikić za roman ‘Sanjao sam slonove’ (Naklada Ljevak) te Slobodan Šnajder za ‘Doba mjedi’ (Tim Press).
URL:https://kritika-hdp.hr/dogadjaji/16-natjecaj-tportala-za-najbolji-hrvatski-roman/
ATTACH;FMTTYPE=image/jpeg:https://kritika-hdp.hr/wp-content/uploads/2023/02/1912424.jpeg
END:VEVENT
BEGIN:VEVENT
DTSTART;VALUE=DATE:20210207
DTEND;VALUE=DATE:20210221
DTSTAMP:20260419T192711
CREATED:20210207T142834Z
LAST-MODIFIED:20220725T080221Z
UID:1255-1612656000-1613865599@kritika-hdp.hr
SUMMARY:Tportalov natječaj za najbolji hrvatski roman; rok za prijavu: 20.2.2021.
DESCRIPTION:O dobitniku 50 tisuća kuna vrijedne književne nagrade tportala odlučuje peteročlani žiri koji čine prevoditeljica i pjesnikinja Vanda Mikšić\, redateljica Anica Tomić\, pisac Robert Perišić\, psiholog i kolumnist tportala Boris Jokićte kroatistica i predsjednica žirija Andrea Milanko. \nŽiri će najprije odabrati 11 polufinalnih\, zatim pet finalnih naslova\, a ovogodišnja dobitnica ili dobitnik bit će poznati u lipnju. \nU konkurenciju za književnu nagradu tportala ulaze hrvatski romani izdani u prošloj kalendarskoj godini (u razdoblju od 1. siječnja 2020. do 31. prosinca 2020.)\, a mogu ih prijaviti izdavači ili autori od 1. do 20. veljače 2021.\nDetalji o uvjetima natječaja i izboru dostupni su u Pravilniku natječaja. Sve o tijeku natječaja pratite na tportalu\, kao i na stranici kultura.tportal.hr na Facebooku. \nOd 2008. godine tportalova književna nagrada za najbolji hrvatski roman dodijeljena je trinaest puta\, a s godinama je postala relevantnom činjenicom domaće kulturne scene. Jedina je domaća književna nagrada koja se dodjeljuje za roman pisan na hrvatskom jeziku izdan kod nakladnika registriranog u Hrvatskoj te joj je\, uz promociju autora i književnog stvaralaštva\, cilj promocija izdavaštva. \nCijeli tekst čitajte na tportalu.
URL:https://kritika-hdp.hr/dogadjaji/tportalov-natjecaj-za-najbolji-hrvatski-roman-rok-za-prijavu-2022021/
ATTACH;FMTTYPE=image/jpeg:https://kritika-hdp.hr/wp-content/uploads/2021/02/1398153.jpeg
END:VEVENT
END:VCALENDAR