BEGIN:VCALENDAR
VERSION:2.0
PRODID:-//Kritika HDP - ECPv6.15.20//NONSGML v1.0//EN
CALSCALE:GREGORIAN
METHOD:PUBLISH
X-WR-CALNAME:Kritika HDP
X-ORIGINAL-URL:https://kritika-hdp.hr
X-WR-CALDESC:Događaji za Kritika HDP
REFRESH-INTERVAL;VALUE=DURATION:PT1H
X-Robots-Tag:noindex
X-PUBLISHED-TTL:PT1H
BEGIN:VTIMEZONE
TZID:Europe/Zagreb
BEGIN:DAYLIGHT
TZOFFSETFROM:+0100
TZOFFSETTO:+0200
TZNAME:CEST
DTSTART:20220327T010000
END:DAYLIGHT
BEGIN:STANDARD
TZOFFSETFROM:+0200
TZOFFSETTO:+0100
TZNAME:CET
DTSTART:20221030T010000
END:STANDARD
BEGIN:DAYLIGHT
TZOFFSETFROM:+0100
TZOFFSETTO:+0200
TZNAME:CEST
DTSTART:20230326T010000
END:DAYLIGHT
BEGIN:STANDARD
TZOFFSETFROM:+0200
TZOFFSETTO:+0100
TZNAME:CET
DTSTART:20231029T010000
END:STANDARD
BEGIN:DAYLIGHT
TZOFFSETFROM:+0100
TZOFFSETTO:+0200
TZNAME:CEST
DTSTART:20240331T010000
END:DAYLIGHT
BEGIN:STANDARD
TZOFFSETFROM:+0200
TZOFFSETTO:+0100
TZNAME:CET
DTSTART:20241027T010000
END:STANDARD
END:VTIMEZONE
BEGIN:VEVENT
DTSTART;VALUE=DATE:20230601
DTEND;VALUE=DATE:20230603
DTSTAMP:20260422T065205
CREATED:20230408T125345Z
LAST-MODIFIED:20230408T125446Z
UID:8446-1685584800-1685671199@kritika-hdp.hr
SUMMARY:Scenaristički program Zora Dirnbach 2023.
DESCRIPTION:Prenosimo poziv strukovne udruge SPID (Saveza scenarista i pisaca izvedbenih djela) na prijave za treće izdanje razvojnog programa za scenarije dugometražnih igranih filmova: \nIako se filmski radovi često bave društvenim temama\, programi razvoja filmskih scenarija uglavnom su fokusirani na razvoj njihovih formalnih aspekata. Za razliku od navedenih scenarističkih programa\, ovaj je program usmjeren na bavljenje sadržajnim elementima scenarija. Imenujući platformu po Zori Dirnbach\, doajenki domaće scenaristike koja je\, osim toga\, radila i kao urednica i novinarka\, te čiji je rad bio prožet snažnim antifašističkim duhom\, ovim programom lokalnoj scenarističkoj sceni želimo omogućiti edukaciju u polju ljudskih i radničkih prava\, ženskih\, LGBTIQ i prava drugih manjina\, politika identiteta\, feminizma\, politika obrazovanja\, socioekonomske nejednakosti i klimatske pravde. \nCilj je da odabrani autori i autorice dobiju mogućnost da svoje scenarije\, koji se dotiču nekih od navedenih tema\, razvijaju u suradnji s istaknutim humanističkim znanstvenicama\, aktivistkinjama i istraživačicama koje su angažirane kao mentorice u sklopu programa\, a to su Dora Levačić\, Petra Šarin\, Emina Bužinkić\, Maša Grdešić\, Vesna Vuković\, Karla Lončar\, Barbara Matejčić\, Marija Brajdić Vuković\, Marija (Maruška) Mileta te Iva Marčetić. \nTko se može prijaviti?\nPoziv je otvoren za sve članice i članove strukovnih udruga u polju scenaristike kao i studentice i studente dramaturgije i filmske režije umjetničkih akademija! \nKako se prijaviti?\nZa prijavu je potrebno ispuniti formular dostupan na web stranici projekta\, poslati scenoslijed\, treatment ili scenarij\, pismo motivacije za sudjelovanje u programu\, uz obrazloženje odabira mentorice te plan istraživanja. Rok za prijavu je 1. lipnja 2023. \nKako će izgledati selekcija?\nSelekcijski žiri ovogodišnjeg programa sastavljen je od autorica koje su bile angažirane kao mentorice na prethodna dva izdanja programa. Maša Grdešić\, Barbara Matejčić i Marija Brajdić Vuković na temelju kvalitete scenarističkog predloška te kvalitete pisma motivacije\, odabire dva autora odnosno autorice koji će sudjelovati u programu. Posebna će pažnja biti posvećena relevantnosti teme za suvremeni društveni kontekst\, artikulaciji kritičnosti prema određenim društvenim aspektima\, inovativnosti pristupa temi kao i sposobnosti kvalitetne artikulacije motivacije. \nKako izgleda program?\nZa sudjelovanje u programu bit će odabrana dva autora odnosno autorice koji će tijekom pet mjeseci trajanja programa – od 15.6.2023. do 15.11.2023. – imati obvezu minimalno pet radnih susreta sa mentoricom po vlastitom izboru. Sudjelovanje u programu honorirano je stipendijom u ukupnom iznosu od minimalno tisuću i sto eura bruto. Po završetku programa\, odabrani autori i/ili autorice predat će novu verziju scenoslijeda\, treatmenta ili scenarija te izvještaj o radu u sklopu programa. \nZa sva pitanja posjetite web stranicu projekta zoradirnbach.spid.com.hr ili se obratite na adresu zoradirnbach@spid.com.hr.
URL:https://kritika-hdp.hr/dogadjaji/scenaristicki-program-zora-dirnbach-2023/
ATTACH;FMTTYPE=image/jpeg:https://kritika-hdp.hr/wp-content/uploads/2023/04/Scenaristicki-program-Zora-Dirnbach.jpg
END:VEVENT
END:VCALENDAR