BEGIN:VCALENDAR
VERSION:2.0
PRODID:-//Kritika HDP - ECPv6.15.20//NONSGML v1.0//EN
CALSCALE:GREGORIAN
METHOD:PUBLISH
X-WR-CALNAME:Kritika HDP
X-ORIGINAL-URL:https://kritika-hdp.hr
X-WR-CALDESC:Događaji za Kritika HDP
REFRESH-INTERVAL;VALUE=DURATION:PT1H
X-Robots-Tag:noindex
X-PUBLISHED-TTL:PT1H
BEGIN:VTIMEZONE
TZID:Europe/Zagreb
BEGIN:DAYLIGHT
TZOFFSETFROM:+0100
TZOFFSETTO:+0200
TZNAME:CEST
DTSTART:20220327T010000
END:DAYLIGHT
BEGIN:STANDARD
TZOFFSETFROM:+0200
TZOFFSETTO:+0100
TZNAME:CET
DTSTART:20221030T010000
END:STANDARD
BEGIN:DAYLIGHT
TZOFFSETFROM:+0100
TZOFFSETTO:+0200
TZNAME:CEST
DTSTART:20230326T010000
END:DAYLIGHT
BEGIN:STANDARD
TZOFFSETFROM:+0200
TZOFFSETTO:+0100
TZNAME:CET
DTSTART:20231029T010000
END:STANDARD
BEGIN:DAYLIGHT
TZOFFSETFROM:+0100
TZOFFSETTO:+0200
TZNAME:CEST
DTSTART:20240331T010000
END:DAYLIGHT
BEGIN:STANDARD
TZOFFSETFROM:+0200
TZOFFSETTO:+0100
TZNAME:CET
DTSTART:20241027T010000
END:STANDARD
END:VTIMEZONE
BEGIN:VEVENT
DTSTART;VALUE=DATE:20230701
DTEND;VALUE=DATE:20231001
DTSTAMP:20260423T103906
CREATED:20230831T200535Z
LAST-MODIFIED:20230802T201532Z
UID:9406-1688169600-1696118399@kritika-hdp.hr
SUMMARY:Natječaj za kratku priču - satiru 2023
DESCRIPTION:Gradska Knjižnica Slavka Kolara Čazma i Organizacijski odbor manifestacije Slavko Kolar – književni dani raspisuje\nNatječaj za kratku priču – satiru. Na natječaju mogu sudjelovati autorice i autori iz Republike Hrvatske i inozemstva koji pišu hrvatskim jezikom\, svaki sa samo jednim radom\, a tema kratke priče – satire je slobodna. \nKratka priča – satira ne smije biti objavljena\, a može imati najviše 300 redaka (18.000 znakova\, s prazninama). \nNa ovogodišnji natječaj može se prijaviti na dva načina: \n\nu pisanom obliku stoga kratke priče – satire treba slati u pisanom obliku\, sve označeno šifrom\, na adresu: Gradska Knjižnica Slavka Kolara Čazma\, Ulica Alojza Vulinca 3\, 43240 Čazma\, s naznakom „Natječaj za kratku priču – satiru”\, a ostale podatke: puno ime autorice ili autora\, adresu\, telefon\, rješenje šifre treba priložiti u zasebnoj\, zatvorenoj koverti\,\nu elektroničkom obliku\nna  e-mail: slavkokolar.price2023@gmail.com\n\nPrijavljena priča označena šifrom\, te rješenje šifre i osobne podatke autora. \nNepotpune prijave i priče koje nisu satiričnog karaktera te ne udovoljavaju ostalim propozicijama Natječaja neće se uzimati u obzir. \nKratke priče – satire će ocijeniti žiri sastavljen od književnika i/ili književnih kritičara\, koji će imenovati Organizacijski odbor\, te dodijeliti prvu\, drugu i treću nagradu\, koja se sastoji od plakete i novčanog iznosa: \n\nprva nagrada u iznosu od 500\,00 eura neto\ndruga nagrada u iznosu od 300\,00 eura neto\ntreća nagrada u iznosu od 200\,00 eura neto\n\nOsim toga\, žiri će načiniti izbor od 10 najuspjelijih priča koje će biti objavljene u elektroničkom obliku na mrežnim stranicama stranici Gradske Knjižnice Slavka Kolara 15. studenoga 2023. \nDodjela nagrada i javno čitanje nagrađenih priča – satira bit će organizirano u okviru manifestacije „Slavko Kolar – književni dani”  02. prosinca 2023. u Čazmi. \nNatječaj traje od 01. srpnja do 30. rujna 2023.
URL:https://kritika-hdp.hr/dogadjaji/natjecaj-za-kratku-pricu-satiru-2023/
ATTACH;FMTTYPE=image/jpeg:https://kritika-hdp.hr/wp-content/uploads/2023/08/DAK_1930-najava-2021.jpg
END:VEVENT
END:VCALENDAR