BEGIN:VCALENDAR
VERSION:2.0
PRODID:-//Kritika HDP - ECPv6.15.20//NONSGML v1.0//EN
CALSCALE:GREGORIAN
METHOD:PUBLISH
X-WR-CALNAME:Kritika HDP
X-ORIGINAL-URL:https://kritika-hdp.hr
X-WR-CALDESC:Događaji za Kritika HDP
REFRESH-INTERVAL;VALUE=DURATION:PT1H
X-Robots-Tag:noindex
X-PUBLISHED-TTL:PT1H
BEGIN:VTIMEZONE
TZID:Europe/Zagreb
BEGIN:DAYLIGHT
TZOFFSETFROM:+0100
TZOFFSETTO:+0200
TZNAME:CEST
DTSTART:20200329T010000
END:DAYLIGHT
BEGIN:STANDARD
TZOFFSETFROM:+0200
TZOFFSETTO:+0100
TZNAME:CET
DTSTART:20201025T010000
END:STANDARD
BEGIN:DAYLIGHT
TZOFFSETFROM:+0100
TZOFFSETTO:+0200
TZNAME:CEST
DTSTART:20210328T010000
END:DAYLIGHT
BEGIN:STANDARD
TZOFFSETFROM:+0200
TZOFFSETTO:+0100
TZNAME:CET
DTSTART:20211031T010000
END:STANDARD
BEGIN:DAYLIGHT
TZOFFSETFROM:+0100
TZOFFSETTO:+0200
TZNAME:CEST
DTSTART:20220327T010000
END:DAYLIGHT
BEGIN:STANDARD
TZOFFSETFROM:+0200
TZOFFSETTO:+0100
TZNAME:CET
DTSTART:20221030T010000
END:STANDARD
BEGIN:DAYLIGHT
TZOFFSETFROM:+0100
TZOFFSETTO:+0200
TZNAME:CEST
DTSTART:20230326T010000
END:DAYLIGHT
BEGIN:STANDARD
TZOFFSETFROM:+0200
TZOFFSETTO:+0100
TZNAME:CET
DTSTART:20231029T010000
END:STANDARD
BEGIN:DAYLIGHT
TZOFFSETFROM:+0100
TZOFFSETTO:+0200
TZNAME:CEST
DTSTART:20240331T010000
END:DAYLIGHT
BEGIN:STANDARD
TZOFFSETFROM:+0200
TZOFFSETTO:+0100
TZNAME:CET
DTSTART:20241027T010000
END:STANDARD
BEGIN:DAYLIGHT
TZOFFSETFROM:+0100
TZOFFSETTO:+0200
TZNAME:CEST
DTSTART:20250330T010000
END:DAYLIGHT
BEGIN:STANDARD
TZOFFSETFROM:+0200
TZOFFSETTO:+0100
TZNAME:CET
DTSTART:20251026T010000
END:STANDARD
BEGIN:DAYLIGHT
TZOFFSETFROM:+0100
TZOFFSETTO:+0200
TZNAME:CEST
DTSTART:20260329T010000
END:DAYLIGHT
BEGIN:STANDARD
TZOFFSETFROM:+0200
TZOFFSETTO:+0100
TZNAME:CET
DTSTART:20261025T010000
END:STANDARD
END:VTIMEZONE
BEGIN:VEVENT
DTSTART;VALUE=DATE:20251128
DTEND;VALUE=DATE:20251208
DTSTAMP:20260420T050437
CREATED:20251103T093903Z
LAST-MODIFIED:20251103T094406Z
UID:17971-1764288000-1765151999@kritika-hdp.hr
SUMMARY:31. Sa(n)jam knjige u Istri
DESCRIPTION:  \nOd 28. studenog do 7. prosinca 2025. u Domu hrvatskih branitelja u Puli održava se Sajam knjige u Istri. U nastavku donosimo program događanja – detalje potražite na službenoj stranici Sajma \nPetak\, 28.11.\n12:00 – Otvorenje Sajma\n17:00 – Nemiri: Miroslav Krleža\n18:00 – Debitanti/ce trče prvi krug – Gabrijela Rukelj Kraškovič\n19:00 – Boris Dežulović: Tko je taj čovjek?\n21:00 (Sveta Srca) – Izložba: Sajam na oko (1995.–2025.) \nSubota\, 29.11.\n11:00 – Doručak s autorom: Mauricio Ferlin\n12:30 – Okrugli stol: 80 godina pobjede nad fašizmom\n18:00 – Histrokozmos: Puna je Pula\n19:00 – Suton uz knjigu – Hiroko Oyamada\n21:00 (INK) – Premijera filma Snovi od papira \nNedjelja\, 30.11.\n11:00 – Doručak s autorom: Hiroko Oyamada\n12:30 – Nemiri današnjice\n18:00 – Tamta Melashvili: Kos kos kupina\n20:00 – Burhan Sönmez: Kamen i sjena \nPonedjeljak\, 1.12.\n11:00 – Doručak s autorom: Burhan Sönmez\n12:30 – Histrokozmos: Sakramenske\n18:00 – Ljiljana Filipović: Život kakav nije\, jest\n20:00 – Damir Karakaš: Sunčanik \nUtorak\, 2.12.\n11:00 – Doručak s autorom: Andrej Blatnik\n17:00 – Aleksandar Stanković: F32\n18:00 – Nataša Govedić i Gloria Lujanović\n19:00 – Claudia Durastanti: Missitalia \nSrijeda\, 3.12.\n11:00 – Doručak s autorom: Nataša Govedić\n18:00 – Dinko Telećan i Nives Opačić: Pisac kao putnik\n19:00 – Kruno Lokotar: Limited Edition\n20:00 – Božo Kovačević: Ruske teme \nČetvrtak\, 4.12.\n11:00 – Doručak s autorom: Božo Kovačević\n12:30 (Galerija Cvajner) – Histrokozmos: Kap u kamenu\n18:00 – Goran Filipi: Betinska brodogradnja\n19:00 – Narine Abgaryan: Simon\n20:00 – Dacia Maraini: Dragi Pier Paolo \nPetak\, 5.12.\n11:00 – Doručak s autorom: Dacia Maraini\n12:30 – Histrokozmos: Stari Šibenik\n18:00 – Goran Vojnović: Skupljač strahova\n19:00 – Antoni Libera: Madame\n20:00 – Sergio Segio: Miccia corta \nSubota\, 6.12.\n11:00 – Doručak s autorom: Sergio Segio\n17:00 – Histrokozmos: Vita\, vita – 20 godina leksikografije u Istri\n18:00 – Dragan Markovina: Programirani zaborav\n19:00 – Ivana Šojat: Sanjao sam snijeg\n20:00 – Dejan Aćimović & Ratko Rudić: Dogodio se \nNedjelja\, 7.12.\n11:00 – Doručak s autorom: Robert Matijašić\n12:00 – Čitateljska nagrada „Dr. Ivo Borovečki“\n12:30 – Noel Šuran: Naš kanat (ni)je lip\n18:00 (Kino Valli) – Film „Dogodio se – Ratko Rudić“
URL:https://kritika-hdp.hr/dogadjaji/31-sanjam-knjige-u-istri/
ATTACH;FMTTYPE=image/jpeg:https://kritika-hdp.hr/wp-content/uploads/2025/11/generic-header.jpg
END:VEVENT
BEGIN:VEVENT
DTSTART;VALUE=DATE:20241129
DTEND;VALUE=DATE:20241209
DTSTAMP:20260420T050437
CREATED:20241124T194823Z
LAST-MODIFIED:20241124T194942Z
UID:13453-1732838400-1733702399@kritika-hdp.hr
SUMMARY:30. Sa(n)jam knjige u Istri u znaku brojke 100
DESCRIPTION:Bliži se trideseto izdanje festivala Sa(n)jam knjige u Istri! \nIdentitetska tema Mikrokozmos u središtu je obljetničkog 30. Sa(n)jam knjige u Istri – Pulskog festivala knjiga i autora\, koji će se slaviti u cijelom gradu\, a središnja pozornica i ove je godine pulski Dom hrvatskih branitelja\, koji će od 29. studenog do 8. prosinca\,  živjeti kao hram knjige i palača autora. Bogat program 30. Sa(n)jam knjige u Istri obilježen je brojkom 100: bit će održano više od 100 programa\, a u Pulu stiže više od 100 eminentnih autora iz cijelog svijeta\, najavila je Magdalena Vodopija\, direktorica Sa(n)jam knjige u Istri\, na konferenciji za novinare\, u srijedu 23. listopada u Kavani Mozart Doma hrvatskih branitelja. Naglasak je bio i na programima nastalim u partnerstvu s pulskim institucijama u kulturi\, koje su predstavili Gorka Ostojić Cvajner\, povjesničarka umjetnosti i vlasnica Galerije Cvajner\, Tanja Miličić\, direktorica Javne ustanove Pula Film Festival\, Eros Čakić\, savjetnik za likovnu i galerijsku djelatnost Grada Pule i Darko Komšo\, ravnatelj Arheološkog muzeja Istre.
URL:https://kritika-hdp.hr/dogadjaji/30-sanjam-knjige-u-istri-u-znaku-brojke-100/
ATTACH;FMTTYPE=image/jpeg:https://kritika-hdp.hr/wp-content/uploads/2024/11/30_sanjam_knjige_plakat_-_horizontal.jpg__1920x1080_q100_crop_subsampling-2_upscale.jpg
END:VEVENT
BEGIN:VEVENT
DTSTART;TZID=Europe/Zagreb:20231129T090000
DTEND;TZID=Europe/Zagreb:20231204T000000
DTSTAMP:20260420T050437
CREATED:20231020T064815Z
LAST-MODIFIED:20231020T064913Z
UID:10043-1701248400-1701648000@kritika-hdp.hr
SUMMARY:29. Sa(n)jam knjige u Istri
DESCRIPTION:Ovogodišnji\, dvadeset i deveti Sajam knjiga i autora – Sa(n)jam knjige u Istri\, bit će svečano otvoren u petak\, 24. studenog\, i trajat će sve do nedjelje\, 3. prosinca. Kao i ranijih godina\, naravno ne računajući pandemijske\, jedini ovakav književni događaj u Jugoistočnoj Europi će – u prostoru arhitektonski impozantnog i povijesno vrijednog Doma hrvatskih branitelja – činiti oko stotinu različitih programa namijenjenih publici svih uzrasta\, a Sajam će nastaviti održavati i programske formate koji nisu nužno književni\, ali jesu\, poput izložaba\, performansa i koncerata\, postali njegov neizostavni dio. \nCentralna tema Sajma knjiga i autora – Sa(n)jam knjige u Istri nosi naslov „Život u oblacima“ i posvećena je stripu o kojem će govoriti eminentni inozemni i domaći autori i autorice. Uobičajeno\, i ove će godine na Sajmu biti izloženi deseci tisuća naslova ponuđenih publici po posebno povoljnim cijenama. \nPopis sudionika i sudionica\, kao i detaljan sajamski program\, bit će objavljeni na službenoj web-stranici i društvenim mrežama Sajma knjiga i autora – Sa(n)jam knjige u Istri.
URL:https://kritika-hdp.hr/dogadjaji/29-sanjam-knjige-u-istri/
ATTACH;FMTTYPE=image/jpeg:https://kritika-hdp.hr/wp-content/uploads/2023/10/karusel_01b.jpg__1920x1080_q100_crop_subsampling-2_upscale.jpg
END:VEVENT
BEGIN:VEVENT
DTSTART;VALUE=DATE:20221125
DTEND;VALUE=DATE:20221205
DTSTAMP:20260420T050437
CREATED:20221013T133151Z
LAST-MODIFIED:20221013T133151Z
UID:6700-1669334400-1670198399@kritika-hdp.hr
SUMMARY:28. Sa(n)jam knjige u Istri
DESCRIPTION:jaO temi i programu pročitajte što kažu iz same organizacije: \nvogodišnji\, 28. Sa(n)jam knjige u Istri održat će se od 25. studenog do 4. prosinca\, i nakon dvije godine prinuđenih alternativnih „lutanja“ vratiti se u Dom hrvatskih branitelja. Secesijski saloni i kavana Mozart austrougarske palače Marine-Casino ponovno će postati pozornicom literarnog svijeta najdugovječnijeg sajma knjiga i autora u Hrvatskoj\, gdje će ovoga puta u fokusu biti tema Povratak. \nSasvim simbolički\, i Sajam tako bilježi povratak mjestu i terminu svog održavanja kao odrednicama vlastite prepoznatljivosti i identiteta. A povratak\, koji u svom značenjskom smislu nadilazi puku definiciju vraćanja onome što je bilo prekinuto\, kao velika i jako važna tema na 28. Sajam ulazi obimnim desetodnevnim festivalskim programom – od Doručka s autorom preko okruglih stolova do večernjih premijera i izložbi – u kojem će gostovati više od sto uvaženih domaćih i stranih književnih stvaraoca\, teoretičara i umjetnika. \nZahtjevnosti teme možda će najbolje odgovoriti slavni mađarski pisac i scenarist\, dobitnik Bookera\, László Krasznahorkai u čijim djelima prevladavaju motivi odlazaka i vraćanja. U Puli će premijerno predstaviti hrvatski prijevod svog romana Povratak baruna Wenckheima u izdanju naklade OceanMore i održati čitateljski performans Uvijek za Homerom uz cijenjenog mađarskog jazz-bubnjara Silvestra Miklósa. Ovom prigodom\, kao ilustrator Krasznohorkaijevih knjiga\, na Sajam dolazi i doajen njemačke umjetničke scene nagrađivan utjecajnim slikarskim nagradama\, Max Neumann. U Puli će biti postavljena njegova izložba Uvijek za Homerom s crtežima iz istoimene knjige mađarskog autora koju je pisao u povodu posjeta Dalmaciji\, a objavila MaMa. Izložba će biti dijelom programa Noć galerija\, a tada će pulske galerije u starogradskoj jezgri oživjeti i radovima finskog majstora umjetničke fotografije Tima Viljakainena\, strip-tablama jednog od najznačajnijih suvremenih talijanskih stripaša Davidea Toffola te fotografijama slovenskog umjetnika Mateja Povšea. \nU Puli brojne nagrađivane spisateljice \nUz Mađarsku je vezana i Katalin Ladik\, avangardna pjesnikinja\, glumica i performerica provokativnog umjetničkog djelovanja koja će nastupati sa svojim izabranim pjesmama u zbirci Raspjevane žeravice. Zapadnoafričku književnost približit će nam književnica Kasimma koja se prvi put pojavljuje u hrvatskoj prijevodnoj literaturi\, i to zbirkom kratkih priča Portret za dar-mar. Na popisu inozemnih autorica pulskoga sajma nalazi se i bugarska spisateljica sa škotskom adresom Kapka Kassabova\, i to s knjigom Granica: putovanje na rub Europe – kojom putopisno donosi povratak u svoju domovinu i njezine balkanske granice. Suvremena finska spisateljica Sofi Oksanen predstavit će se međunarodnim bestselerom Pseći park vezanim uz postsovjetsku Ukrajinu. Potonje dvije autorice dijelom su dugogodišnjeg sajamskog programa Slavenski đardin koji nastaje u suradnji s Forumom slavenskih kultura\, dok će Austrijski kulturni forum predstaviti ovogodišnju laureatkinju Nagrade Albert Goldstein\, austrijsku književnicu Evu Menasse i njezin roman Dunkelblum. \nU godini obilježavanja 100. obljetnice rođenja Piera Paola Pasolinija Sajam će u suradnji s Talijanskim institutom za kulturu u Zagrebu i Zajednicom Talijana Pula iznjedriti i novi program pod nazivom Storie italiane posvećen upravo velikom talijanskom redatelju i književniku. \nPremijere s domaće i regionalne scene \nPouzdano je da će se stolica više tražiti na promociji knjiga feralovaca – Viktora Ivančića i Borisa Dežulovića\, pogotovo kada će u sklopu formata Autor čita autora zajedno nastupati na sajamskoj pozornici. Publika će s nestrpljenjem dočekati i Puli dragog pisca Gorana Vojnovića\, kao i Dragana Velikića. Prvi put na Sajam stiže riječki pisac Zoran Žmirić\, osječka spisateljica Ivana Šojat\, bosanskohercegovački pisci Semezdin Mehmedinović i Selvedin Avdić\, slovenski književnik Andrej Blatnik i slovenski publicist Martin Pogačar. Filmska Pula zrcalit će se na promocijama knjiga kultnih redatelja: Srđana Karanovića i Slobodana Šijana\, ali i Nedeljka Dragića iz zlatnog doba Zagrebačke škole crtanog filma. Na sajmu će gostovati i filozof i publicist Boris Buden\, povjesničarka i teoretičarka umjetnosti Leonida Kovač\, književnica Olja Savičević Ivančević\, leksikograf Vlaho Bogišić\, filozof i esejist Predrag Finci\, kustosica i likovna kritičarka Sandra Križić\, poznata urednica Nives Tomašević i riječka pjesnikinja Laura Marchig. \nMeđu pulskim i istarskim autorima ove godine će se promovirati pisac Amir Alagić\, arhitekt Vjekoslav Gašparović\, povjesničar Davor Mandić\, književnik Milan Rakovac i kantautorica Tamara Obrovac te sveučilišna profesorica Teodora Fonović Cvijanović. \nProgrami za djecu i mlade \nSajam će obilježiti i povratak programa za djecu i mlade. Najmlađi će ponovno uživati u Libriću na Sajmu i uživo razgovarati s autorima omiljenih slikovnica. Stariji osnovnoškolci upoznat će vrhunsku domaću ilustratorsku scenu uz Klaru Rusan\, Klasju Habjan\, Mislava Lešića\, Ivanu Pipal\, Agatu Lučić i selektora programa Hop lektire Dominika Vukovića. Srednjoškolci će pak programom PULikulArna reforma književnim klasicima pristupiti na nekonvencionalan način uz voditelja Emira Imamovića i sajamske goste. Od klasika kreće i vizualna priča 28. Sajma koju dizajner Mauricio Ferlin kroji Bulgakovljevim romanom Majstor i Margarita.
URL:https://kritika-hdp.hr/dogadjaji/28-sanjam-knjige-u-istri/
ATTACH;FMTTYPE=image/jpeg:https://kritika-hdp.hr/wp-content/uploads/2022/10/sanjam-knjige.jpg
END:VEVENT
BEGIN:VEVENT
DTSTART;VALUE=DATE:20211119
DTEND;VALUE=DATE:20211129
DTSTAMP:20260420T050437
CREATED:20211104T104705Z
LAST-MODIFIED:20220724T203419Z
UID:1311-1637280000-1638143999@kritika-hdp.hr
SUMMARY:Sa(n)jam knjige: od 19. do 28. studenog\, Pula
DESCRIPTION:Drugi put u istoj godini održava se Sa(n)jam knjige u Puli\, ovoga puta od 19. do 28. studenoga\, u uobičajenome “kasnojesenskom” terminu. U Puli će gostovati više od pedeset stranih i domaćih autorica i autora\, a održat će se gotovo četrdeset programa: književnih promocija\, izložbi i okruglih stolova. Nosiva tema sajma je Ljubav. Prenosimo riječi organizatora: \n“Ljubav treba ponovno izmisliti\, rekao je pjesnik Rimbaud\, a u specifičnosti trenutka bremenitog neizvjesnošću\, radikalnim promjenama i drastičnim distancama\, od fizičkih do emocionalnih\, dvojbeno je pronalazimo li čvrsto uporište i dalje u ljubavi ili je ljubav ta koja traži siguran oslonac. Sajam\, stoga\, otvara desetodnevnu diskusiju o fenomenu za koji je upitno pokreće li i dalje svijet. Tema svoju prvu raspravu ostvaruje već s nagrađivanim dizajnerom\, Olegom Šuranom i njegovim vizualnim identitetom koji zadane premise prati kroz knjiške citate i umjetnička remek djela: od Brancusijevog poljupca preko Magritteovih zaljubljenika do uspavanog Erosa. Ali\, potrebno ga je probuditi jer opet\, sada ima velikog i teškog posla\, pozvati ljubav da se u njoj\, parafrazirajući Vesnu Parun\, smiri crna misao čovjeka\, metalna duša svijeta.” \nNa sajmu su najavljena gostovanja Sofije Andruhovič (Ukrajina)\, Gabriele Babnik (Slovenija)\, Laure Freudenthaler (Austrija)\, Zanzim (Francuska)\, Ivana Čolovića\, Dubravke Stojanović\, Sergeja Trifunovića (Srbija)\, Andreja Nikolaidisa (Crna Gora)\, Darka Cvijetića (BiH)\, Mladena Dolara (Slovenija)\, Gorana Ferčeca\, Renata Baretića\, Helene Sablić-Tomić\, Damira Karakaša\, Jurice Pavičića\, Gorana Vojnovića i mnogih drugih. \nViše doznajte na web stranici Sa(n)jam knjige. Program je dostupan na sljedećem linku.
URL:https://kritika-hdp.hr/dogadjaji/sanjam-knjige-od-19-do-28-studenog-pula/
LOCATION:Pula
ATTACH;FMTTYPE=image/jpeg:https://kritika-hdp.hr/wp-content/uploads/2021/11/Sajam-knjige-u-PUli.jpg
END:VEVENT
BEGIN:VEVENT
DTSTART;VALUE=DATE:20210604
DTEND;VALUE=DATE:20210614
DTSTAMP:20260420T050437
CREATED:20210511T092331Z
LAST-MODIFIED:20220725T075348Z
UID:1272-1622764800-1623628799@kritika-hdp.hr
SUMMARY:Sa(n)jam knjige u Istri; od 4. do 13. lipnja
DESCRIPTION:“Za nas je ‘Di smo?’ prvotno bilo pitanje koje traži precizan odgovor na kojoj je lokaciji ove godine Sa(n)jam. Gotovo 20 godina ovo se pitanje nije postavljalo jer se znalo da smo u austrougarskoj palači Marine Kasino. Odgovor na to pitanje bit će zbunjujuć strancima i gostima Pule\, ali Puležanima sasvim jasan. Na Rivi smo\, u bivšoj Arena trikotaži\, ulaz je iz Kandlerove tamo kod Dimnjaka odmah poslije arheološkog nalazišta uz Gradsku knjižnicu. Knjige su u tvorničkoj hali\, a programi u Shipyardu. No to je pitanje\, naravno\, potaknulo sasvim druga razmišljanja\, na koja nemamo tako precizne odgovore. Prije svega gdje smo sad kao književna manifestacija\, nakon 27 godina\, je li ovo novi početak ili se zavaravamo? Gdje smo kao kultura? Ima li još koja stepenica prema dnu? Gdje smo kao ljudi? U ambisu kojem se ne nazire kraj i kojeg sami produbljujemo ili u prevratu koji će donijeti nešto dobroga? I najvažnije: gdje smo jedni drugima?”\, izjavila je Magdalena Vodopija\, direktorica Sa(n)jam knjige u Istri. \nSvečano otvorenje pulskog festivala knjiga i autora zakazano je za petak\, 4. lipnja u podne\, na arheološkom nalazištu tik uz Gradsku knjižnicu. \nOvogodišnje izdanje preplavit će poezija i glazba: pred publiku dolazi petnaestak vrsnih pjesnikinja i pjesnika predvođenih Petrom Gudeljom\, a uz pratnju glazbenika na čelu s jazz trubačem Brankom Strepinom i etno glazbenikom Dariom Marušićem. \nUz tradicionalni “Doručak s autorom”\, kojeg će voditi kulturolog i pisac Aljoša Pužar\, novost je i program pod nazivom “Nova lica Pule”. \n“U prvotnoj ideji radilo se o debitantima. No ove godine činilo nam se kao dobra igra predstaviti u istom programu etablirane autore koji nekim slučajem nisu još predstavljali svoje knjige na Sajmu\, i nove\, izvrsne autore koji su tek kročili na literarnu scenu. Mislim da će ovaj program opstati i sljedećih godina. Živ je\, nov je\, ne ide ‘na sigurno’\, što mi se jako sviđa”\, izjavila je Vodopija. \nMeđu ostalima\, tako će se u Puli publici po prvi puta predstaviti Svetislav Basara\, Želimir Periš\, Ivana Bodrožić\, Magdalena Blažević\, Tanja Stupar-Trifunović\, Ena Katarina Haller te Ivica Đikić\, ali i brojni drugi autori i autorice sa svojim novim knjigama. \nMeđu novitetima je i suradnja sa zagrebačkim Hrvatskim narodnim kazalištem. Glumci će nastupiti u režiji Ivica Buljana izvodeći stihove suvremenih hrvatskih pjesnikinja\, a u programu naslova ‘Moj cilj je – horizont’ predstavit će velikane slavenskog pjesništva. \nZa one koji neće moći navratiti na 26. Sa(n)jam knjige u Istri\, radijski i video prijenos uživo bit će dostupni na društvenim mrežama\, Facebooku i Instagramu te na YouTube kanalu Sa(n)jam knjige u Istri. \nGeneralni pokrovitelj Sa(n)jam knjige u Istri je Zagrebačka banka\, pokrovitelji su Grad Pula\, Istarska županija i Ministarstvo kulture i medija Republike Hrvatske\, a glavni sponzor je Arena Hospitality Group.
URL:https://kritika-hdp.hr/dogadjaji/sanjam-knjige-u-istri-od-4-do-13-lipnja/
ATTACH;FMTTYPE=image/jpeg:https://kritika-hdp.hr/wp-content/uploads/2021/05/Magdalena_Vodopija.jpg
END:VEVENT
END:VCALENDAR