BEGIN:VCALENDAR
VERSION:2.0
PRODID:-//Kritika HDP - ECPv6.15.20//NONSGML v1.0//EN
CALSCALE:GREGORIAN
METHOD:PUBLISH
X-WR-CALNAME:Kritika HDP
X-ORIGINAL-URL:https://kritika-hdp.hr
X-WR-CALDESC:Događaji za Kritika HDP
REFRESH-INTERVAL;VALUE=DURATION:PT1H
X-Robots-Tag:noindex
X-PUBLISHED-TTL:PT1H
BEGIN:VTIMEZONE
TZID:Europe/Zagreb
BEGIN:DAYLIGHT
TZOFFSETFROM:+0100
TZOFFSETTO:+0200
TZNAME:CEST
DTSTART:20230326T010000
END:DAYLIGHT
BEGIN:STANDARD
TZOFFSETFROM:+0200
TZOFFSETTO:+0100
TZNAME:CET
DTSTART:20231029T010000
END:STANDARD
BEGIN:DAYLIGHT
TZOFFSETFROM:+0100
TZOFFSETTO:+0200
TZNAME:CEST
DTSTART:20240331T010000
END:DAYLIGHT
BEGIN:STANDARD
TZOFFSETFROM:+0200
TZOFFSETTO:+0100
TZNAME:CET
DTSTART:20241027T010000
END:STANDARD
BEGIN:DAYLIGHT
TZOFFSETFROM:+0100
TZOFFSETTO:+0200
TZNAME:CEST
DTSTART:20250330T010000
END:DAYLIGHT
BEGIN:STANDARD
TZOFFSETFROM:+0200
TZOFFSETTO:+0100
TZNAME:CET
DTSTART:20251026T010000
END:STANDARD
END:VTIMEZONE
BEGIN:VEVENT
DTSTART;VALUE=DATE:20241101
DTEND;VALUE=DATE:20241217
DTSTAMP:20260421T132757
CREATED:20241101T163930Z
LAST-MODIFIED:20241101T163959Z
UID:13150-1730419200-1734393599@kritika-hdp.hr
SUMMARY:Javni poziv za rezidencijalni program Udruge Kurs u Splitu za 2025. godinu (Rok: 16. 12. 2024.)
DESCRIPTION:Uz partnere u projektu: Ministarstva kulture i medija RH\, Splitsko-dalmatinske županija i Grada Splita\, te međunarodnog partnera Traduki\, Udruga Kurs osigurala je organizirani smještaj u opremljenom stanu u centru grada u trajanju od četiri tjedna. \nOrganizator pokriva: smještaj\, putni trošak te mjesečnu stipendiju. \nTermini boravka: veljača\, ožujak\, travanj\, svibanj\, lipanj\, rujan\, listopad\, studeni\, prosinac u 2025..godini. \nPrijava mora sadržavati: \n\ncurriculum vitae (na hrvatskom\, engleskom ili njemačkom)\npuna adresa (kontakt telefon i e-mail adresa)\npopis objavljenih djela\nkratak opis planova rada u Splitu\npismo preporuke izdavača\, kritičara ili udruženja pisaca\n\nRok za slanje prijava je 16. 12. 2024. Prijave se šalju u PDF-formatu putem elektroničke pošte na e-mail adresu: maja6v@gmail.com \nPrijave će zaprimiti Povjerenstvo\, te izvijestiti odabrane kandidate početkom siječnja 2025.godine. Nepotpune prijave i prijave koje ne udovoljavaju propisanim uvjetima\, neće se uzeti u razmatranje.
URL:https://kritika-hdp.hr/dogadjaji/javni-poziv-za-rezidencijalni-program-udruge-kurs-u-splitu-za-2025-godinu-rok-16-12-2024/
ATTACH;FMTTYPE=image/png:https://kritika-hdp.hr/wp-content/uploads/2024/11/defaults-nwb.png
END:VEVENT
END:VCALENDAR