BEGIN:VCALENDAR
VERSION:2.0
PRODID:-//Kritika HDP - ECPv6.15.20//NONSGML v1.0//EN
CALSCALE:GREGORIAN
METHOD:PUBLISH
X-WR-CALNAME:Kritika HDP
X-ORIGINAL-URL:https://kritika-hdp.hr
X-WR-CALDESC:Događaji za Kritika HDP
REFRESH-INTERVAL;VALUE=DURATION:PT1H
X-Robots-Tag:noindex
X-PUBLISHED-TTL:PT1H
BEGIN:VTIMEZONE
TZID:Europe/Zagreb
BEGIN:DAYLIGHT
TZOFFSETFROM:+0100
TZOFFSETTO:+0200
TZNAME:CEST
DTSTART:20200329T010000
END:DAYLIGHT
BEGIN:STANDARD
TZOFFSETFROM:+0200
TZOFFSETTO:+0100
TZNAME:CET
DTSTART:20201025T010000
END:STANDARD
BEGIN:DAYLIGHT
TZOFFSETFROM:+0100
TZOFFSETTO:+0200
TZNAME:CEST
DTSTART:20210328T010000
END:DAYLIGHT
BEGIN:STANDARD
TZOFFSETFROM:+0200
TZOFFSETTO:+0100
TZNAME:CET
DTSTART:20211031T010000
END:STANDARD
BEGIN:DAYLIGHT
TZOFFSETFROM:+0100
TZOFFSETTO:+0200
TZNAME:CEST
DTSTART:20220327T010000
END:DAYLIGHT
BEGIN:STANDARD
TZOFFSETFROM:+0200
TZOFFSETTO:+0100
TZNAME:CET
DTSTART:20221030T010000
END:STANDARD
BEGIN:DAYLIGHT
TZOFFSETFROM:+0100
TZOFFSETTO:+0200
TZNAME:CEST
DTSTART:20230326T010000
END:DAYLIGHT
BEGIN:STANDARD
TZOFFSETFROM:+0200
TZOFFSETTO:+0100
TZNAME:CET
DTSTART:20231029T010000
END:STANDARD
BEGIN:DAYLIGHT
TZOFFSETFROM:+0100
TZOFFSETTO:+0200
TZNAME:CEST
DTSTART:20240331T010000
END:DAYLIGHT
BEGIN:STANDARD
TZOFFSETFROM:+0200
TZOFFSETTO:+0100
TZNAME:CET
DTSTART:20241027T010000
END:STANDARD
BEGIN:DAYLIGHT
TZOFFSETFROM:+0100
TZOFFSETTO:+0200
TZNAME:CEST
DTSTART:20250330T010000
END:DAYLIGHT
BEGIN:STANDARD
TZOFFSETFROM:+0200
TZOFFSETTO:+0100
TZNAME:CET
DTSTART:20251026T010000
END:STANDARD
END:VTIMEZONE
BEGIN:VEVENT
DTSTART;TZID=Europe/Zagreb:20241007T080000
DTEND;TZID=Europe/Zagreb:20241010T223000
DTSTAMP:20260425T163926
CREATED:20241003T150550Z
LAST-MODIFIED:20241003T150636Z
UID:12963-1728288000-1728599400@kritika-hdp.hr
SUMMARY:Booksina Revija malih književnosti: Queer Balkan
DESCRIPTION:U 2024. godini\, kada klub Booksa slavi 20. rođendan i Revija malih književnosti doživjet će svoje jubilarno dvadeseto izdanje! \nSrž Revije malih književnosti je u stalnom približavanju književnosti i jezika koji su nam još uvijek daleki zbog nedostatka prijevoda i malo književnih veza\, koji nam se zbog toga čine mali\, ali to naravno nisu; na dvadeset izdanja festivala od 2005. godine u Hrvatskoj je mahom prvi put predstavljeno više od dvjesto autorica i autora\, koji su u popratnim antologijama prvi put prevedeni na hrvatski jezik. \nDvadeseta Revija\, u 2024. godini\, kada i klub Booksa slavi svoj 20. rođendan\, bila je povod da se osvrnemo\, prisjetimo početaka\, vratimo se književnosti na Balkanu\, ovoga puta dajući joj jasnu i nedvosmislenu tematsku odrednicu: QUEER BALKAN. \nOvoga puta na Reviji malih književnosti i u popratnoj antologiji okupljamo glasove suvremenih queer autora i autorica iz deset balkanskih zemalja – Bosne i Hercegovine\, Slovenije\, Crne Gore\, Bugarske\, Srbije\, Rumunjske\, Kosova\, Grčke\, Makedonije i Albanije\, točno onim kronološkim redoslijedom kako su se od 2005. do 2014. održavale Revije posvećene tim književnostima. \nOvogodišnje selektorice Ivana Dražić i Lara Mitraković ovako komentiraju proces planiranja Revije i antologije: „Kada smo kao selektorice birale autorice i autore za antologiju i Reviju na temu queer književnosti na Balkanu\, bilo nam je važno da okupimo različite književne glasove\, autorice i autore mlađe i srednje generacije i neupitne književne kvalitete\, pisce i spisateljice\, pjesnikinje i pjesnike čije se književno\, političko i aktivističko djelovanje isprepliću i nadopunjuju. Također\, bilo nam je važno pokazati njenu tematsku šarolikost i perspektive koje nužno uključuju ne samo LGBTIQ+\, nego i onu širu feminističku\, klasnu\, ekološku\, antikapitalističku perspektivu.“ \nNa razgovorima u Booksi i u popratnoj antologiji predstavit ćemo tekstove: Selme Asotić\, Vesne Liponik\, Tijane Rakočević\, Yordana Slaveykova\, Galine Maksimović\, Nóre Ugron\, Arbëra Selmanija\, Vagie Kalfa (piše pod pseudonimom Noa Tinsel)\, Stefana Alijevikja i Kristija Pinderija\, a na Reviji ćemo ugostiti i laureatkinje ovogodišnjeg izdanja književnog izbora “Štefica Cvek”\, kao i dio žirija. \nRevija će trajati od 7. do 10. listopada u Booksi\, a program slijedi. \n\nProgram Revije malih književnosti: QUEER BALKAN \n7. listopada \n– u 19h: Otvaranje Revije i “Štefica Cvek” na Reviji malih književnosti\, moderira: Ivana Dražić.\n– u 20h: Razgovor i čitanje: Arbër Selmani i Vagia Kalfa\, moderira: Tomislav Augustinčić. \n8. listopada\n– u 20h: Razgovor i čitanje: Yordan Slaveykov\, Stefan Alijevikj i Vesna Liponik\, moderira: Lara Mitraković. \n9. listopada\n– u 18h: Etiketiraj me nježno: O queeru u sebi i hrvatskom izdavaštvu razgovaraju Srđan Sandić i Iva Ušćumlić*;\n– u 20h: Razgovor i čitanje: Tijana Rakočević i Kristi Pinderi; moderira: Karolina Hrga. \n10. listopada \n– u 20h: Razgovor i čitanje: Nóra Ugron i Selma Asotić\, moderira: Marija Skočibušić.\nDominov Queer sajam knjiga održat će se u Booksi 2h prije svakog događanja! \n* Program Udruge Domino.
URL:https://kritika-hdp.hr/dogadjaji/booksina-revija-malih-knjizevnosti-queer-balkan/
ATTACH;FMTTYPE=image/jpeg:https://kritika-hdp.hr/wp-content/uploads/2024/10/large_web.jpg
END:VEVENT
BEGIN:VEVENT
DTSTART;TZID=Europe/Zagreb:20231004T080000
DTEND;TZID=Europe/Zagreb:20231006T010000
DTSTAMP:20260425T163926
CREATED:20230928T202312Z
LAST-MODIFIED:20230928T202447Z
UID:9853-1696406400-1696554000@kritika-hdp.hr
SUMMARY:Revija malih književnosti u Booksi: Malta
DESCRIPTION:U Booksu 4. i 5. listopada dolaze dvije pjesnikinje\, Leanne Ellul i Nadia Mifsud\, pjesnik i novinar Karl Schembri te pisac\, sveučilišni profesor i ovogodišnji selektor Adrian Grima.\n\n\n\n\n\n\n\nProgram slijedi:\n\n\n4. listopada u 20h: razgovor i čitanje: Adrian Grima i Nadia Mifsud; moderatorica: Miljenka Buljević;\n\n\n\n\n\n5. listopada u 20h: razgovor i čitanje: Leanne Ellul i Karl Schembri; moderatorica: Anja Tomljenović.\n\n\n\nUz Reviju\, kao i dosad\, objavljujemo antologiju\, ovogodišnji naslov je Odveć nježne riječi (uskoro izlazi iz tiska)\, a uz spomenute autore/ice\, u antologiji su zastupljeni i Gioele Galea i Murad Shubert.\n\n\n\nRadi se o nekima od najzanimljivijih malteških pjesničkih glasova\, a riječima Adriana Grime:  “Ovi ‘malteški’ pisci pišu književnost na malteškom\, no njihov svemir nije više ograničen prvenstveno njihovim otokom i lokalnom zajednicom. Nije više ograničen potrebom pripovijedanja o naciji. Za jednu književnost čiji počeci neupitno leže u svijetu romantičarskog nacionalizma\, čini se da ova najnovija ‘iteracija’ dovodi u pitanje same temelje onoga što pisanje na malteškom predstavlja.” Čitav tekst\, uvodnik u maltešku književnost koji je napisao Adrian Grima možete pronaći na ovom linku. \n \nVidimo se!\n\nViše informacija dostupno je na portalu Booksa.hr te na Facebook eventu.
URL:https://kritika-hdp.hr/dogadjaji/revija-malih-knjizevnosti-u-booksi-malta/
ATTACH;FMTTYPE=image/jpeg:https://kritika-hdp.hr/wp-content/uploads/2023/02/Club_Booksa_Zagreb_exterior.jpg
END:VEVENT
BEGIN:VEVENT
DTSTART;VALUE=DATE:20211110
DTEND;VALUE=DATE:20211118
DTSTAMP:20260425T163926
CREATED:20211104T110756Z
LAST-MODIFIED:20220724T203330Z
UID:1313-1636502400-1637193599@kritika-hdp.hr
SUMMARY:Revija malih književnosti u Booksi: od 10. do 17. studenog\, Zagreb
DESCRIPTION:Revija malih književnosti festival je koji traje od 2005. godine i na njemu se uobičajeno predstavlja mlađa generacija autora/ica koji/e do sada nisu prevođeni i objavljivani u Hrvatskoj\, koji/e dolaze iz zemalja i regija s kojima imamo malo književnih veza\, a koji/e su u svojoj domovini itekako poznati\, cijenjeni i nagrađivani. Festival se održava tradicionalno u zagrebačkom klubu Booksa. \nOvogodišnji festival pak ugošćuje mlade i nedovoljno afirmirane hrvatske autore/ice. Kako navode organizatori: “Ove\, 2021. godine\, Revija malih književnosti vraća se počecima tematski se fokusirajući na domaću književnu produkciju\, autorice i autore koji pišu na hrvatskom. I ovom Revijom nastavljamo istraživati koncept male književnosti\, ovoga puta promatrajući i propitujući vlastitu književnost kao malu\, stavljajući je u kontekst sa svim dosadašnjim Revijama i zemljama. Na Reviji ćemo ugostiti raznovrsne autore/ice\, kako one koji se književnošću tek počinju baviti\, koji iza sebe imaju objavljenu jednu ili nijednu knjigu\, tako i one koji iza sebe imaju književnu karijeru te koji će na festivalu premijerno predstavili nove radove\, koji će prvi put biti objavljeni u festivalskoj antologiji.” \nProgram: \n10. studenog u 19 h\, Booksa\n– razgovor i čitanje: Espi Tomičić i Enver Krivac\n– moderator: Vigor Vukotić \n11. studenog u 19 h\, Booksa\n– razgovor i čitanje: Sana Perić i Vida Sever\n– moderator: Vigor Vukotić \n12. studenog u 19 h\, Booksa\n– razgovor i čitanje: Josip Čekolj i Igor Rajki\n– moderator: Tomislav Augustinčić \n16. studenog u 19 h\, Booksa\n– razgovor i čitanje: Maja Urban i Lovre Petrić\n– moderator: Martin Majcenović \n17. studenog u 19 h\, Booksa\n– razgovor i čitanje: Marija Skočibušić i Lara Mitraković\n– moderator: Martin Majcenović
URL:https://kritika-hdp.hr/dogadjaji/revija-malih-knjizevnosti-u-booksi-od-10-do-17-studenog-zagreb/
LOCATION:Zagreb
ATTACH;FMTTYPE=image/png:https://kritika-hdp.hr/wp-content/uploads/2021/11/booksa-revija.png
END:VEVENT
END:VCALENDAR