BEGIN:VCALENDAR
VERSION:2.0
PRODID:-//Kritika HDP - ECPv6.15.20//NONSGML v1.0//EN
CALSCALE:GREGORIAN
METHOD:PUBLISH
X-ORIGINAL-URL:https://kritika-hdp.hr
X-WR-CALDESC:Događaji za Kritika HDP
REFRESH-INTERVAL;VALUE=DURATION:PT1H
X-Robots-Tag:noindex
X-PUBLISHED-TTL:PT1H
BEGIN:VTIMEZONE
TZID:Europe/Zagreb
BEGIN:DAYLIGHT
TZOFFSETFROM:+0100
TZOFFSETTO:+0200
TZNAME:CEST
DTSTART:20220327T010000
END:DAYLIGHT
BEGIN:STANDARD
TZOFFSETFROM:+0200
TZOFFSETTO:+0100
TZNAME:CET
DTSTART:20221030T010000
END:STANDARD
BEGIN:DAYLIGHT
TZOFFSETFROM:+0100
TZOFFSETTO:+0200
TZNAME:CEST
DTSTART:20230326T010000
END:DAYLIGHT
BEGIN:STANDARD
TZOFFSETFROM:+0200
TZOFFSETTO:+0100
TZNAME:CET
DTSTART:20231029T010000
END:STANDARD
BEGIN:DAYLIGHT
TZOFFSETFROM:+0100
TZOFFSETTO:+0200
TZNAME:CEST
DTSTART:20240331T010000
END:DAYLIGHT
BEGIN:STANDARD
TZOFFSETFROM:+0200
TZOFFSETTO:+0100
TZNAME:CET
DTSTART:20241027T010000
END:STANDARD
END:VTIMEZONE
BEGIN:VEVENT
DTSTART;VALUE=DATE:20230331
DTEND;VALUE=DATE:20230528
DTSTAMP:20260421T224603
CREATED:20230215T183034Z
LAST-MODIFIED:20230215T183446Z
UID:7975-1680228000-1685152799@kritika-hdp.hr
SUMMARY:Prva znanstveno-stručna konferencija mladih slavista PhiloSlavicon u organizaciji Kluba studenata rusistike Puškin
DESCRIPTION:Zagreb\, 25. – 26. svibnja 2023. \nKlub studenata rusistike Puškin organizira Prvu znanstveno-stručnu konferenciju mladih slavista PhiloSlavicon. Na Konferenciju su pozvani svi studenti\, diplomirani filolozi\, doktorandi i mladi znanstvenici iz struke do 35. godine života. Zainteresirani izlagači dužni su Organizacijskom odboru Konferencije putem posebne prijavnice najkasnije do 31. ožujka 2023. dostaviti sažetak svojega izlaganja (upute za oblikovanje sažetka nalaze se u prilogu). Prijavnica se nalazi na poveznici: https://forms.gle/AqfSLCcxviBTR2c56 \nTema je Konferencije: Slavistika jučer\, danas\, sutra – tragom filološke baštine očima mladih. Konferencija se održava povodom Dana filologa (25. svibnja)\, a cilj joj je povezati mlade slaviste te im pružiti mogućnost predstavljanja svojih istraživanja i radova.\nNakon Konferencije bit će objavljen zbornik predstavljenih radova. Predaja radova za zbornik nije uvjet za sudjelovanje na Konferenciji.\nO točnom mjestu i vremenu održavanja Konferencije\, kao i o okolnostima objave zbornika sudionici će biti obaviješteni naknadno.\nZa sva pitanja obratite nam se na adresu e-pošte: danfilologa.ksrup@gmail.com \nVažni datumi:\n• rok za prijavu (slanje sažetaka) putem posebne prijavnice: 31. ožujka 2023.\n• objavljivanje programa Konferencije: 12. svibnja 2023.\n• rok za predaju pismenih inačica radova (fakultativno): 31. srpnja 2023. \nPredložene tematske sekcije:\n• lingvistika\n• književnoznanstvena (književnopovijesna i književnoteorijska) istraživanja\n• prijevod i međukulturna komunikacija\n• metodika stranog jezika i glotodidaktika\n• interdisciplinarna istraživanja. \nViše informacija\, prijavnicu\, kao i upute za oblikovanje sažetka možete pronaći u službenom pozivu na linku: https://forms.gle/AqfSLCcxviBTR2c56. \nSve nedoumice i upite možete uputiti na e-adresu danfilologa.ksrup@gmail.com. Pravovremeno ažurirane informacije o Konferenciji uz ostale zanimljivosti i objave nalaze se na društvenim mrežama Kluba studenata rusistike Puškin. \nFacebook: ksru.puskin \nInstagram: @ksru.puskin \nLinkedIn: ksru-puskin
URL:https://kritika-hdp.hr/dogadjaji/prva-znanstveno-strucna-konferencija-mladih-slavista-philoslavicon-u-organizaciji-kluba-studenata-rusistike-puskin/
ATTACH;FMTTYPE=image/png:https://kritika-hdp.hr/wp-content/uploads/2023/02/11111.png
END:VEVENT
END:VCALENDAR