BEGIN:VCALENDAR
VERSION:2.0
PRODID:-//Kritika HDP - ECPv6.15.20//NONSGML v1.0//EN
CALSCALE:GREGORIAN
METHOD:PUBLISH
X-ORIGINAL-URL:https://kritika-hdp.hr
X-WR-CALDESC:Događaji za Kritika HDP
REFRESH-INTERVAL;VALUE=DURATION:PT1H
X-Robots-Tag:noindex
X-PUBLISHED-TTL:PT1H
BEGIN:VTIMEZONE
TZID:Europe/Zagreb
BEGIN:DAYLIGHT
TZOFFSETFROM:+0100
TZOFFSETTO:+0200
TZNAME:CEST
DTSTART:20210328T010000
END:DAYLIGHT
BEGIN:STANDARD
TZOFFSETFROM:+0200
TZOFFSETTO:+0100
TZNAME:CET
DTSTART:20211031T010000
END:STANDARD
BEGIN:DAYLIGHT
TZOFFSETFROM:+0100
TZOFFSETTO:+0200
TZNAME:CEST
DTSTART:20220327T010000
END:DAYLIGHT
BEGIN:STANDARD
TZOFFSETFROM:+0200
TZOFFSETTO:+0100
TZNAME:CET
DTSTART:20221030T010000
END:STANDARD
BEGIN:DAYLIGHT
TZOFFSETFROM:+0100
TZOFFSETTO:+0200
TZNAME:CEST
DTSTART:20230326T010000
END:DAYLIGHT
BEGIN:STANDARD
TZOFFSETFROM:+0200
TZOFFSETTO:+0100
TZNAME:CET
DTSTART:20231029T010000
END:STANDARD
BEGIN:DAYLIGHT
TZOFFSETFROM:+0100
TZOFFSETTO:+0200
TZNAME:CEST
DTSTART:20240331T010000
END:DAYLIGHT
BEGIN:STANDARD
TZOFFSETFROM:+0200
TZOFFSETTO:+0100
TZNAME:CET
DTSTART:20241027T010000
END:STANDARD
BEGIN:DAYLIGHT
TZOFFSETFROM:+0100
TZOFFSETTO:+0200
TZNAME:CEST
DTSTART:20250330T010000
END:DAYLIGHT
BEGIN:STANDARD
TZOFFSETFROM:+0200
TZOFFSETTO:+0100
TZNAME:CET
DTSTART:20251026T010000
END:STANDARD
BEGIN:DAYLIGHT
TZOFFSETFROM:+0100
TZOFFSETTO:+0200
TZNAME:CEST
DTSTART:20260329T010000
END:DAYLIGHT
BEGIN:STANDARD
TZOFFSETFROM:+0200
TZOFFSETTO:+0100
TZNAME:CET
DTSTART:20261025T010000
END:STANDARD
END:VTIMEZONE
BEGIN:VEVENT
DTSTART;TZID=Europe/Zagreb:20241208T080000
DTEND;TZID=Europe/Zagreb:20250131T170000
DTSTAMP:20260421T075810
CREATED:20241208T090332Z
LAST-MODIFIED:20241208T090356Z
UID:13615-1733644800-1738342800@kritika-hdp.hr
SUMMARY:Prvi prozak na vrh jezika
DESCRIPTION:Nagrade za rukopise autora do 35 godina Na vrh jezika za poeziju i Prozak za fikcijsku prozu organiziraju Udruga Kultipraktik\, a godišnje dodjeljuje žiri u sastavu: Marija Andrijašević\, Marko Pogačar i Kruno Lokotar.\n\n\n\nNagrada Prozak se sastoji od objave knjige fikcijske proze sa svim pripadnim autorskim pravima u izdanju naklade Jesenski i Turk\, Prozak/Na vrh jezika prstena i diplome.\n\nNagrada Na vrh jezika se sastoji od objave zbirke poezije\, Prozak/Na vrh jezika prstena i diplome.\n\n\n\nNatječaji Na vrh jezika za poeziju i Prozak za prozu\, trajno su otvoreni za sve građane Republike Hrvatske mlađe od 35 godina.\n\n\n\nIzbor do 10 neobjavljenih pjesama uz bio-bibliografsku crticu i kontakt (telefon) treba poslati kao privitak u jednom Word dokumentu na adresu navrhjezika@gmail.com\, a neobjavljenu prozu(e) opsega do pet kartica teksta (9000 znakova s proredom) na adresu prozaknatjecaj@gmail.com. Uz prijavu treba poslati i portretnu fotografiju autora/ice u .jpg formatu.\n\nRadovi koji budu ulazili u širi izbor bit će tijekom godine objavljivani na Facebooku Prvi prozak na vrh jezika.\n\n\nAutori koji uđu u uži izbor bit će o tome obaviješteni e-mailom i zamoljeni da žiriju na uvid pošalju sav materijal koji bi mogao ući u knjigu.\n\n\n\nZahvaljujemo se na suradnji.
URL:https://kritika-hdp.hr/dogadjaji/prvi-prozak-na-vrh-jezika/
ATTACH;FMTTYPE=image/jpeg:https://kritika-hdp.hr/wp-content/uploads/2024/06/prozak.jpg
END:VEVENT
BEGIN:VEVENT
DTSTART;TZID=Europe/Zagreb:20240526T100000
DTEND;TZID=Europe/Zagreb:20240731T190000
DTSTAMP:20260421T075810
CREATED:20240526T191736Z
LAST-MODIFIED:20240526T192048Z
UID:11685-1716717600-1722452400@kritika-hdp.hr
SUMMARY:Prvi prozak na vrh jezika 2024.
DESCRIPTION:Za Prozak na vrh jezika\, natječaji su trajno otvoreni. Ove\, već 21. godine će Olja Savičević Ivančević predahnuti\, a u žiriju je zamijeniti Marija Andrijašević.\n\n\n\n\nPRAVILA NATJEČAJA ZA NAJBOLJE RUKOPISE AUTORA DO 35 GODINA STAROSTI PROZAK I NA VRH JEZIKA\n\n\n\n\nNagrade za rukopise autora do 35 godina Na vrh jezika za poeziju i Prozak za fikcijsku prozu organiziraju Udruga Kultipraktik\, a godišnje dodjeljuje žiri u sastavu: Kruno Lokotar\, Marko Pogačar i Marija Andrijašević.\n\n\n\nNagrada Prozak se sastoji od objave knjige fikcijske proze sa svim pripadnim autorskim pravima u izdanju naklade Jesenski i Turk\, Prozak/Na vrh jezika prstena i diplome.\n\nNagrada Na vrh jezika se sastoji od objave zbirke poezije\, Prozak/Na vrh jezika prstena i diplome.\n\n\n\nNatječaji Na vrh jezika za poeziju i Prozak za prozu\, su trajno otvoreni za sve građane Republike Hrvatske mlađe od 35 godina.\n\n\n\nIzbor do 10 neobjavljenih pjesama uz bio-bibliografsku crticu i kontakt (telefon) treba poslati kao privitak u jednom word-dokumentu na adresu navrhjezika@gmail.com\, a neobjavljenu prozu(e) opsega do pet kartica teksta (9000 znakova s proredom) na adresu prozaknatjecaj@gmail.com. Uz prijavu treba poslati i portretnu fotografiju autora/ice u .jpg formatu.\nRadovi koji budu ulazili u širi izbor bit će tijekom godine objavljivani na Facebooku Prvi prozak na vrh jezika.\n\n\nAutori koji uđu u uži izbor bit će o tome obaviješteni e-mailom i zamoljeni da žiriju na uvid pošalju sav materijal koji bi mogao ući u knjigu.
URL:https://kritika-hdp.hr/dogadjaji/prvi-prozak-na-vrh-jezika-2024/
ATTACH;FMTTYPE=image/jpeg:https://kritika-hdp.hr/wp-content/uploads/2021/03/prozak.jpg
END:VEVENT
BEGIN:VEVENT
DTSTART;VALUE=DATE:20220629
DTEND;VALUE=DATE:20220702
DTSTAMP:20260421T075810
CREATED:20220623T170609Z
LAST-MODIFIED:20220722T111430Z
UID:1392-1656460800-1656719999@kritika-hdp.hr
SUMMARY:8. Prvi prozak na vrh jezika
DESCRIPTION:PROGRAM\n29. lipnja\, srijeda\n19.30 h: dodjela nagrada Prozak i Na vrh jezika 2021. i predstavljanje dobitnika/ca Marije\nKatalinić i Josipa Čekolja; sudjeluju: Kruno Lokotar\, Monika Herceg\n20.45 h: „Speed date s (ljubavnom) poezijom; čitanje na klupicama parka ljubavne poezije\nJosipa Čekolja\, Antonia Karlovića\, Romana Nikolića i Lare Mitraković \n30. lipnja\, četvrtak\n19 h: Predstavljanje zbirke poezije „Košute su plakale bez rogova“ Denisa Ćosića\, dobitnika\nNagrade Kvirin; Predstavlja: Kruno Lokotar (otkazano)\n20 h: Predstavljanje zbirke poezije Lee Čorak: „Šetnja šarenilom“\, dobitnice nagrade Milivoj\nCvetnić\, predstavlja: Monika Herceg\n21 h: Predstavljanje zbirke priča „Sitan život“ Mime Juračak\, dobitnice nagrade Prozak\n2020.: predstavljaju: Dunja Ilić i Natalija Miletić \n1. srpnja\, petak\n19 h Predstavljanje zbirke priča „Nepovredivo mjesto“ Igora Ivkova\, dobitnika Nagrade Edo\nBudiša; Predstavljaju: Dunja Ilić i Ivana Dražić\n20 h: Predstavljanje zbirke poezije „Špaga“ Patrika Gregurca dobitnika nagrade Goran;\nPredstavljaju: Nataša Govedić i Kruno Lokotar\n21 h: Predstavljanje zbirke poezije „Kad god netko ispred mene hoda“ Antonija Karlovića\,\ndobitnika nagrade Na vrh jezika 2020.; Predstavljaju: Ana Brnardić i Kruno Lokotar \nFestival se odvija zahvaljujući potpori Gradskog ureda za kulturu Grada Zagreba i Ministarstva kulture \nRepublike Hrvatske \nOrganizira Kultipraktik\, udruga za kreakciju
URL:https://kritika-hdp.hr/dogadjaji/8-prvi-prozak-na-vrh-jezika/
LOCATION:Booksa\, Martićeva ul. 14D\, Zagreb\, Croatia (Local Name: Hrvatska)
ATTACH;FMTTYPE=image/png:https://kritika-hdp.hr/wp-content/uploads/2022/06/PROZAK-S-DATUMOM-GRUNGE.png
END:VEVENT
END:VCALENDAR