BEGIN:VCALENDAR
VERSION:2.0
PRODID:-//Kritika HDP - ECPv6.15.20//NONSGML v1.0//EN
CALSCALE:GREGORIAN
METHOD:PUBLISH
X-WR-CALNAME:Kritika HDP
X-ORIGINAL-URL:https://kritika-hdp.hr
X-WR-CALDESC:Događaji za Kritika HDP
REFRESH-INTERVAL;VALUE=DURATION:PT1H
X-Robots-Tag:noindex
X-PUBLISHED-TTL:PT1H
BEGIN:VTIMEZONE
TZID:Europe/Zagreb
BEGIN:DAYLIGHT
TZOFFSETFROM:+0100
TZOFFSETTO:+0200
TZNAME:CEST
DTSTART:20210328T010000
END:DAYLIGHT
BEGIN:STANDARD
TZOFFSETFROM:+0200
TZOFFSETTO:+0100
TZNAME:CET
DTSTART:20211031T010000
END:STANDARD
BEGIN:DAYLIGHT
TZOFFSETFROM:+0100
TZOFFSETTO:+0200
TZNAME:CEST
DTSTART:20220327T010000
END:DAYLIGHT
BEGIN:STANDARD
TZOFFSETFROM:+0200
TZOFFSETTO:+0100
TZNAME:CET
DTSTART:20221030T010000
END:STANDARD
BEGIN:DAYLIGHT
TZOFFSETFROM:+0100
TZOFFSETTO:+0200
TZNAME:CEST
DTSTART:20230326T010000
END:DAYLIGHT
BEGIN:STANDARD
TZOFFSETFROM:+0200
TZOFFSETTO:+0100
TZNAME:CET
DTSTART:20231029T010000
END:STANDARD
END:VTIMEZONE
BEGIN:VEVENT
DTSTART;VALUE=DATE:20220214
DTEND;VALUE=DATE:20220215
DTSTAMP:20260420T221919
CREATED:20220214T130449Z
LAST-MODIFIED:20220722T115632Z
UID:1342-1644796800-1644883199@kritika-hdp.hr
SUMMARY:Prozak i Na vrh jezika: Natječaji za najbolje rukopise autora do 35
DESCRIPTION:Prenosimo vam pravila natječaja Prozak i Na vrh jezika: \nNagrade za rukopise autora do 35 godina  Na vrh jezika za poeziju i Prozak za fikcijsku prozu organiziraju Udruga Kultipraktik\, a godišnje dodjeljuje žiri u sastavu: Olja Savičević Ivančević\, Marko Pogačar i Kruno Lokotar. \nNagrada Prozak se sastoji od objave knjige fikcijske proze sa svim pripadnim autorskim pravima u izdanju naklade Jesenski i Turk\, Prozak/Na vrh jezika prstena i diplome. \nNagrada Na vrh jezika se sastoji od objave zbirke poezije\, Prozak/Na vrh jezika prstena i diplome. \nNatječaji Na vrh jezika za poeziju i Prozak za prozu\, su trajno otvoreni za sve građane Republike Hrvatske mlađe od 35 godina. \nIzbor do 10 pjesama uz bio-bibliografsku crticu treba poslati kao privitak u jednom word-dokumentu na adresu navrhjezika@gmail.com\, a prozu(e) opsega do pet kartica teksta (9000 znakova s proredom) na adresu prozaknatjecaj@gmail.com. Uz prijavu treba poslati i portretnu fotografiju autora/ice u .jpg formatu. \nRadovi koji budu ulazili u širi izbor bit će objavljivani na Facebooku Prvi prozak na vrh jezika. \nAutori koji uđu u uži izbor bit će o tome obaviješteni e-mailom i zamoljeni da žiriju na uvid pošalju sav materijal koji bi mogao ući u knjigu. \nZahvaljujemo na suradnji.
URL:https://kritika-hdp.hr/dogadjaji/prozak-i-na-vrh-jezika-natjecaji-za-najbolje-rukopise-autora-do-35/
ATTACH;FMTTYPE=image/jpeg:https://kritika-hdp.hr/wp-content/uploads/2022/02/IMG_4177.jpg
END:VEVENT
BEGIN:VEVENT
DTSTART;VALUE=DATE:20220125
DTEND;VALUE=DATE:20220223
DTSTAMP:20260420T221919
CREATED:20220125T131100Z
LAST-MODIFIED:20220724T202647Z
UID:1334-1643068800-1645574399@kritika-hdp.hr
SUMMARY:Natječaj za književnu nagradu "Sedmica & Kritična masa" (rok: 22. veljače 2022.)
DESCRIPTION:Kritična masa raspisuje novi natječaj književne nagrade “Sedmica & Kritična masa” za mlade autorice i autore (do 35 godina). \nOvo je šesto izdanje nagrade koja pruža pregled mlađe prozne scene (širi i uži izbor) i promovira nova prozna imena. \nPrva nagrada iznosi 5000 kuna (bruto iznos) i dodjeljuje se uz plaketu. \nU konkurenciju ulaze svi dosad neobjavljeni oblici proznih priloga (kratka priča\, odlomci iz većih formi\, prozne crtice). Osim prozne fikcije\, prihvatljivi su i dokumentarni prozni tekstovi te dnevničke forme koji posjeduju književnu dimenziju. \nDugogodišnji sponzor nagrade je cafe bar Sedm+ica (Kačićeva 7\, Zagreb). \nPrethodnih su godina nagradu dobili Ana Rajković\, Jelena Zlatar\, Marina Gudelj\, Mira Petrović i Filip Rutić. \nKrajnji rok za slanje prijava je 22.2.2022. \nPravo sudjelovanja imaju autorice i autori rođeni od 22.2.1987. nadalje. \nZa potpune informacije o natječaju posjetite sljedeću poveznicu: Sedmica & Kritična masa. \n 
URL:https://kritika-hdp.hr/dogadjaji/natjecaj-za-knjizevnu-nagradu-sedmica-kriticna-masa-rok-22-veljace-2022/
ATTACH;FMTTYPE=image/jpeg:https://kritika-hdp.hr/wp-content/uploads/2022/01/sedmica.jpg
END:VEVENT
END:VCALENDAR