BEGIN:VCALENDAR
VERSION:2.0
PRODID:-//Kritika HDP - ECPv6.15.20//NONSGML v1.0//EN
CALSCALE:GREGORIAN
METHOD:PUBLISH
X-WR-CALNAME:Kritika HDP
X-ORIGINAL-URL:https://kritika-hdp.hr
X-WR-CALDESC:Događaji za Kritika HDP
REFRESH-INTERVAL;VALUE=DURATION:PT1H
X-Robots-Tag:noindex
X-PUBLISHED-TTL:PT1H
BEGIN:VTIMEZONE
TZID:Europe/Zagreb
BEGIN:DAYLIGHT
TZOFFSETFROM:+0100
TZOFFSETTO:+0200
TZNAME:CEST
DTSTART:20220327T010000
END:DAYLIGHT
BEGIN:STANDARD
TZOFFSETFROM:+0200
TZOFFSETTO:+0100
TZNAME:CET
DTSTART:20221030T010000
END:STANDARD
BEGIN:DAYLIGHT
TZOFFSETFROM:+0100
TZOFFSETTO:+0200
TZNAME:CEST
DTSTART:20230326T010000
END:DAYLIGHT
BEGIN:STANDARD
TZOFFSETFROM:+0200
TZOFFSETTO:+0100
TZNAME:CET
DTSTART:20231029T010000
END:STANDARD
BEGIN:DAYLIGHT
TZOFFSETFROM:+0100
TZOFFSETTO:+0200
TZNAME:CEST
DTSTART:20240331T010000
END:DAYLIGHT
BEGIN:STANDARD
TZOFFSETFROM:+0200
TZOFFSETTO:+0100
TZNAME:CET
DTSTART:20241027T010000
END:STANDARD
END:VTIMEZONE
BEGIN:VEVENT
DTSTART;TZID=Europe/Zagreb:20231001T100000
DTEND;TZID=Europe/Zagreb:20231031T000000
DTSTAMP:20260421T041724
CREATED:20231018T175627Z
LAST-MODIFIED:20231018T175748Z
UID:10002-1696154400-1698710400@kritika-hdp.hr
SUMMARY:Booksa zove na radionicu pričanja priča!
DESCRIPTION:Zainteresirani će sudjelovati na seriji radionica pričanja priča i uz to se dobro zabaviti. Radionice će se održavati od listopada do prosinca 2023. godine\, a vodit će ih nagrađivane domaće spisateljice Ivana Bodrožić i Martina Vidaić. Na radionicama će polaznice i polaznici naučiti svoje osobne priče pretvoriti u oblik spreman za usmeno prenošenje koje će na zanimljiv način ispričati djeci u različitim javnim susretima u klubu Booksa i OŠ Matka Laginje. Na temelju ispričanih priča djeca će kasnije stvarati vizualne interpretacije u obliku stripa\, crteža ili slike koje ćemo predstavltl nai izložbama u klubu Booksa\, OŠ Matka Laginje i Knjižnici Medveščak. \nCilj projekta Priče koje nas povezuju\, slike koje pamtimo povezati je naše najmlađe i najstarije kvartovske susjede\, ojačati međugeneracijsku solidarnost\, zajedništvo i razmjenu te sačuvati generacijsko sjećanje i potaknuti njegovo prenošenje. \nAko se u vama skriva pripovjedač/ica s pričom koju želi podijeliti\, pošaljite nam nekoliko rečenica o sebi i motivaciji za sudjelovanje na booksa@booksa.hr ili nam se javite na 01/4616-124 do 20. listopada. Jedva čekamo čuti vaše kvartovske priče! \nVeselimo se vašim prijavama i druženju! \nProgram Priče koje nas povezuju\, slike koje pamtimo nastao je kao rezultat višegodišnje suradnje udruge i kluba Booksa s susjedskim zajednicama kroz projekte i programe koje ih aktivno uključuju u sudioničke procese programiranja\, a čiji su ciljevi uključivanje različitih skupina u osmišljavanje i izvedbu programa te osnaživanje društvenih odnosa i kulturno umjetničke produkcije. Projekt se provodi kroz program Kultura i umjetnost u zajednici u partnerstvu s OŠ Matka Laginje i Knjižnicom Medveščak\, a financiran je od strane Grada Zagreba – Gradskog ureda za kulturu\, međugradsku i međunarodnu suradnju i civilno društvo.
URL:https://kritika-hdp.hr/dogadjaji/booksa-zove-na-radionicu-pricanja-prica/
ATTACH;FMTTYPE=image/jpeg:https://kritika-hdp.hr/wp-content/uploads/2023/10/large_alexis-brown-omeaHbEFlN4-unsplash.jpg
END:VEVENT
END:VCALENDAR