BEGIN:VCALENDAR
VERSION:2.0
PRODID:-//Kritika HDP - ECPv6.15.20//NONSGML v1.0//EN
CALSCALE:GREGORIAN
METHOD:PUBLISH
X-WR-CALNAME:Kritika HDP
X-ORIGINAL-URL:https://kritika-hdp.hr
X-WR-CALDESC:Događaji za Kritika HDP
REFRESH-INTERVAL;VALUE=DURATION:PT1H
X-Robots-Tag:noindex
X-PUBLISHED-TTL:PT1H
BEGIN:VTIMEZONE
TZID:Europe/Zagreb
BEGIN:DAYLIGHT
TZOFFSETFROM:+0100
TZOFFSETTO:+0200
TZNAME:CEST
DTSTART:20210328T010000
END:DAYLIGHT
BEGIN:STANDARD
TZOFFSETFROM:+0200
TZOFFSETTO:+0100
TZNAME:CET
DTSTART:20211031T010000
END:STANDARD
BEGIN:DAYLIGHT
TZOFFSETFROM:+0100
TZOFFSETTO:+0200
TZNAME:CEST
DTSTART:20220327T010000
END:DAYLIGHT
BEGIN:STANDARD
TZOFFSETFROM:+0200
TZOFFSETTO:+0100
TZNAME:CET
DTSTART:20221030T010000
END:STANDARD
BEGIN:DAYLIGHT
TZOFFSETFROM:+0100
TZOFFSETTO:+0200
TZNAME:CEST
DTSTART:20230326T010000
END:DAYLIGHT
BEGIN:STANDARD
TZOFFSETFROM:+0200
TZOFFSETTO:+0100
TZNAME:CET
DTSTART:20231029T010000
END:STANDARD
BEGIN:DAYLIGHT
TZOFFSETFROM:+0100
TZOFFSETTO:+0200
TZNAME:CEST
DTSTART:20240331T010000
END:DAYLIGHT
BEGIN:STANDARD
TZOFFSETFROM:+0200
TZOFFSETTO:+0100
TZNAME:CET
DTSTART:20241027T010000
END:STANDARD
BEGIN:DAYLIGHT
TZOFFSETFROM:+0100
TZOFFSETTO:+0200
TZNAME:CEST
DTSTART:20250330T010000
END:DAYLIGHT
BEGIN:STANDARD
TZOFFSETFROM:+0200
TZOFFSETTO:+0100
TZNAME:CET
DTSTART:20251026T010000
END:STANDARD
BEGIN:DAYLIGHT
TZOFFSETFROM:+0100
TZOFFSETTO:+0200
TZNAME:CEST
DTSTART:20260329T010000
END:DAYLIGHT
BEGIN:STANDARD
TZOFFSETFROM:+0200
TZOFFSETTO:+0100
TZNAME:CET
DTSTART:20261025T010000
END:STANDARD
END:VTIMEZONE
BEGIN:VEVENT
DTSTART;VALUE=DATE:20250315
DTEND;VALUE=DATE:20250409
DTSTAMP:20260423T230114
CREATED:20250322T165556Z
LAST-MODIFIED:20250322T170143Z
UID:15444-1741996800-1744156799@kritika-hdp.hr
SUMMARY:Pjesnička rezidencija „Vesna Parun“
DESCRIPTION:Kulturna udruga Fotopoetika iz Šibenika raspisuje peti natječaj za pjesničku rezidenciju „Vesna Parun“ na otoku Zlarinu. \nDvotjedna književna rezidencija za hrvatske pjesnike i pjesnikinje organizira se na Zlarinu\, rodnom otoku Vesne Parun po kojoj projekt nosi ime. Obuhvaća boravak na otoku\, posjet zanimljivim lokalitetima u Šibensko-kninskoj županiji i minimalno jedno javno događanje u Šibeniku i/ili na Zlarinu. \n  \nRok za podnošenje prijave: 15. travnja 2025. u ponoć \nTrajanje rezidencije: 2 tjedna \nRazdoblje i mjesto provedbe: najkasnije do kraja studenog 2025. / otok Zlarin kod Šibenika \n  \nUvjeti prijave:  \n\nPrijavitelji moraju imati objavljenu barem 1 zbirku poezije;\nPrijavitelji moraju imati najmanje 18 godina na datum podnošenja prijave;\nPrijavitelji moraju biti hrvatski državljani;\nPrijavitelj mora održati barem jedno javno predstavljanje tijekom rezidencije.\n\n  \nŠto je ponuđeno: \n\nBoravak na otoku Zlarinu u privatnom smještaju;\nPokriveni troškovi putovanja i smještaja;\nHonorar;\nPromocija rezidenta na društvenim mrežama i u medijima;\nLogistička podrška tijekom boravka.\n\n  \nZa prijavu je potrebno poslati dokument u PDF ili Word formatu koji sadrži: \n\nŽivotopis (ne duži od jedne stranice);\nMotivacijsko pismo s obveznim obrazloženjem zašto prijavitelj želi boraviti na rezidenciji odnosno planom rada za vrijeme boravka. Poželjno je da plan rada bude povezan sa životom i/ili djelom Vesne Parun\, premda to nije nužno.\n\nPrijave se šalju na fotopoetika@gmail.com \nIme odabranog rezidenta bit će proglašeno 1. svibnja i objavljeno na internetskoj i Facebook stranici organizatora projekta (Kulturna udruga Fotopoetika). Odabrani rezident također će biti obaviješten putem e-poruke. \nOvo je prva književna rezidencija na području Šibensko-kninske županije. Organizira se peti put i provodi uz financijsku potporu Ministarstva kulture i medija Republike Hrvatske i Grada Šibenika. Dosadašnje gošće rezidencije bile su Andrijana Kos Lajtman iz Čakovca\, Vera Vujović iz Zagreba\, Katja Grcić iz Splita i Tomislav Augustinčić iz Karlovca. \nInformacije o radu Udruge i prethodnim rezidencijama mogu se pronaći na internetskoj stranici https://fotopoetika.com
URL:https://kritika-hdp.hr/dogadjaji/pjesnicka-rezidencija-vesna-parun/
ATTACH;FMTTYPE=image/jpeg:https://kritika-hdp.hr/wp-content/uploads/2025/03/Untitled.jpg
END:VEVENT
BEGIN:VEVENT
DTSTART;VALUE=DATE:20230410
DTEND;VALUE=DATE:20230503
DTSTAMP:20260423T230114
CREATED:20230410T094241Z
LAST-MODIFIED:20230410T094321Z
UID:8485-1681092000-1682992799@kritika-hdp.hr
SUMMARY:Pjesnička rezidencija "Vesna Parun" na Zlarinu
DESCRIPTION:Kulturna udruga Fotopoetika iz Šibenika na njezin 101. rođendan raspisala je natječaj za pjesničku rezidenciju “Vesna Parun” na otoku Zlarinu. Dvotjedna književna rezidencija za hrvatske pjesnike i pjesnikinje organizira se na rodnom otoku Vesne Parun po kojoj projekt nosi ime. Obuhvaća boravak na otoku\, posjet zanimljivim lokalitetima u Šibensko-kninskoj županiji i minimalno jedno javno događanje u Šibeniku i/ili na Zlarinu. \nRok za podnošenje prijave je 1. svibnja 2023. u ponoć\, a rezidencija traje dva tjedna. \nUvjeti su da je objavljena barem jedna zbirka poezije\, da nisu mlađi od 18 godina i jedan dan na datum podnošenja prijave te da su hrvatski državljani. Tijekom rezidencije su obvezani održati barem jedno javno predstavljanje. \nPrijava se podnosi u PDF i Word formatu sa: \n\nživotopisom (ne duži od jedne stranice)\nmotivacijskim pismom s obveznim obrazloženjem zašto prijavitelj/ica želi boraviti na rezidenciji\, tj. planom rada za vrijeme boravka.\n\nPrijave se šalju na: fotopoetika@gmail.com \nIme odabranog rezidenta bit će proglašeno 10. svibnja i objavljeno na internetskoj i Facebook stranici organizatora projekta (Kulturna udruga Fotopoetika). Odabrani/a rezident/ica također će biti obaviješten/a putem e-poruke. \nOvo je prva književna rezidencija na području Šibensko-kninske županije. Organizira se po treći put i provodi uz financijsku potporu Ministarstva kulture i medija Republike Hrvatske i Grada Šibenika. Gošća prve rezidencije bila je pjesnikinja Andrijana Kos Lajtman iz Čakovca\, a druge pjesnikinja Vera Vujović iz Zagreba.
URL:https://kritika-hdp.hr/dogadjaji/pjesnicka-rezidencija-vesna-parun-na-zlarinu/
ATTACH;FMTTYPE=image/jpeg:https://kritika-hdp.hr/wp-content/uploads/2023/04/1024px-Sunset2zlarin.jpeg
ORGANIZER;CN="Fotopoetika":MAILTO:fotopoetika@gmail.com
END:VEVENT
BEGIN:VEVENT
DTSTART;VALUE=DATE:20220302
DTEND;VALUE=DATE:20220401
DTSTAMP:20260423T230114
CREATED:20220302T150443Z
LAST-MODIFIED:20220722T114356Z
UID:1346-1646179200-1648771199@kritika-hdp.hr
SUMMARY:Natječaj: Pjesnička rezidencija „Vesna Parun“ (rok: 31. ožujka 2022.)
DESCRIPTION:Dvotjedna književna rezidencija za hrvatske pjesnike i pjesnikinje organizira se na Zlarinu\, rodnom otoku Vesne Parun po kojoj projekt nosi ime. Obuhvaća boravak na otoku\, posjet zanimljivim lokalitetima u Šibensko-kninskoj županiji i minimalno jedno javno događanje u Šibeniku i/ili na Zlarinu. \nRok za podnošenje prijave: 31. ožujka 2022. u ponoć \nTrajanje rezidencije: 2 tjedna \nRazdoblje i mjesto provedbe: najkasnije do kraja rujna 2022. / otok Zlarin kod Šibenika \nUvjeti prijave:  \n\nPrijavitelji moraju imati objavljenu barem 1 zbirku poezije;\nPrijavitelji moraju imati najmanje 18 godina na datum podnošenja prijave;\nPrijavitelji moraju biti hrvatski državljani;\nPrijavitelj mora održati barem jedno javno predstavljanje tijekom rezidencije.\n\nŠto je ponuđeno: \n\nBoravak na otoku Zlarinu u privatnom smještaju;\nPokriveni troškovi putovanja i smještaja; \nHonorar;\nPromocija rezidenta na društvenim mrežama i u medijima; \nPodrška tijekom boravka.\n\nZa prijavu je potrebno poslati dokument u PDF ili Word formatu koji sadrži: \n\nŽivotopis (ne duži od jedne stranice);\nMotivacijsko pismo s obveznim obrazloženjem zašto prijavitelj želi boraviti na rezidenciji odnosno planom rada za vrijeme boravka.\n\nPrijave se šalju na fotopoetika@gmail.com \nIme odabranog rezidenta bit će proglašeno 10. travnja u Šibeniku prilikom proslave 100. obljetnice rođenja Vesne Parun i objavljeno na Facebook stranici organizatora projekta (Kulturna udruga Fotopoetika). Odabrani rezident također će biti obaviješten putem e-poruke. \nOvo je prva književna rezidencija na području Šibensko-kninske županije. Organizira se po drugi put i provodi uz financijsku potporu Ministarstva kulture i medija Republike Hrvatske.
URL:https://kritika-hdp.hr/dogadjaji/natjecaj-pjesnicka-rezidencija-vesna-parun-rok-31-ozujka-2022/
END:VEVENT
END:VCALENDAR