BEGIN:VCALENDAR
VERSION:2.0
PRODID:-//Kritika HDP - ECPv6.15.20//NONSGML v1.0//EN
CALSCALE:GREGORIAN
METHOD:PUBLISH
X-ORIGINAL-URL:https://kritika-hdp.hr
X-WR-CALDESC:Događaji za Kritika HDP
REFRESH-INTERVAL;VALUE=DURATION:PT1H
X-Robots-Tag:noindex
X-PUBLISHED-TTL:PT1H
BEGIN:VTIMEZONE
TZID:Europe/Zagreb
BEGIN:DAYLIGHT
TZOFFSETFROM:+0100
TZOFFSETTO:+0200
TZNAME:CEST
DTSTART:20220327T010000
END:DAYLIGHT
BEGIN:STANDARD
TZOFFSETFROM:+0200
TZOFFSETTO:+0100
TZNAME:CET
DTSTART:20221030T010000
END:STANDARD
BEGIN:DAYLIGHT
TZOFFSETFROM:+0100
TZOFFSETTO:+0200
TZNAME:CEST
DTSTART:20230326T010000
END:DAYLIGHT
BEGIN:STANDARD
TZOFFSETFROM:+0200
TZOFFSETTO:+0100
TZNAME:CET
DTSTART:20231029T010000
END:STANDARD
BEGIN:DAYLIGHT
TZOFFSETFROM:+0100
TZOFFSETTO:+0200
TZNAME:CEST
DTSTART:20240331T010000
END:DAYLIGHT
BEGIN:STANDARD
TZOFFSETFROM:+0200
TZOFFSETTO:+0100
TZNAME:CET
DTSTART:20241027T010000
END:STANDARD
END:VTIMEZONE
BEGIN:VEVENT
DTSTART;VALUE=DATE:20230206
DTEND;VALUE=DATE:20230207
DTSTAMP:20260423T132316
CREATED:20230122T185057Z
LAST-MODIFIED:20230122T185550Z
UID:7704-1675641600-1675727999@kritika-hdp.hr
SUMMARY:Promocija knjige Nataše Govedić: "Oscar Wilde izlazi iz zatvora ili ono što volite u umjetnosti zove se kritika"
DESCRIPTION:STVARANJE JE RITAM\n(…)\nRITAM JE UGLAVNOM NEFREKVENTIVAN\nGOVOR POSTOJI U SKRIVENOJ IZNIMIČNOSTI\nVlado Martek \n\nPromocija knjige Oscar Wilde izlazi iz zatvora ili ono što volite u umjetnosti zove se kritika autorice Nataše Govedić odvija se dana 6. veljače u 18h u MM centru\, u sklopu Studentskog centra\, tik do Teatra &TD. \nKnjigu je objavilo Hrvatsko društvo kazališnih kritičara i teatrologa\, njome pokrenuvši i novu biblioteku Polilog. \nO knjizi i o kritici\, slušanju i zvuku\, ritmu stvaranja\, razgovarat će Ivana Slunjski (njezina urednica i kritičarka)\, Marija Ott Franolić (knjigologinja i kritičarka)\, Ivana Đula (zvukologinja)\, Ana Brnardić (pjesnikinja) i autorica. \nOscar Wilde i A. G. Matoš in absentia\, ritmolozi.
URL:https://kritika-hdp.hr/dogadjaji/7704/
LOCATION:MM centar\, Savska cesta 25\, Zagreb\, Hrvatska\, 10000\, Croatia (Local Name: Hrvatska)
ATTACH;FMTTYPE=image/png:https://kritika-hdp.hr/wp-content/uploads/2023/01/Untitled-3.png
END:VEVENT
END:VCALENDAR