BEGIN:VCALENDAR
VERSION:2.0
PRODID:-//Kritika HDP - ECPv6.15.20//NONSGML v1.0//EN
CALSCALE:GREGORIAN
METHOD:PUBLISH
X-WR-CALNAME:Kritika HDP
X-ORIGINAL-URL:https://kritika-hdp.hr
X-WR-CALDESC:Događaji za Kritika HDP
REFRESH-INTERVAL;VALUE=DURATION:PT1H
X-Robots-Tag:noindex
X-PUBLISHED-TTL:PT1H
BEGIN:VTIMEZONE
TZID:Europe/Zagreb
BEGIN:DAYLIGHT
TZOFFSETFROM:+0100
TZOFFSETTO:+0200
TZNAME:CEST
DTSTART:20190331T010000
END:DAYLIGHT
BEGIN:STANDARD
TZOFFSETFROM:+0200
TZOFFSETTO:+0100
TZNAME:CET
DTSTART:20191027T010000
END:STANDARD
BEGIN:DAYLIGHT
TZOFFSETFROM:+0100
TZOFFSETTO:+0200
TZNAME:CEST
DTSTART:20200329T010000
END:DAYLIGHT
BEGIN:STANDARD
TZOFFSETFROM:+0200
TZOFFSETTO:+0100
TZNAME:CET
DTSTART:20201025T010000
END:STANDARD
BEGIN:DAYLIGHT
TZOFFSETFROM:+0100
TZOFFSETTO:+0200
TZNAME:CEST
DTSTART:20210328T010000
END:DAYLIGHT
BEGIN:STANDARD
TZOFFSETFROM:+0200
TZOFFSETTO:+0100
TZNAME:CET
DTSTART:20211031T010000
END:STANDARD
BEGIN:DAYLIGHT
TZOFFSETFROM:+0100
TZOFFSETTO:+0200
TZNAME:CEST
DTSTART:20220327T010000
END:DAYLIGHT
BEGIN:STANDARD
TZOFFSETFROM:+0200
TZOFFSETTO:+0100
TZNAME:CET
DTSTART:20221030T010000
END:STANDARD
BEGIN:DAYLIGHT
TZOFFSETFROM:+0100
TZOFFSETTO:+0200
TZNAME:CEST
DTSTART:20230326T010000
END:DAYLIGHT
BEGIN:STANDARD
TZOFFSETFROM:+0200
TZOFFSETTO:+0100
TZNAME:CET
DTSTART:20231029T010000
END:STANDARD
BEGIN:DAYLIGHT
TZOFFSETFROM:+0100
TZOFFSETTO:+0200
TZNAME:CEST
DTSTART:20240331T010000
END:DAYLIGHT
BEGIN:STANDARD
TZOFFSETFROM:+0200
TZOFFSETTO:+0100
TZNAME:CET
DTSTART:20241027T010000
END:STANDARD
BEGIN:DAYLIGHT
TZOFFSETFROM:+0100
TZOFFSETTO:+0200
TZNAME:CEST
DTSTART:20250330T010000
END:DAYLIGHT
BEGIN:STANDARD
TZOFFSETFROM:+0200
TZOFFSETTO:+0100
TZNAME:CET
DTSTART:20251026T010000
END:STANDARD
BEGIN:DAYLIGHT
TZOFFSETFROM:+0100
TZOFFSETTO:+0200
TZNAME:CEST
DTSTART:20260329T010000
END:DAYLIGHT
BEGIN:STANDARD
TZOFFSETFROM:+0200
TZOFFSETTO:+0100
TZNAME:CET
DTSTART:20261025T010000
END:STANDARD
BEGIN:DAYLIGHT
TZOFFSETFROM:+0100
TZOFFSETTO:+0200
TZNAME:CEST
DTSTART:20270328T010000
END:DAYLIGHT
BEGIN:STANDARD
TZOFFSETFROM:+0200
TZOFFSETTO:+0100
TZNAME:CET
DTSTART:20271031T010000
END:STANDARD
END:VTIMEZONE
BEGIN:VEVENT
DTSTART;VALUE=DATE:20260111
DTEND;VALUE=DATE:20260201
DTSTAMP:20260425T020203
CREATED:20260111T172114Z
LAST-MODIFIED:20260111T172146Z
UID:18777-1768089600-1769903999@kritika-hdp.hr
SUMMARY:HND: natječaj za najbolje novinarske radove objavljene 2025. godine
DESCRIPTION:Hrvatsko novinarsko društvo raspisalo je natječaj za najbolje novinarske radove objavljene u razdoblju od 1. siječnja do 31. prosinca 2025. godine. \nNagrade se dodjeljuju u sljedećim kategorijama: \nNagrada za životno djelo Otokar Keršovani \nNagrada Novinar godine/ Novinarka godine \nNagrada Marija Jurić-Zagorka: \n\nza pisano novinarstvo\nza radijsko novinarstvo\nza televizijsko novinarstvo\nza internetsko novinarstvo\n\nNagrada Jasna Babić za istraživačko novinarstvo \nNagrada za snimateljski rad Žarko Kaić \nNagrada za novinsku fotografiju Nikša Antonini \nNagrada Velebitska degenijaza najbolji novinarski rad s područja zaštite prirode i okoliša. \nAutore za nagradu HND-a mogu predlagati svi pojedinci\, svi ogranci\, zborovi\, županijska vijeća\, uredništva\, članovi HND-a te ocjenjivačke skupine\, Izvršni odbor HND-a i sami autori. \nPrijave se mogu slati putem online-obrasca na ovoj poveznici. \nPrijave se mogu slati i elektroničkom poštom na hnd@hnd.hr ili pisanim putem na adresu Hrvatskog novinarskog društva (Perkovčeva 2\, 10 000 Zagreb) s napomenom “Za godišnje novinarske nagrade”. Prijava može sadržavati maksimalno pet (5) radova po kandidatu/kinji. \nTelevizijske ili radijske snimke preporučljivo je slati u manjem formatu te ih je poželjno postaviti na neki od prikladnih servisa i omogućiti pristup putem poveznice. \nRok za prijavu je 31. siječnja 2026. godine.  \nIznimno od ove odredbe pravovaljanim i pravodobno dostavljenim kandidaturama smatrat će se i radovi koje članovi/ce upute poštom ako ih je HND primio u roku od tri (3) dana od dana isteka roka iz prethodnog stavka. Kandidature koje HND primi izvan navedenih rokova\, bez obzira na način dostave\, neće se uzeti u obzir. \nNovčani dio nagrade\, na koji pravo imaju redovni članovi HND-a\, odlukom Središnjeg odbora HND-a od 13. studenog 2024. privremeno se – dok traje obnova Novinarskog doma – neće dodjeljivati. \nNagrade se dodjeljuju prema Pravilniku o nagradama Hrvatskoga novinarskog društva\, Pravilniku o dodjeli nagrade Novinar/ Novinarka godine i Pravilniku o Nagradi Otokar Keršovani.
URL:https://kritika-hdp.hr/dogadjaji/hnd-natjecaj-za-najbolje-novinarske-radove-objavljene-2025-godine/
ATTACH;FMTTYPE=image/png:https://kritika-hdp.hr/wp-content/uploads/2026/01/download.png
END:VEVENT
BEGIN:VEVENT
DTSTART;VALUE=DATE:20230416
DTEND;VALUE=DATE:20230430
DTSTAMP:20260425T020203
CREATED:20230416T113333Z
LAST-MODIFIED:20230416T113602Z
UID:8539-1681610400-1682733599@kritika-hdp.hr
SUMMARY:Nagrada Lorenzo Natali za novinarstvo
DESCRIPTION:Nagrada Lorenzo Natali postoji već trideset godina – ustanovljena je 1992. godine i njezina svrha je poticanje i potpora pričama koje se bave bitnim problemima u svijetu\, poput nejednakosti\, siromaštva i klimatskih promjena\, važnim aspektima društva poput obrazovanja i vrijednosti ljudskih prava u našim društvima\, to jest svrha joj je\, kako već možemo nazrijeti\, potaknuti društvene promjene putem pisanja. \nRok za prijavu je 28. travnja. \nPrijaviti se možete na sljedećoj poveznici. \nViše informacija o nagradi\, prijavi i ostalome možete naći na sljedećoj poveznici.
URL:https://kritika-hdp.hr/dogadjaji/nagrada-lorenzo-natali-za-novinarstvo/
ATTACH;FMTTYPE=image/jpeg:https://kritika-hdp.hr/wp-content/uploads/2023/04/natali.jpg
END:VEVENT
BEGIN:VEVENT
DTSTART;VALUE=DATE:20200907
DTEND;VALUE=DATE:20200914
DTSTAMP:20260425T020203
CREATED:20200910T083116Z
LAST-MODIFIED:20220725T081102Z
UID:1229-1599436800-1600041599@kritika-hdp.hr
SUMMARY:Fažana Media Fest: tema Različitosti\, 7. - 13. 09.2020.
DESCRIPTION:Fažana Media Fest 2020 međunarodni je multimedijalni novinarski festival koji se drugu godinu zaredom održava u Fažani.\nFMF je zamišljen kao tradicionalno međunarodno okupljalište novinara gdje će se promovirati etička i profesionalna načela novinarstva kroz razne vidove stvaralaštva vezanog za medije i novinare. \nIdeja je da sastav sudionika i festivalski programi nedvosmisleno promoviraju antifašizam\, antinacionalizam\, suradnju i afirmaciju ljudskih prava te da promoviraju Fažanu kao prvo mjesto na svijetu koje je i službeno proglašeno – prijateljem novinara. \nGlavna tema ovogodišnjeg Fažana Media Festa su Različitosti.\nViše o programu na:\nhttps://fazanamediafest.eu/program/
URL:https://kritika-hdp.hr/dogadjaji/fazana-media-fest-tema-razlicitosti-7-13-092020/
LOCATION:Fažana
ATTACH;FMTTYPE=image/png:https://kritika-hdp.hr/wp-content/uploads/2020/09/fmfmlogo-300x51.png
END:VEVENT
END:VCALENDAR