BEGIN:VCALENDAR
VERSION:2.0
PRODID:-//Kritika HDP - ECPv6.15.20//NONSGML v1.0//EN
CALSCALE:GREGORIAN
METHOD:PUBLISH
X-ORIGINAL-URL:https://kritika-hdp.hr
X-WR-CALDESC:Događaji za Kritika HDP
REFRESH-INTERVAL;VALUE=DURATION:PT1H
X-Robots-Tag:noindex
X-PUBLISHED-TTL:PT1H
BEGIN:VTIMEZONE
TZID:Europe/Zagreb
BEGIN:DAYLIGHT
TZOFFSETFROM:+0100
TZOFFSETTO:+0200
TZNAME:CEST
DTSTART:20200329T010000
END:DAYLIGHT
BEGIN:STANDARD
TZOFFSETFROM:+0200
TZOFFSETTO:+0100
TZNAME:CET
DTSTART:20201025T010000
END:STANDARD
BEGIN:DAYLIGHT
TZOFFSETFROM:+0100
TZOFFSETTO:+0200
TZNAME:CEST
DTSTART:20210328T010000
END:DAYLIGHT
BEGIN:STANDARD
TZOFFSETFROM:+0200
TZOFFSETTO:+0100
TZNAME:CET
DTSTART:20211031T010000
END:STANDARD
BEGIN:DAYLIGHT
TZOFFSETFROM:+0100
TZOFFSETTO:+0200
TZNAME:CEST
DTSTART:20220327T010000
END:DAYLIGHT
BEGIN:STANDARD
TZOFFSETFROM:+0200
TZOFFSETTO:+0100
TZNAME:CET
DTSTART:20221030T010000
END:STANDARD
BEGIN:DAYLIGHT
TZOFFSETFROM:+0100
TZOFFSETTO:+0200
TZNAME:CEST
DTSTART:20230326T010000
END:DAYLIGHT
BEGIN:STANDARD
TZOFFSETFROM:+0200
TZOFFSETTO:+0100
TZNAME:CET
DTSTART:20231029T010000
END:STANDARD
BEGIN:DAYLIGHT
TZOFFSETFROM:+0100
TZOFFSETTO:+0200
TZNAME:CEST
DTSTART:20240331T010000
END:DAYLIGHT
BEGIN:STANDARD
TZOFFSETFROM:+0200
TZOFFSETTO:+0100
TZNAME:CET
DTSTART:20241027T010000
END:STANDARD
END:VTIMEZONE
BEGIN:VEVENT
DTSTART;VALUE=DATE:20230621
DTEND;VALUE=DATE:20230715
DTSTAMP:20260421T094343
CREATED:20230621T212954Z
LAST-MODIFIED:20230621T213258Z
UID:9129-1687312800-1689299999@kritika-hdp.hr
SUMMARY:Natječaj za Nagradu Janko Polić Kamov
DESCRIPTION:Hrvatsko društvo pisaca ustanovilo je 2014. godine Nagradu Janko Polić Kamov za najbolje književno djelo (proza\, poezija) napisano na hrvatskom jeziku.\nKriterij odabira prvenstveno je književna izvrsnost\, međutim nagrada također promiče inovativnost\, bilo u stilsko-jezičnom ili u tematskom smislu. \nOve godine u izbor za Nagradu Kamov ulaze djela objavljena u periodu od 1.07.2022. do 30.06.2023. godine. \nKnjige (4 primjerka) šalju se na adresu Hrvatskog društva pisaca (Basaričekova 24\, 10 000 Zagreb)\, uz napomenu “Za Nagradu Kamov” naznačenu na pošiljci\, a rok za slanje je petak\, 14.07.2023. (u slučaju dostave na adresu – od 9 do 14 sati). \nNagrada Kamov sastoji se od novčanog iznosa i statue. \nŽiri će objaviti listu finalista u listopadu\, a nagrada će biti dodijeljena u studenom\, na Kamovljev rođendan. \nNagrada se ove godine dodjeljuje u Rijeci.
URL:https://kritika-hdp.hr/dogadjaji/natjecaj-za-nagradu-janko-polic-kamov/
ATTACH;FMTTYPE=image/jpeg:https://kritika-hdp.hr/wp-content/uploads/2023/06/kamov.jpg
END:VEVENT
BEGIN:VEVENT
DTSTART;VALUE=DATE:20211205
DTEND;VALUE=DATE:20220101
DTSTAMP:20260421T094343
CREATED:20211205T121146Z
LAST-MODIFIED:20220724T202859Z
UID:1326-1638662400-1640995199@kritika-hdp.hr
SUMMARY:Natječaj "Goran za mlade pjesnike" (rok: 31.12.2021.)
DESCRIPTION:Raspisan je natječaj za nagradu “Goran za mlade pjesnike” za stimuliranje stvaralaštva mladih pjesnika u Republici Hrvatskoj i drugdje gdje postoji književna aktivnost na hrvatskom jeziku. \nUVJETI NATJEČAJA: \n1. U natječaju mogu sudjelovati pjesnikinje i pjesnici koji nisu stariji od 30 godina na dan zatvaranja natječaja i koji nikada nisu objavili knjigu poezije. \n2. Na natječaj je potrebno poslati cjelovit rukopis pjesničke zbirke u otvorenom (Word) dokumentu koji ne smije sadržavati ime autora/ice ni u jednom dijelu dokumenta. \n3. Uz rukopis treba poslati kratku biografiju s imenom i prezimenom na početku\, datum i godinu rođenja\, kontakt: broj telefona i adresu elektroničke pošte te točnu adresu stanovanja. \n4. Žiriranje će se odvijati anonimno\, bez uvida žirija u autorstvo pojedinih rukopisa. \n5. Žiri sastavljen od suvremenih hrvatskih književnika/ica i kritičara/ki predložit će najbolji rukopis za nagradu “Goran za mlade pjesnike”. Nagrađeni rukopis biti će objavljen u obliku knjige\, u ediciji Novi hrvatski pjesnici\, u izdanju SKUD-a Ivan Goran Kovačić. \n6. Osim nagrađenog autora/ice\, sudionici se neće pojedinačno izvještavati o ishodu natječaja. \n7. Rok za slanje pjesama je 31. prosinca 2021. \n8. Rukopise\,\, s naznakom „za nagradu: Goran za mlade pjesnike“ u naslovu poruke\, isključivo u elektronskom obliku\, slati na e-mail: natjecaj@igk.hr \n  \nDaljnje informacije dostupne su na sljedećoj poveznici: Goran za mlade pjesnike
URL:https://kritika-hdp.hr/dogadjaji/natjecaj-goran-za-mlade-pjesnike-rok-31122021/
ATTACH;FMTTYPE=image/jpeg:https://kritika-hdp.hr/wp-content/uploads/2021/12/goran-za-mlade_2021.jpg
END:VEVENT
END:VCALENDAR