BEGIN:VCALENDAR
VERSION:2.0
PRODID:-//Kritika HDP - ECPv6.15.20//NONSGML v1.0//EN
CALSCALE:GREGORIAN
METHOD:PUBLISH
X-WR-CALNAME:Kritika HDP
X-ORIGINAL-URL:https://kritika-hdp.hr
X-WR-CALDESC:Događaji za Kritika HDP
REFRESH-INTERVAL;VALUE=DURATION:PT1H
X-Robots-Tag:noindex
X-PUBLISHED-TTL:PT1H
BEGIN:VTIMEZONE
TZID:Europe/Zagreb
BEGIN:DAYLIGHT
TZOFFSETFROM:+0100
TZOFFSETTO:+0200
TZNAME:CEST
DTSTART:20200329T010000
END:DAYLIGHT
BEGIN:STANDARD
TZOFFSETFROM:+0200
TZOFFSETTO:+0100
TZNAME:CET
DTSTART:20201025T010000
END:STANDARD
BEGIN:DAYLIGHT
TZOFFSETFROM:+0100
TZOFFSETTO:+0200
TZNAME:CEST
DTSTART:20210328T010000
END:DAYLIGHT
BEGIN:STANDARD
TZOFFSETFROM:+0200
TZOFFSETTO:+0100
TZNAME:CET
DTSTART:20211031T010000
END:STANDARD
BEGIN:DAYLIGHT
TZOFFSETFROM:+0100
TZOFFSETTO:+0200
TZNAME:CEST
DTSTART:20220327T010000
END:DAYLIGHT
BEGIN:STANDARD
TZOFFSETFROM:+0200
TZOFFSETTO:+0100
TZNAME:CET
DTSTART:20221030T010000
END:STANDARD
END:VTIMEZONE
BEGIN:VEVENT
DTSTART;VALUE=DATE:20210105
DTEND;VALUE=DATE:20210302
DTSTAMP:20260419T151823
CREATED:20210105T112533Z
LAST-MODIFIED:20220725T080617Z
UID:1245-1609804800-1614643199@kritika-hdp.hr
SUMMARY:Natječaj "Čitanjem do uključivog društva" - rok 1. ožujka
DESCRIPTION:Ministarstvo kulture i medija objavilo je otvoreni privremeni poziv na dostavu projektnih prijedloga pod nazivom „Čitanjem do uključivog društva“.  \nProvedbom poziva doprinijet će se ostvarenju ciljeva “Nacionalne strategije poticanja čitanja” koju je Vlada usvojila 2017. godine za razdoblje do 2022. godine. Poziv se provodi u okviru Operativnog programa „Učinkoviti ljudski potencijali“ 2014. – 2020.\, a usmjeren je na povećanje socijalne uključenosti ranjivih skupina (djece i mladih do 25 godina\, osoba starijih od 54 godine\, nezaposlenih\, uključujući dugotrajno nezaposlene\, osoba s invaliditetom te pripadnika romske i drugih nacionalnih manjina) kroz razvoj čitalačke pismenosti. \nFinancirat će se aktivnosti pripreme i provedbe participativnih aktivnosti poticanja čitanja i razvoja čitalačkih kompetencija za pripadnike ciljanih skupina te aktivnosti podizanja javne svijesti o važnosti čitanja za osobni razvoj i društvenu integraciju. \nPrihvatljivi prijavitelji su narodne knjižnice te umjetničke organizacije\, udruge koje djeluju u području kulture i umjetnosti\, ustanove u kulturi i jedinice lokalne ili područne (regionalne) samouprave. \nUkupna financijska sredstva u okviru ovog poziva iznose 41.000.000\,00 HRK Udio financiranja po pojedinom projektu iznosi 100% prihvatljivih troškova\, od čega je 85% osigurano iz sredstava Europskog socijalnog fonda\, dok će obavezni udio nacionalnog sufinanciranja od 15% osigurati Ministarstvo kulture i medija iz državnog proračuna RH. \nRok za podnošenje projektnih prijedloga je 1. ožujka 2021. \nNatječajna dokumentacija dostupna je na sljedećim poveznicama: www.strukturnifondovi.hr\ni www.esf.hr \n“Nacionalna strategija poticanja čitranja” dostupna je na ovome linku. \n“Akcijski plan Nacionalne strategije poticanja čitanja” dostupan je na ovome linku.
URL:https://kritika-hdp.hr/dogadjaji/natjecaj-citanjem-do-ukljucivog-drustva-rok-1-ozujka/
ATTACH;FMTTYPE=image/jpeg:https://kritika-hdp.hr/wp-content/uploads/2021/01/itanje-do-ukljucivog-drustva-natjecaj.jpg
END:VEVENT
BEGIN:VEVENT
DTSTART;VALUE=DATE:20210105
DTEND;VALUE=DATE:20210302
DTSTAMP:20260419T151823
CREATED:20210105T113307Z
LAST-MODIFIED:20220725T080550Z
UID:1247-1609804800-1614643199@kritika-hdp.hr
SUMMARY:2021. - Godina čitanja
DESCRIPTION:Godina 2021. proglašena je u Hrvatskoj Godinom čitanja! Tu odluku donijela je Vlada RH na sjednici održanoj 30. prosinca 2020. na prijedlog Ministarstva kulture i medija. Realizacija je to mjere Akcijskog plana Nacionalne strategije poticanja čitanja\, koja je usvojena 2017.\, a koja bi trebala pridonijeti razvoju kulture čitanja. \nKako navode na stranicama Ministarstva kulture i medija\, “uslijed pandemije i smanjene mogućnosti organizacije i sudjelovanja u kulturnim događanjima\, na dosada uobičajene načine\, jedna od kulturnih djelatnosti koja bi u ovoj situaciji mogla priskrbiti više pozornosti i vremena jest upravo čitanje. Budući da je čitanje jedan od preduvjeta sudjelovanja u kulturi\, ono izravno i neizravno utječe na poboljšanje ukupne kvalitete života pojedinca i društva što nam je u ovim iznimnim okolnostima prijeko potrebno.” \nTijekom Godine čitanja osmislit će se i provoditi različite aktivnosti: dodijeliti nagrada za najbolju knjižaru\, objaviti natječaj za najbolju video najavu knjige za učenike osnovnih i srednjih škola\, proglasit će se „ambasadori čitanja“\, organizirati međunarodna konferencija o čitanju\, dodijeliti nagrada mladih za književnost\, organizirati „mala noćna čitanja“ i dr. \nTakođer\, otvoren je i veliki javni poziv “Čitanjem do uključivog društva” za dodijelu sredstava iz Europskog socijalnog fonda (uz participaciju Ministarstva kulture i medija. Pozivom će se financirati aktivnosti pripreme i provedbe participativnih aktivnosti poticanja čitanja i razvoja čitalačkih kompetencija za pripadnike ciljanih skupina te aktivnosti podizanja javne svijesti o važnosti čitanja za osobni razvoj i društvenu integraciju. Rok za podnošenje projektnih prijedloga je 1. ožujka 2021. \nNatječajna dokumentacija dostupna je na sljedećim poveznicama: www.strukturnifondovi.hr\ni www.esf.hr
URL:https://kritika-hdp.hr/dogadjaji/2021-godina-citanja/
ATTACH;FMTTYPE=image/jpeg:https://kritika-hdp.hr/wp-content/uploads/2021/01/godina-citanja-2021web.jpg
END:VEVENT
END:VCALENDAR