BEGIN:VCALENDAR
VERSION:2.0
PRODID:-//Kritika HDP - ECPv6.15.20//NONSGML v1.0//EN
CALSCALE:GREGORIAN
METHOD:PUBLISH
X-WR-CALNAME:Kritika HDP
X-ORIGINAL-URL:https://kritika-hdp.hr
X-WR-CALDESC:Događaji za Kritika HDP
REFRESH-INTERVAL;VALUE=DURATION:PT1H
X-Robots-Tag:noindex
X-PUBLISHED-TTL:PT1H
BEGIN:VTIMEZONE
TZID:Europe/Zagreb
BEGIN:DAYLIGHT
TZOFFSETFROM:+0100
TZOFFSETTO:+0200
TZNAME:CEST
DTSTART:20220327T010000
END:DAYLIGHT
BEGIN:STANDARD
TZOFFSETFROM:+0200
TZOFFSETTO:+0100
TZNAME:CET
DTSTART:20221030T010000
END:STANDARD
BEGIN:DAYLIGHT
TZOFFSETFROM:+0100
TZOFFSETTO:+0200
TZNAME:CEST
DTSTART:20230326T010000
END:DAYLIGHT
BEGIN:STANDARD
TZOFFSETFROM:+0200
TZOFFSETTO:+0100
TZNAME:CET
DTSTART:20231029T010000
END:STANDARD
BEGIN:DAYLIGHT
TZOFFSETFROM:+0100
TZOFFSETTO:+0200
TZNAME:CEST
DTSTART:20240331T010000
END:DAYLIGHT
BEGIN:STANDARD
TZOFFSETFROM:+0200
TZOFFSETTO:+0100
TZNAME:CET
DTSTART:20241027T010000
END:STANDARD
END:VTIMEZONE
BEGIN:VEVENT
DTSTART;TZID=Europe/Zagreb:20231015T100000
DTEND;TZID=Europe/Zagreb:20231116T000000
DTSTAMP:20260423T094232
CREATED:20231018T182533Z
LAST-MODIFIED:20231018T182702Z
UID:10018-1697364000-1700092800@kritika-hdp.hr
SUMMARY:Mjesec hrvatske knjige 2023.
DESCRIPTION:Svi programi dostupni su za pretraživanje na mrežnoj stranici manifestacije: www.mhk.hr. \nNa BookTube Mjeseca hrvatske knjige mogu se pronaći raznovrsni videosadržaji povezani s knjigama i čitanjem; u suradnji s Društvom hrvatskih književnih prevodilaca organizira se natjecanje u prevođenju za učenike 4. razreda jezičnih gimnazija; storytelling večer s prevoditeljima održat će se u tri grada – Zagrebu\, Splitu i Rijeci tijekom koje će prevoditelji se doslovno izložiti svjetlima pozornice. \nMeđu središnjim programima se već 25 godina održava Nacionalni kviz za poticanje čitanja\, koji se do 25. 10. 2022. rješava pod nazivom Pronađeni u prijevodu. Njega je predstavila voditeljica Hrvatskog centra za dječju knjigu Isabella Mauro\, istaknuvši da uz online izvore informacija\, kviz predstavlja tri knjige: Volker Mehnert\, Claudia Lieb: „Alexander von Humboldt“ u prijevodu Lare Hölbling Matković\, Stefan Boonen: „Nahoče iz Wammerswalda“ u prijevodu Svetlane Grubić Samaržija\, te Frances Hodgson Burnett: „Tajni vrt“ u prijevodu Ivana Otta. \n\nMHK možete pratiti i na Facebooku.
URL:https://kritika-hdp.hr/dogadjaji/mjesec-hrvatske-knjige-2023/
ATTACH;FMTTYPE=image/jpeg:https://kritika-hdp.hr/wp-content/uploads/2023/10/mhk-23-500-x-300-px-2-01-1.jpg
END:VEVENT
END:VCALENDAR