BEGIN:VCALENDAR
VERSION:2.0
PRODID:-//Kritika HDP - ECPv6.15.20//NONSGML v1.0//EN
CALSCALE:GREGORIAN
METHOD:PUBLISH
X-ORIGINAL-URL:https://kritika-hdp.hr
X-WR-CALDESC:Događaji za Kritika HDP
REFRESH-INTERVAL;VALUE=DURATION:PT1H
X-Robots-Tag:noindex
X-PUBLISHED-TTL:PT1H
BEGIN:VTIMEZONE
TZID:Europe/Zagreb
BEGIN:DAYLIGHT
TZOFFSETFROM:+0100
TZOFFSETTO:+0200
TZNAME:CEST
DTSTART:20200329T010000
END:DAYLIGHT
BEGIN:STANDARD
TZOFFSETFROM:+0200
TZOFFSETTO:+0100
TZNAME:CET
DTSTART:20201025T010000
END:STANDARD
BEGIN:DAYLIGHT
TZOFFSETFROM:+0100
TZOFFSETTO:+0200
TZNAME:CEST
DTSTART:20210328T010000
END:DAYLIGHT
BEGIN:STANDARD
TZOFFSETFROM:+0200
TZOFFSETTO:+0100
TZNAME:CET
DTSTART:20211031T010000
END:STANDARD
BEGIN:DAYLIGHT
TZOFFSETFROM:+0100
TZOFFSETTO:+0200
TZNAME:CEST
DTSTART:20220327T010000
END:DAYLIGHT
BEGIN:STANDARD
TZOFFSETFROM:+0200
TZOFFSETTO:+0100
TZNAME:CET
DTSTART:20221030T010000
END:STANDARD
BEGIN:DAYLIGHT
TZOFFSETFROM:+0100
TZOFFSETTO:+0200
TZNAME:CEST
DTSTART:20230326T010000
END:DAYLIGHT
BEGIN:STANDARD
TZOFFSETFROM:+0200
TZOFFSETTO:+0100
TZNAME:CET
DTSTART:20231029T010000
END:STANDARD
BEGIN:DAYLIGHT
TZOFFSETFROM:+0100
TZOFFSETTO:+0200
TZNAME:CEST
DTSTART:20240331T010000
END:DAYLIGHT
BEGIN:STANDARD
TZOFFSETFROM:+0200
TZOFFSETTO:+0100
TZNAME:CET
DTSTART:20241027T010000
END:STANDARD
BEGIN:DAYLIGHT
TZOFFSETFROM:+0100
TZOFFSETTO:+0200
TZNAME:CEST
DTSTART:20250330T010000
END:DAYLIGHT
BEGIN:STANDARD
TZOFFSETFROM:+0200
TZOFFSETTO:+0100
TZNAME:CET
DTSTART:20251026T010000
END:STANDARD
BEGIN:DAYLIGHT
TZOFFSETFROM:+0100
TZOFFSETTO:+0200
TZNAME:CEST
DTSTART:20260329T010000
END:DAYLIGHT
BEGIN:STANDARD
TZOFFSETFROM:+0200
TZOFFSETTO:+0100
TZNAME:CET
DTSTART:20261025T010000
END:STANDARD
BEGIN:DAYLIGHT
TZOFFSETFROM:+0100
TZOFFSETTO:+0200
TZNAME:CEST
DTSTART:20270328T010000
END:DAYLIGHT
BEGIN:STANDARD
TZOFFSETFROM:+0200
TZOFFSETTO:+0100
TZNAME:CET
DTSTART:20271031T010000
END:STANDARD
END:VTIMEZONE
BEGIN:VEVENT
DTSTART;VALUE=DATE:20260119
DTEND;VALUE=DATE:20260214
DTSTAMP:20260420T215947
CREATED:20260129T123739Z
LAST-MODIFIED:20260129T123804Z
UID:18866-1768780800-1771027199@kritika-hdp.hr
SUMMARY:Otvoren natječaj za dodjelu „Nagrada Iso Velikanović“ za 2025. godinu
DESCRIPTION:  \nMinistarstvo kulture i medija već puna dva desetljeća kontinuirano nagrađuje književne prevoditelje koji su svojim predanim radom obogatili hrvatsku kulturu\, prevodeći s brojnih stranih jezika te je učinili relevantnim dijelom svjetske književne scene. \nOtvoren je novi natječaj za dodjelu „Nagrade Iso Velikanović“ za 2025. godinu\, kojom će se nagraditi najbolja ostvarenja u području književnog prevođenja u protekloj godini. \nNagrada se dodjeljuje kao godišnje priznanje prevoditeljima za djela objavljena u njihovu prijevodu tijekom 2025. godine\, uz nagradu za životno djelo istaknutim prevoditeljima čiji je prevoditeljski rad obilježio vrijeme njihova djelovanja\, predstavlja zaokruženu cjelinu te čija djela i ostvarenja ostaju trajno dobro Republike Hrvatske. \nPrijedlozi s propisanom dokumentacijom dostavljaju se isključivo u elektroničkom obliku na adresu NagradaIsoVelikanovic@min-kulture.hr\n\, dok se primjerak knjige šalje na adresu Ministarstva kulture i medija\, Runjaninova 2\, Zagreb\, uz naznaku: Prijedlog za „Nagradu Iso Velikanović“. Rok za dostavu dokumentacije je 13. veljače 2026. godine. \nViše informacija o uvjetima prijave i potrebnoj dokumentaciji dostupno je na poveznici.
URL:https://kritika-hdp.hr/dogadjaji/otvoren-natjecaj-za-dodjelu-nagrada-iso-velikanovic-za-2025-godinu/
ATTACH;FMTTYPE=image/jpeg:https://kritika-hdp.hr/wp-content/uploads/2023/05/MKM-logo.jpg
END:VEVENT
BEGIN:VEVENT
DTSTART;VALUE=DATE:20251125
DTEND;VALUE=DATE:20260109
DTSTAMP:20260420T215947
CREATED:20251125T163638Z
LAST-MODIFIED:20251125T163718Z
UID:18132-1764028800-1767916799@kritika-hdp.hr
SUMMARY:Objavljen Javni poziv za dodjelu Nagrade za dramsko djelo „Marin Držić“ za 2025. godinu
DESCRIPTION:S ciljem poticanja hrvatskog dramskog i kazališnog stvaralaštva\, Ministarstvo kulture i medija već više od tri desetljeća objavljuje Javni poziv za dodjelu Nagrade za dramsko djelo „Marin Držić“.\n\nNa novi poziv za 2025. godinu\, mogu se prijaviti autori s novim dramskim djelima pisanima hrvatskim jezikom koja do objave odluke Stručnoga povjerenstva nisu izvedena ni objavljena u bilo kojem obliku. Svaki autor može prijaviti jedno djelo neovisno o vrsti i tematici djela. Dramska djela prijavljuju se pod šifrom što osigurava nepristranost i objektivnost prilikom razmatranja prijavljenih djela. \nPrijave na temelju ovoga Poziva podnose se u roku od 45 dana od dana objave. Rezultati će biti objavljeni na mrežnoj stranici Ministarstva kulture i medija Republike Hrvatske. \nViše u tekstu Javnog poziva: https://min-kulture.gov.hr/?id=28854.
URL:https://kritika-hdp.hr/dogadjaji/objavljen-javni-poziv-za-dodjelu-nagrade-za-dramsko-djelo-marin-drzic-za-2025-godinu/
ATTACH;FMTTYPE=image/jpeg:https://kritika-hdp.hr/wp-content/uploads/2023/05/MKM-logo.jpg
END:VEVENT
BEGIN:VEVENT
DTSTART;VALUE=DATE:20250110
DTEND;VALUE=DATE:20250215
DTSTAMP:20260420T215947
CREATED:20250128T072741Z
LAST-MODIFIED:20250128T073007Z
UID:14230-1736467200-1739577599@kritika-hdp.hr
SUMMARY:Natječaj za dodjelu „Nagrade Iso Velikanović“ za 2024. godinu (Rok: 14. veljače 2025. godine)
DESCRIPTION:Na temelju odredbe točke 5. Odluke o „Nagradi Iso Velikanović“ („Narodne novine“\, broj 82/05\, 120/14 i 21/17) Odbor „Nagrade Iso Velikanović“ raspisuje \nNatječaj za dodjelu „Nagrade Iso Velikanović“ za 2024. godinu\n1. „Nagrada Iso Velikanović“ dodjeljuje se kao nagrada Ministarstva kulture i medija za najbolja ostvarenja u području književnog prevodilaštva. \n2. Nagrada se dodjeljuje kao: \n2.1. godišnja nagrada prevoditeljima koji su državljani Republike Hrvatske za djela koja su u njihovu prijevodu bila objavljena u 2024. godini. \n2.2. nagrada za životno djelo istaknutim prevoditeljima koji su svojim prevoditeljskim radom obilježili vrijeme u kojem su djelovali i čiji rad čini zaokruženu cjelinu\, a njihova djela i ostvarenja ostaju trajno dobro Republike Hrvatske. \n3. Prijedloge za dodjelu „Nagrade Iso Velikanović“ mogu podnijeti građani\, udruge građana\, ustanove\, trgovačka društva\, tijela državne vlasti\, tijela lokalne i područne (regionalne) samouprave\, vjerske zajednice i druge osobe. \n4. Prijedlog za svakog kandidata treba sadržavati: \n\nživotopis i bibliografiju kandidata\nza godišnju nagradu – stručnu recenziju prijevoda i jedan primjerak knjige u tiskanom obliku\, završni prijelom u PDF-u te tekst izvornika u PDF-u\nza nagradu za životno djelo – temeljito obrazloženje prijedloga.\n\n5. Prijedlozi sa svom traženom dokumentacijom dostavljaju se isključivo u elektroničkom obliku na adresu NagradaIsoVelikanovic@min-kulture.hr\, a primjerak knjige osobno ili poštom na adresu Ministarstva kulture i medija\, Zagreb\, Runjaninova 2\, s naznakom: Prijedlog za „Nagradu Iso Velikanović“. \n6. Rok za dostavu dokumentacije je 14. veljače 2025. Sve prijave pristigle izvan tog roka neće biti razmatrane.
URL:https://kritika-hdp.hr/dogadjaji/natjecaj-za-dodjelu-nagrade-iso-velikanovic-za-2024-godinu-rok-14-veljace-2025-godine/
ATTACH;FMTTYPE=image/jpeg:https://kritika-hdp.hr/wp-content/uploads/2023/05/MKM-logo.jpg
END:VEVENT
BEGIN:VEVENT
DTSTART;TZID=Europe/Zagreb:20240606T100000
DTEND;TZID=Europe/Zagreb:20240706T010000
DTSTAMP:20260420T215947
CREATED:20240606T140116Z
LAST-MODIFIED:20240606T140222Z
UID:11815-1717668000-1720227600@kritika-hdp.hr
SUMMARY:Javni poziv za dodjelu stimulacija autorima za najbolja ostvarenja na području književnog stvaralaštva i književnog prevodilaštva u 2022. i 2023. godini
DESCRIPTION:  \nNa ovaj Poziv mogu se prijaviti autori s prijedlogom književnih djela čije je prvo izdanje objavljeno na hrvatskom jeziku kod izdavača registriranih u Republici Hrvatskoj u razdoblju od 1. siječnja 2022.  do 31. prosinca 2023. godine. Za potpuni tekst natječaja slijedite poveznicu: Poziv. \nPrijaviti se mogu književna djela napisana izvorno na hrvatskom jeziku ili književna djela prevedena na hrvatski jezik.\nSvaki predlagatelj može prijaviti neograničen broj djela neovisno o njihovoj tematici. Djela se prijavljuju pod punim imenom i prezimenom autora\, odnosno prevoditelja.\nJednom autoru ili prevoditelju može se putem ovog Javnog poziva dodijeliti samo jedna stimulacija\, a ako knjiga ima više autora (npr. pisac teksta i ilustrator) stimulacija se može podijeliti na više dijelova. \na) Autorima književnih djela dodijelit će se do 20 stimulacija u sljedećim kategorijama:\n  \nknjiga proze (roman\, knjiga priča\, esej)\n zbirka poezije\n strip i knjiga za djecu i mlade \nStimulacije se neće dodjeljivati za publicistička\, znanstvena i stručna djela.\nPojedinačna stimulacija sastoji se od novčanog iznosa od 2.000\,00 € neto koji se dodjeljuje autoru odabranog djela. Ako se dodjeljuje za djelo više autora stimulacija se može podijeliti na više dijelova (npr. pisac teksta i ilustrator).  Za svako se djelo po dogovoru prijavljuje samo jedan od autora koji će kasnije sa suautorima podijeliti eventualno dodijeljenu stimulaciju. Suatori obavezno moraju biti navedeni na knjizi. \nb) Prevoditeljima će se dodijeliti do 10 stimulacija za književne prijevode sa suvremenih jezika u sljedećim kategorijama: \nknjiga proze (roman\, knjiga priča\, esej)\nzbirka poezije\nstrip i knjiga za djecu i mlade \nPojedinačna stimulacija sastoji se od novčanog iznosa od 2.000\,00 € neto koji se dodjeljuje odabranom prevoditelju odabranog djela. Ako je za stimulaciju odabrano književno djelo koje je prevelo više prevoditelja\, stimulacija se može podijeliti na više dijelova (za svako se djelo po dogovoru prijavljuje samo jedan od prevoditelja koji će kasnije s koprevoditeljima podijeliti eventualno dodijeljenu stimulaciju). Svi koprevoditelji moraju biti navedeni na knjizi. \nKnjige\, koje se prijavljuju na Javni poziv\, dostavljaju se u elektroničkom obliku (završni prijelom u PDF-u) prilaganjem uz e-prijavnicu ili fizički u 5 primjerka Ministarstvu kulture i medija\, Zagreb\, Runjaninova 2 s napomenom: Za dodjelu stimulacija za najbolja ostvarenja na području književnog i prevoditeljskog stvaralaštva za 2022. i 2023. godinu\, s obaveznom naznakom kategorije za koju se djelo prijavljuje te naznačivanjem jezika s kojeg je djelo prevedeno.\nPrijave za koje nisu dostavljeni primjerci knjiga u elektroničkom ili fizičkom obliku neće se uzeti u razmatranje.\nPrimjerci knjiga pristiglih na Javni poziv neće se vraćati podnositeljima. \n\nePisarnica\nTablica: podaci o dodijeljenim nagradama\, sudjelovanju na festivalima i objavljenim kritikama
URL:https://kritika-hdp.hr/dogadjaji/javni-poziv-za-dodjelu-stimulacija-autorima-za-najbolja-ostvarenja-na-podrucju-knjizevnog-stvaralastva-i-knjizevnog-prevodilastva-u-2022-i-2023-godini/
ATTACH;FMTTYPE=image/jpeg:https://kritika-hdp.hr/wp-content/uploads/2023/05/MKM-logo.jpg
END:VEVENT
BEGIN:VEVENT
DTSTART;TZID=Europe/Zagreb:20231103T090000
DTEND;TZID=Europe/Zagreb:20231218T180000
DTSTAMP:20260420T215947
CREATED:20231119T154600Z
LAST-MODIFIED:20231119T154653Z
UID:10255-1699002000-1702922400@kritika-hdp.hr
SUMMARY:Javni poziv za dodjelu Nagrade za dramsko djelo „Marin Držić“ za 2023. godinu
DESCRIPTION:Ministarstvo kulture i medija Republike Hrvatske na temelju članka 4. i članka 7. Zakon o kulturnim vijećima i financiranju javnih potreba u kulturi („Narodne novine“ broj 83/22)\, a u svrhu poticanja i promicanja hrvatskoga dramskog i kazališnog stvaralaštva\, objavljuje\n\nJavni poziv\nza dodjelu Nagrade za dramsko djelo „Marin Držić“ za 2023. godinu\n\nI.\nNa ovaj Javni poziv mogu se prijaviti autori s novim dramskim djelima pisanima hrvatskim jezikom koja do objave odluke Stručnoga povjerenstva\, nisu izvedena ni objavljena u bilo kojem obliku. Svaki autor može prijaviti jedno djelo neovisno o vrsti i tematici djela.\nII.\nDramska djela prijavljuju se pod ŠIFROM\, koja treba biti čitko napisana na prvoj stranici djela kao i na priloženoj zatvorenoj kuverti u kojoj se dostavljaju podaci o autoru: ime i prezime\, adresa\, broj telefona\, adresa e-pošte i OIB. Kuverte će biti otvorene javno nakon konačne odluke Stručnoga povjerenstva\, u prisutnosti članova Stručnog povjerenstva i predstavnika Ministarstva kulture i medija. Nepotpune prijave i one koje nisu u skladu s propozicijama Javnoga poziva neće se razmatrati. \nIII.\nPrijavljena dramska djela ocjenjuje Stručno povjerenstvo koje imenuje ministrica kulture i medija. Dodjeljuju se prva\, druga i treća nagrada. \nIV.\nNagrada se sastoji od novčanog iznosa koji određuje ministrica kulture i medija te prigodne brončane skulpture. \nV.\nZa praizvedbu djela nagrađenih na temelju ovoga Poziva kazališta će biti posebno stimulirana. \nVI.\nPrijavom na Poziv smatra se da je autor dramskoga djela suglasan da se sva imovinska autorska prava za prvo izdanje nagrađenoga dramskog djela prenose bez naknade na Ministarstvo kulture i medija\, koje će nagrađena dramska djela izdati u okviru edicije „Nagrada Marin Držić“. \nVII.\nTekstovi za koje se raspisuje Poziv dostavljaju se u tri primjerka Ministarstvu kulture i medija\, Zagreb\, Runjaninova 2\, s napomenom: Za Nagradu „Marin Držić“. \nVIII.\nNenagrađena dramska djela vraćaju se autorima na njihov zahtjev u roku od 30 dana od pisane obavijesti o završetku postupka Poziva. Jedan primjerak svakoga djela Ministarstvo zadržava u svojoj dokumentaciji. \nIX.\nPrijave na temelju ovoga Poziva podnose se u roku od 45 dana od dana objave u „Narodnim novinama“. Rezultati će biti objavljeni na mrežnoj stranici Ministarstva kulture i medija Republike Hrvatske.
URL:https://kritika-hdp.hr/dogadjaji/javni-poziv-za-dodjelu-nagrade-za-dramsko-djelo-marin-drzic-za-2023-godinu/
ATTACH;FMTTYPE=image/jpeg:https://kritika-hdp.hr/wp-content/uploads/2023/05/MKM-logo.jpg
END:VEVENT
BEGIN:VEVENT
DTSTART;TZID=Europe/Zagreb:20230904T080000
DTEND;TZID=Europe/Zagreb:20231005T170000
DTSTAMP:20260420T215947
CREATED:20230919T184119Z
LAST-MODIFIED:20230919T184203Z
UID:9784-1693814400-1696525200@kritika-hdp.hr
SUMMARY:Javni poziv za predlaganje javnih potreba u kulturi Republike Hrvatske za 2024. godinu (Rok: 5. listopada 2023.)
DESCRIPTION:Ministarstvo kulture i medija Republike Hrvatske objavilo je Javni poziv za predlaganje javnih potreba u kulturi Republike Hrvatske za 2024. godinu! \nSredstva iz proračuna Republike Hrvatske osigurana za financiranje javnih potreba u kulturi namijenjena su potpori programima i projektima\, aktivnostima i manifestacijama u kulturi od interesa za Republiku Hrvatsku. \nNa ovaj Javni poziv mogu se prijaviti ustanove u kulturi\, umjetničke organizacije\, umjetnici\, udruge\, druge fizičke i pravne osobe te jedinice lokalne i područne (regionalne) samouprave. \nPosebna pozornost bit će posvećena ispunjavanju osnovnih prioriteta i ciljeva kulturnog razvitka: jačanje suvremenog umjetničkog stvaralaštva i produkcije te njezino pozicioniranje u odnosu na europski kontekst\, poticanje mobilnosti i međukulturnog dijaloga\, razvijanje dugoročnih partnerskih suradnji\, stručna utemeljenost i visoka razina kvalitete\, uključenost lokalne zajednice\, osiguranje temeljne kulturne infrastrukture\, zaštita\, očuvanje i održivo upravljanje kulturnom baštinom\, ekonomičnost te kontinuitet u djelovanju predlagatelja programa i projekata. \nPrijave za financiranje javnih potreba u kulturi podnose se elektroničkim putem na odgovarajućim e-obrascima (za svako programsko područje posebna e-prijavnica te za međunarodnu kulturnu suradnju za svaku zemlju posebna e-prijavnica) koji su dostupni na mrežnim stranicama Ministarstva kulture i medija: https://e-prijavnice.min-kulture.hr/e-pisarnica. Uz svaku elektronički popunjenu e-prijavnicu potrebno je učitati\, odnosno pohraniti\, svu propisanu popratnu dokumentaciju u digitalnom obliku. \nCjelokupni tekst Javnog natječaja\, uvjeta i ostalih detalja možete naći na: Javni natječaj.
URL:https://kritika-hdp.hr/dogadjaji/javni-poziv-za-predlaganje-javnih-potreba-u-kulturi-republike-hrvatske-za-2024-godinu-rok-5-listopada-2023/
ATTACH;FMTTYPE=image/jpeg:https://kritika-hdp.hr/wp-content/uploads/2023/05/MKM-logo.jpg
END:VEVENT
BEGIN:VEVENT
DTSTART;TZID=Europe/Zagreb:20230515T100000
DTEND;TZID=Europe/Zagreb:20230612T190000
DTSTAMP:20260420T215947
CREATED:20230515T195950Z
LAST-MODIFIED:20230515T200356Z
UID:8838-1684144800-1686596400@kritika-hdp.hr
SUMMARY:Javni poziv za dodjelu stimulacija autorima za najbolja ostvarenja na području književnog stvaralaštva i književnog prevodilaštva u 2021. i 2022. godini
DESCRIPTION:Objavljen Javni poziv za dodjelu stimulacija autorima za najbolja ostvarenja na području književnog stvaralaštva i književnog prevodilaštva u 2021. i 2022. godini. \nNa ovaj se Poziv mogu prijaviti autori s prijedlogom književnih djela čije je prvo izdanje objavljeno na hrvatskom jeziku kod izdavača registriranih u Republici Hrvatskoj u razdoblju od 1. siječnja 2021. do 31. prosinca 2022. godine. \nPrijaviti se mogu književna djela napisana izvorno na hrvatskom jeziku ili književna djela prevedena na hrvatski jezik.\n \nDo 20 stimulacija dodijelit će se autorima književnih djela izvorno napisanih na hrvatskom jeziku\, dok će se prevoditeljima za književne prijevode sa suvremenih jezika dodijeliti do 10 stimulacija i to za prozna i poetska djela te stripove i knjige namijenjene djeci i mladima. Stimulacije se neće dodjeljivati za publicistička\, znanstvena i stručna djela.\n \nPrijave se podnose elektroničkim putem\, ispunjavanjem eprijavnice br. 36 za prijavu svake pojedinačne knjige. Prijave na ovaj Poziv primaju se do 12. lipnja 2023. godine\, do 17 sati.
URL:https://kritika-hdp.hr/dogadjaji/javni-poziv-za-dodjelu-stimulacija-autorima-za-najbolja-ostvarenja-na-podrucju-knjizevnog-stvaralastva-i-knjizevnog-prevodilastva-u-2021-i-2022-godini/
ATTACH;FMTTYPE=image/jpeg:https://kritika-hdp.hr/wp-content/uploads/2023/05/MKM-logo.jpg
END:VEVENT
BEGIN:VEVENT
DTSTART;VALUE=DATE:20230214
DTEND;VALUE=DATE:20231108
DTSTAMP:20260420T215947
CREATED:20230302T212024Z
LAST-MODIFIED:20230802T202157Z
UID:9419-1676336400-1699318799@kritika-hdp.hr
SUMMARY:Otvoren Javni poziv za financiranje oglednih prijevoda djela hrvatskih autora na strane jezike u 2023. (Rok: 6.11.2023.)
DESCRIPTION:Ogledni prijevod koji se prijavljuje na Javni poziv mora biti prvi prijevod izvornog književnog ili neknjiževnog djela napisanog hrvatskim jezikom na određeni strani jezik. Poželjni su ogledni prijevodi na engleski jezik\, ali su prihvatljivi i drugi jezici s izrazitim promidžbenim potencijalom. U 2023. godini\, s obzirom na planirana predstavljanja na međunarodnim sajmovima knjiga u Madridu i Guadalajari\, naročita se pozornost posvećuje izradi i financiranju oglednih prijevoda na španjolski jezik. \nNa Javni se poziv mogu prijaviti fizičke i pravne osobe registrirane za izdavačku djelatnost\, zastupanje/posredovanje i/ili prodaju autorskih prava koji su do sada zaključili najmanje pet ugovora za prodaju izdavačkih prava hrvatskih autora. Prijavitelji moraju biti nositelji autorskih prava za djela koja prijavljuju na ovaj Javni poziv ili moraju posjedovati pismenu izjavu nositelja autorskih prava da su suglasni s izradom i korištenjem oglednog prijevoda u skladu s ciljevima Javnog poziva. \nPrijave na ovaj Javni poziv primaju se od datuma objave do 6. studenoga 2023. godine\, isključivo elektroničkim putem na adresu elektroničke pošte: translation-grants@min-kulture.hr. \nViše o uvjetima prijave te potrebnoj dokumentaciji potražite na: https://min-kulture.gov.hr/?id=23529.
URL:https://kritika-hdp.hr/dogadjaji/otvoren-javni-poziv-za-financiranje-oglednih-prijevoda-djela-hrvatskih-autora-na-strane-jezike-u-2023-rok-6-11-2023/
ATTACH;FMTTYPE=image/jpeg:https://kritika-hdp.hr/wp-content/uploads/2023/05/MKM-logo.jpg
END:VEVENT
BEGIN:VEVENT
DTSTART;VALUE=DATE:20230123
DTEND;VALUE=DATE:20230218
DTSTAMP:20260420T215947
CREATED:20230123T145816Z
LAST-MODIFIED:20230123T154202Z
UID:7775-1674432000-1676678399@kritika-hdp.hr
SUMMARY:Otvoren natječaj za dodjelu „Nagrade Iso Velikanović“ za 2022. godinu
DESCRIPTION:Otvoren je natječaj za dodjelu „Nagrade Iso Velikanović“ za 2022. godinu\, kojom će Ministarstvo kulture i medija nagraditi najbolja ostvarenja u području prevodilaštva u protekloj godini. Rok za predaju prijava je 17. veljače 2023. godine. \nPriznanje je to ustanovljeno 2005. godine kao poticaj poboljšanju kvalitete i vrijednosti književnih prijevoda te stvaranju hrvatske prijevodne literature kako bi se istaknula važnost prevodilačke struke. Nagrada se dodjeljuje kao godišnja nagrada za najbolji prijevod objavljen u protekloj godini i kao nagrada za životno djelo istaknutim prevoditeljima koji su svojim prevoditeljskim radom obilježili vrijeme u kojem su djelovali i čiji rad čini zaokruženu cjelinu\, a njihova djela ostaju trajno kulturno dobro Republike Hrvatske. \nPrijedlozi sa svom traženom dokumentacijom dostavljaju se isključivo u elektroničkom obliku na adresu NagradaIsoVelikanovic@min-kulture.hr\, a primjerak knjige osobno ili poštom na adresu Ministarstva kulture i medija\, Zagreb\, Runjaninova 2\, s naznakom: Prijedlog za „Nagradu Iso Velikanović“. \nTekst natječaja potražite na: https://min-kulture.gov.hr/?id=23414.
URL:https://kritika-hdp.hr/dogadjaji/otvoren-natjecaj-za-dodjelu-nagrade-iso-velikanovic-za-2022-godinu/
ATTACH;FMTTYPE=image/jpeg:https://kritika-hdp.hr/wp-content/uploads/2022/09/MKM-logo.jpg
END:VEVENT
BEGIN:VEVENT
DTSTART;VALUE=DATE:20220713
DTEND;VALUE=DATE:20220916
DTSTAMP:20260420T215947
CREATED:20220704T123758Z
LAST-MODIFIED:20220805T104811Z
UID:1396-1657670400-1663286399@kritika-hdp.hr
SUMMARY:Javni poziv za dodjelu potpora za poticanje književnoga stvaralaštva u 2023. godini (rok: 15. rujna 2022.)
DESCRIPTION:1.\nMinistarstvo kulture i medija dodjeljivat će potpore autorima za: \n\nknjiževno-umjetnički rad\nprijevode na hrvatski jezik djela koja predstavljaju opća kulturna dostignuća\n\nPotpora se neće dodjeljivati autorima za publicistička i stručna djela te za pripremu znanstvenih radova.\n2.\nPravo podnošenja ponuda na Javni poziv imaju fizičke osobe\, državljani Republike Hrvatske.\n3.\nDodjeljivat će se sljedeće potpore: \n\ngodišnje potpore u pojedinačnom iznosu od 84.000\,00 kn\npolugodišnje potpore u pojedinačnom iznosu od 42.000\,00 kn\ntromjesečne potpore u iznosu od 21.000\,00 kn\n\nPotpore će se isplaćivati autorima u mjesečnim obrocima od 7.000\,00 kn \nAutori se nemaju pravo prijaviti na Javni poziv za poticanje književnoga stvaralaštva:\n– prije nego što bude objavljena knjiga za koju su zadnji put koristili ovu potporu\n– ako je Ministarstvo kulture i medija nakladniku već odobrilo potporu za izdavanje prijavljenog naslova ili ako se nakladnik prijavljuje za potporu izdavanju toga djela u istoj godini. \n4.\nUz eprijavnicu\, kratki životopis i bibliografiju\, autori su dužni dostaviti detaljan opis projekta – sinopsis\, ogledni arak te dvije potpisane recenzije prijavljenoga autorskog projekta. Recenzenti moraju biti relevantni stručnjaci za navedena područja i to književni kritičar ili teoretičar te urednik ili izdavač. \nPrijava s kompletnom dokumentacijom (ogledni arak i sinopsis\, životopis i bibliografija te dvije recenzije) podnosi se isključivo elektronički\, putem sustava eprijavnica. \nSinopsis i ogledni arak u nazivu i tijelu teksta ne smiju sadržavati ime autora radi prvog dijela procesa vrednovanja koji se odvija anonimno.\nRecenzije moraju biti potpisane. \nAutori koji se ponovno prijavljuju moraju uz svoju prijavu dostaviti primjerak objavljene knjige za koju su zadnji put koristili potporu za poticanje književnog stvaralaštva ako je nisu ranije dostavili Ministarstvu kulture i medija. \n5.\nSve u roku pristigle prijave s potpunom dokumentacijom razmotrit će posebno formirano povjerenstvo te uputiti prijedlog ministrici koja će donijeti odluku o dodjeli potpora autorima.\nS korisnikom potpore za poticanje književnoga stvaralaštva sklopit će se ugovor kojim će se urediti prava i obveze autora i Ministarstva. \n6.\nNepotpune prijave te prijave pristigle izvan roka neće se razmatrati.\nSva pitanja vezana uz ovaj Poziv mogu se postaviti elektroničkim putem\, slanjem upita na sljedeću adresu: knjizevno.stvaralastvo@min-kulture.hr . \n7.\nPrijave na ovaj javni poziv mogu se podnositi od dana objave do 15. rujna 2022. godine.
URL:https://kritika-hdp.hr/dogadjaji/javni-poziv-za-dodjelu-potpora-za-poticanje-knjizevnoga-stvaralastva-u-2023-godini-rok-15/
ATTACH;FMTTYPE=image/jpeg:https://kritika-hdp.hr/wp-content/uploads/2022/07/MKM-logo.jpg
END:VEVENT
BEGIN:VEVENT
DTSTART;VALUE=DATE:20210304
DTEND;VALUE=DATE:20210327
DTSTAMP:20260420T215947
CREATED:20210304T121545Z
LAST-MODIFIED:20220725T075908Z
UID:1262-1614816000-1616803199@kritika-hdp.hr
SUMMARY:Poziv za predlaganje programa za poticanje čitanja i razvoj čitateljske publike MKM - rok 26. ožujka 2021.
DESCRIPTION:Ministarstvo kulture i medija objavilo je “Javni poziv za predlaganje programa koji potiču čitanje i razvoj čitateljske publike u Republici Hrvatskoj za 2021. godinu”. Program se odvija u sklopu aktivnosti vezanih uz Godinu čitanja\, a pod sloganom “Čitajmo da ne ostanemo bez riječi”. \nKako piše u pozivu: “Cilj je povećanje broja i vidljivosti programa koji omogućuju promicanje kulture čitanja i poticanje čitateljskih navika među građanima svih dobi\, razvoj čitalačkih kompetencija i aktivnosti podizanja svijesti o važnosti čitanja\, dostupnost kulturnim i umjetničkim sadržajima vezanim za čitanje i kreiranje procesa koji će podići razinu aktivnoga sudjelovanja u kulturi čitanja i učiniti čitanje dostupnijim”. Programi se mogu odnositi na sva područja kulture i umjetnosti: izvedbene i vizualne umjetnosti\, književnost\, kulturnu baštinu i film te programe međunarodne kulturne suradnje. Ističe se i da se posebna pozornost posvećuje interdisciplinarnim i multimedijalnim programima koji nastoje povezati čitanje s drugim područjima društvenog djelovanja. \nPrijaviti se mogu samostalni umjetnici\, umjetničke organizacije\, ustanove u kulturi\, pravne i fizičke osobe koje obavljaju djelatnosti u kulturi na području RH\, udruge\, jedinice lokalne i područne (regionalne) samouprave i ustanove koje obavljaju djelatnost umjetničkog obrazovanja. \nPrijave se mogu podnositi od 26. veljače do 26. ožujka 2021. godine.\n  \nViše o natječaju pogledajte na ovoj poveznici.
URL:https://kritika-hdp.hr/dogadjaji/poziv-za-predlaganje-programa-za-poticanje-citanja-i-razvoj-citateljske-publike-mkm-rok-26/
ATTACH;FMTTYPE=image/jpeg:https://kritika-hdp.hr/wp-content/uploads/2021/03/poticanje-citanja-poziv.jpg
END:VEVENT
END:VCALENDAR