BEGIN:VCALENDAR
VERSION:2.0
PRODID:-//Kritika HDP - ECPv6.15.20//NONSGML v1.0//EN
CALSCALE:GREGORIAN
METHOD:PUBLISH
X-WR-CALNAME:Kritika HDP
X-ORIGINAL-URL:https://kritika-hdp.hr
X-WR-CALDESC:Događaji za Kritika HDP
REFRESH-INTERVAL;VALUE=DURATION:PT1H
X-Robots-Tag:noindex
X-PUBLISHED-TTL:PT1H
BEGIN:VTIMEZONE
TZID:Europe/Zagreb
BEGIN:DAYLIGHT
TZOFFSETFROM:+0100
TZOFFSETTO:+0200
TZNAME:CEST
DTSTART:20210328T010000
END:DAYLIGHT
BEGIN:STANDARD
TZOFFSETFROM:+0200
TZOFFSETTO:+0100
TZNAME:CET
DTSTART:20211031T010000
END:STANDARD
BEGIN:DAYLIGHT
TZOFFSETFROM:+0100
TZOFFSETTO:+0200
TZNAME:CEST
DTSTART:20220327T010000
END:DAYLIGHT
BEGIN:STANDARD
TZOFFSETFROM:+0200
TZOFFSETTO:+0100
TZNAME:CET
DTSTART:20221030T010000
END:STANDARD
BEGIN:DAYLIGHT
TZOFFSETFROM:+0100
TZOFFSETTO:+0200
TZNAME:CEST
DTSTART:20230326T010000
END:DAYLIGHT
BEGIN:STANDARD
TZOFFSETFROM:+0200
TZOFFSETTO:+0100
TZNAME:CET
DTSTART:20231029T010000
END:STANDARD
BEGIN:DAYLIGHT
TZOFFSETFROM:+0100
TZOFFSETTO:+0200
TZNAME:CEST
DTSTART:20240331T010000
END:DAYLIGHT
BEGIN:STANDARD
TZOFFSETFROM:+0200
TZOFFSETTO:+0100
TZNAME:CET
DTSTART:20241027T010000
END:STANDARD
BEGIN:DAYLIGHT
TZOFFSETFROM:+0100
TZOFFSETTO:+0200
TZNAME:CEST
DTSTART:20250330T010000
END:DAYLIGHT
BEGIN:STANDARD
TZOFFSETFROM:+0200
TZOFFSETTO:+0100
TZNAME:CET
DTSTART:20251026T010000
END:STANDARD
END:VTIMEZONE
BEGIN:VEVENT
DTSTART;TZID=Europe/Zagreb:20240925T100000
DTEND;TZID=Europe/Zagreb:20240929T233000
DTSTAMP:20260423T034225
CREATED:20240912T172159Z
LAST-MODIFIED:20240912T172305Z
UID:12785-1727258400-1727652600@kritika-hdp.hr
SUMMARY:Mediteranski festival knjige 2024
DESCRIPTION:Sedmi po redu Mfk održat će se od 25. do 29. rujna 2024. godine u Splitu! \nViše informacija o programu i festivalu možete naći na njihovim društvenim mrežama (FB) i na MFK.
URL:https://kritika-hdp.hr/dogadjaji/mediteranski-festival-knjige-2024/
LOCATION:Split
ATTACH;FMTTYPE=image/jpeg:https://kritika-hdp.hr/wp-content/uploads/2024/09/vrisak-1.jpg
END:VEVENT
BEGIN:VEVENT
DTSTART;TZID=Europe/Zagreb:20230927T080000
DTEND;TZID=Europe/Zagreb:20231001T203000
DTSTAMP:20260423T034225
CREATED:20230924T200836Z
LAST-MODIFIED:20230924T201022Z
UID:9805-1695801600-1696192200@kritika-hdp.hr
SUMMARY:Mediteranski festival knjige 2023.
DESCRIPTION:Mediteranski festival knjige – mfk je cjeloviti festival knjige koji se održava u Splitu u rujnu i na jednom mjestu okuplja izdavače knjiga\, autore i – sve ljubitelje pisane riječi. \nTijekom pet dana trajanja\, posjetitelji mogu uživati u susretima s autorima\, promocijama knjiga te sudjelovati u raznim radionicama\, ali i kupiti knjige po promotivnim cijenama. \nU nastavku pivalrenosimo program ovogodišnjeg MFK! \nSRIJEDA\, 27.9.2023.\n\n\nVelika dvorana – pozornica \n\nPogledaj lokaciju \n\n\n\n\n14.00 – 15.00\nSVEČANO OTVORENJE\nvoditeljica: Patricija Horvat \n– \n15.00 – 16.00\nPANEL DISKUSIJA\nAktualna ura o Nacrtu prijedloga Zakona o hrvatskom jeziku\, Nina Obuljen Koržinek\nmoderira:  Kruno Lokotar \n– \n17.00 – 18.00 \nU GOSTIMA: Splitera &  Fokalizator\nEdi Matić\, Vladimir Vojinović\nnastupaju:  Jelena Nelević\, Tijana Radulović\, Boris Đurović i Andrija Radović \n– \n18.00 – 19.00 \nPROMOCIJA\nIvica Jakšić Čokrić Puko: „Sto godina trudnoće“\npredstavlja:  Katja Grcić \n– \n19.00 – 20.00 \nU GOSTIMA: Biblioteka XX vek\npredstavljaju: Ivan Čolović\, Dubravka Stojanović\, Kruno Lokotar \n\n\nČETVRTAK\, 28.9.2023.\n\n\nVelika dvorana – pozornica \n\nPogledaj lokaciju \n\n\n\n\n17.00 – 18.00\nPROMOCIJA\nSvetislav Basara: „Rekapitulacija“\npredstavlja: Kruno Lokotar \n– \n18.00 – 19.00\nPROMOCIJA\nSani Delić: „Eldora“\npredstavljaju: Ivo Šćepanović i Kruno Lokotar \n– \n19.00 – 20.00\nPROMOCIJA\nSenko Karuza: „Krađa“ i Katja Grcić: „Istina nedjeljom i drugim danima“\npredstavlja: Irena Delonga \n\n\nPETAK\, 29.9.2023.\n\n\nVelika dvorana – pozornica \n\nPogledaj lokaciju \n\n\n\n\n17.00 – 18.00\nPROMOCIJA\nIvan Katičić: „Ovdje ničeg nema“\npredstavlja: Marinko Koščec \n– \n18.00 – 19.00\nPROMOCIJA\nBoris Dežulović: „Život i snoviđenja neustrašivog žohara Zaštomira“\npredstavlja: Patricija Horvat \n– \n19.00 – 20.00\nPROMOCIJA\nMarko Gregur: „Šalaporte“\npredstavlja Patricija Horvat \n– \n20.00 – 21.00\nPROMOCIJA\nAleksandar Stanković: „Depra“\npredstavlja: Tanja Mravak \n\n\nSUBOTA\, 30.09.2023.\n\n\nVelika dvorana – pozornica \n\nPogledaj lokaciju \n\n\n\n\n12.00 – 13.00\nPROMOCIJA\nAlmin Kaplan: „Šušanj“ i „Razgovori s Markom“\npredstavlja:  Nebojša Lujanović \n– \n16.00 – 17.00\nPROMOCIJA\nTamara Bilankov: „Iz kuće po kojoj pada kiša“\npredstavlja:  Luca Kozina \n– \n17.00 18.00 \nPROMOCIJA\nBoris Škifić: „Kamen\, cvijet i amen“\npredstavlja: Sara Kopeczky \n– \n18.00 – 19.00\nPROMOCIJA\nTea Tulić: „Strvinari starog svijeta“\npredstavlja: Katja Grcić \n– \n19.00 – 20.00\nPROMOCIJA\nSanin Karamehmedović: „Terca na tišinu“\npredstavljaju: Krešo Blažević i Zlatko Gall \n– \n20.00 – 21.00\nPROMOCIJA\nSanja Polak: „Dnevnik Pauline P.“\npredstavljaju:  Sara Kopeczky i Grozdana Ribičić \n\n\nNEDJELJA\, 01.10.2023.\n\n\nVelika dvorana – pozornica \n\nPogledaj lokaciju \n\n\n\n\n11.00 – 12.00\nPANEL\nKako razgovarati s djecom o ratu\nsudjeluju:  Eugen Stepanenko\, Solomija Stepanenko\, Žana Pavlović\, Darija Pavlešen \n– \n12.00 – 13.00\nPROMOCIJA \nJurij Lisenko: „Ide svašta!“ i „Strašna šuma“\npredstavljaju:  Darija Pavlešen\, Josip Ivanović \n– \n14.00 – 15.00\nPROMOCIJA\nTrojica u nedjeljom u dva: Matko Sršen: „Rokaška Kraljevina“ i Rade Jarak: „Put na Solaris“\npredstavlja:  Antun Pavešković \n– \n15.00 – 16.00\nNagrada Marina Držića: Katja Grcić\, Edi Matić\, Hana Konsa\, Ana Maras Harmander\nmoderira: Kristina Tešija \n– \n16.00 – 17.00\nPROMOCIJA\nNebojša Lujanović: „Tvornica Hrvata“\npredstavlja: Srećko Jurišić
URL:https://kritika-hdp.hr/dogadjaji/mediteranski-festival-knjige-2023/
ATTACH;FMTTYPE=image/png:https://kritika-hdp.hr/wp-content/uploads/2023/09/Mediteranski_festival_knjige.png
END:VEVENT
BEGIN:VEVENT
DTSTART;VALUE=DATE:20220928
DTEND;VALUE=DATE:20221003
DTSTAMP:20260423T034225
CREATED:20220920T122321Z
LAST-MODIFIED:20220920T122634Z
UID:6547-1664323200-1664755199@kritika-hdp.hr
SUMMARY:Mediteranski festival knjige
DESCRIPTION:SRIJEDA\, 28.9.2022.\nVelika dvorana – pozornica\nPogledaj lokaciju \n12:00 – 13:00\nSVEČANO OTVORENJE\ngost: Ane Paška\n_ \n16:00 – 16:45\nPROMOCIJA / Mare Nostrum\nDragan Bursać: Čekajući Dylan Doga u Srebrenici\npredstavljaju: Andrej Nikolaidis i Dragan Bursać\n_ \n17:00 – 17:45\nPANEL / Mediteranski brevijar\n500 godina Judite\nsudjeluju: Andro Krstulović Opara\, Stjepko Rošin\, Darka Perko i Bruna Bebić\n_ \n18:00 – 18:45\nPROMOCIJA / Mare Nostrum\nAndrej Nikolaidis: Anomalija\npredstavljaju: Emir Imamović Pirke\, Dragan Bursać i Andrej Nikolaidis\n_ \n19:00 – 19:45\nPROMOCIJA / Bellatristika\nJurica Pavičić: Mater Dolorosa\npredstavljaju: Srećko Jurišić\, Adriana Piteša i Jurica Pavičić \nBookvarij\nPogledaj lokaciju \n10:30 – 11:30\nTete i barbe pričalice čitaju…\nČitanje priča za djecu 3+\nčitaju: volonteri udruge MOST\npredbilježbe: online obrazac\n_ \n12:00 – 13:30\nKriptografija [POPUNJENO]\nRADIONICA šifriranja poruka i tajnih kodova za djecu od 6 do 12 godina\nvodi: Bruna Kolak\npredbilježbe: online obrazac \nMali Bookvarij\nPogledaj lokaciju \n17:30 – 19:00\nŠALJIVE NARODNE PRIČE I LEGENDE\nČigova je zapravo Mrduja i kako se prodavala pamet na Mrduji [POPUNJENO]\nKreativni STORYTELLING za djecu od 6 do 11 godina\nvodi: Jasmina Žiljak Ilinčić\npredbilježbe: online obrazac\n_ \n19:15 – 20:00\nMAŠTAONICA\nIGRAONICA i maštaonica za djecu od 5 do 10 godina\nmaksimalni broj djece – 10 / nije potrebna rezervacija \nAcademia Club Ghetto\nDosud 10\, Split \nAne Paška – koncart: Improvizije \nČETVRTAK\, 29.9.2022.\nVelika dvorana – pozornica\nPogledaj lokaciju \n11:00 – 11:45\nPROMOCIJA / Kolibrić\nJurica Pavičić: Tri kuće\, tri prijatelja\npredstavljaju: Ivana Žderić i Jurica Pavičić\n_ \n16:00 – 16:45\nPROMOCIJA / Mare Nostrum\nZemlja u fokus: Crna Gora\nAleksandar Radunović Popaj: Drame\npredstavljaju: Jasen Boko i Aleksandar Radunović\n_ \n17:00 – 17:45\nPANEL / Mediteranski brevijar\nZemlja u fokus: Crna Gora\nCrna Gora\, danas i sutra\nsudjeluju: Andrej Nikolaidis\, Ognjen Spahić\, Aleksandar Radunović Popaj i Vladimir Vojinović\nmoderira: Damir Pilić\n_ \n18:00 – 18:45\nPROMOCIJA / Mudri libri\nMarko Pogačar: Adolfove uši (Berlinski dnevnik)\npredstavljaju: Kruno Lokotar i Marko Pogačar\n_ \n19:00 – 19:45\nPROMOCIJA / Mudri libri\nJonathan Balcombe: Što riba zna?\npredstavljaju: Sanja Matić-Skoko i Jakov Dulčić\nmoderira: Mišo Nejašmić \nBookvarij\nPogledaj lokaciju \n10:30 – 11:30\nTete i barbe pričalice čitaju…\nČitanje priča za djecu 3+\nčitaju: volonteri udruge MOST\npredbilježbe: online obrazac\n_ \n12:00 – 13:30\nKriptografija\nRADIONICA šifriranja poruka i tajnih kodova za djecu od 6 do 12 godina\nvodi: Bruna Kolak\npredbilježbe: online obrazac \nMali Bookvarij\nPogledaj lokaciju \n16:00 – 17:00\nTJEDAN HARRY POTTERA!\nRadionica izrade čarobnih štapića\nKreativna radionica za djecu od 7 do 10 godina\nvode: odgojiteljica Andrea Žuljević i knjižničarka Katarina Sovulj\, GKMM\nVAŽNO! predbilježbe organizira Gradska knjižnica MM preko ovog online obrasca\n_ \n17:30 – 19:00\nŠALJIVE NARODNE PRIČE I LEGENDE\nKako je Makaranin nadmudrio suca\nKreativni STORYTELLING za djecu od 6 do 11 godina\nvodi: Jasmina Žiljak Ilinčić\npredbilježbe: online obrazac\n_ \n19:15 – 20:00\nMAŠTAONICA\nIGRAONICA i maštaonica za djecu od 5 do 10 godina\nmaksimalni broj djece – 10 / nije potrebna rezervacija \nPETAK\, 30.9.2022.\nVelika dvorana – pozornica\nPogledaj lokaciju \n11:00 – 11:45\nPREDSTAVLJANJE\nUdruga Dyxy: naših prvih 15 godina uz djecu i mlade s teškoćama pisanja i učenja\npredstavljaju: Meri Butirić\n_ \n16:00 – 16:45\nPROMOCIJA / Med i teran\nAndrea Debak: Jezik vode\nMili Đukić: Ljetno kino\npredstavljaju: Marko Tomaš\, Andrea Debak i Mili Đukić\n_ \n17:00 – 17:45\nPROMOCIJA / STrip\nIvan Marušić: Rexy\npredstavljaju Marko Tomaš i Ivan Marušić\n_ \n18:00 – 18:45\nPROMOCIJA / Bellatristika\nĐurđica Čilić: Novi kraj\npredstavljaju: Kruno Lokotar i Đurđica Čilić\n_ \n19:00 – 19:45\nPROMOCIJA & TalkShow / Bellatristika\nDamir Karakaš: Okretište\n_ \n20:00 – 20:45\nPROMOCIJA / Mudri libri\nDražen Lalić: Usiljena zajednica\npredstavljaju: Damir Pilić\, Inga Tomić Koludrović i Dražen Lalić \nBookvarij\nPogledaj lokaciju \n10:30 – 11:30\nTete i barbe pričalice čitaju…\nČitanje priča za djecu 3+\nčitaju: volonteri udruge MOST\npredbilježbe: online obrazac\n_ \n12:00 – 13:15\nŽivimo mir\nradionica o nenasilnom rješavanju problemskih situacija za djecu od 6 do 13 godina\nvoditeljica: Marija Butirić\, magistra psihologije / Udruga Dyxy\npredbilježbe: online obrazac\n_ \n18:00 – 19:30\nKriptografija\nRADIONICA šifriranja poruka i tajnih kodova za djecu od 6 do 12 godina\nvodi: Bruna Kolak\npredbilježbe: online obrazac \nMali Bookvarij\nPogledaj lokaciju \n16:00 – 17:00\nDom je tamo gdje si ti\nKreativna čitaonica za djecu od 4 do 8 godina\nvode: Helena Bužančić\, diplomirana učiteljica i knjižničarka\, GKMM\npredbilježbe: online obrazac\n_ \n17:30 – 19:00\nŠALJIVE NARODNE PRIČE I LEGENDE\nSvijetu se ne može ugoditi\nKreativni STORYTELLING za djecu od 6 do 11 godina\nvodi: Jasmina Žiljak Ilinčić\npredbilježbe: online obrazac\n_ \n19:15 – 20:00\nMAŠTAONICA\nIGRAONICA i maštaonica za djecu od 5 do 10 godina\nmaksimalni broj djece – 10 / nije potrebna rezervacija \nSUBOTA\, 1.10.2022.\nVelika dvorana – pozornica\nPogledaj lokaciju \n_ \n16:00 – 16:45\nPROMOCIJA / Mudri libri\nMelita Peharda Uljević\, Rino Stanić\, Pero Ugarković: Biologija\, ekologija i raznolikost jadranskih školjkaša\npredstavljaju: Mišo Nejašmić i Lara Uljević\n_ \n17:00 – 17:45\nU GOSTIMA: Pričigin\ntema: I svi su me pogledali\nAna Duša\, Ivana Đilas i Boštjan Narat\nmoderira: Jedrt Jež Furlan\n_ \n18:00 – 18:45\nPROMOCIJA / Bellatristika\nDragan Jurak: Peleov dnevnik\npredstavljaju: Ivica Ivanišević\, Luiza Bouharaoua i Dragan Jurak\n_ \n19:00 – 19:45\nPROMOCIJA / Bellatristika\nNora Verde: Moja dota\npredstavljaju: Nada Topić\, Kristina Tešija i Nora Verde\n_ \n20:00 – 20:45\nPROMOCIJA / Bellatristika\nStaša Aras: Horror vacui\npredstavljaju: Đurđica Čilić\, Kruno Lokotar i Staša Aras \nBookvarij\nPogledaj lokaciju \n10:30 – 11:30\nTete i barbe pričalice čitaju…\nČitanje priča za djecu 3+\nčitaju: volonteri udruge MOST\npredbilježbe: online obrazac\n_ \n12:00 – 13:30\nKriptografija\nRADIONICA šifriranja poruka i tajnih kodova za djecu od 6 do 12 godina\nvodi: Bruna Kolak\npredbilježbe: online obrazac\n_ \n16:00 – 17:15\nŽivimo mir\nradionica o nenasilnom rješavanju problemskih situacija za djecu od 6 do 13 godina\nvoditeljica: Marija Butirić\, magistra psihologije / Udruga Dyxy\npredbilježbe: online obrazac\n_ \nMali Bookvarij\nPogledaj lokaciju \n10:30 – 11:30\nZec\, medvjed\, čovjek i lisica (hrvatska narodna bajka)\nInteraktivna ČITAONICA za djecu od 4 do 8 godina\nvodi: Nataša Prkić\, diplomirana je učiteljica i knjižničarka / GKMM\npredbilježbe: online obrazac\n_ \n17:30 – 19:00\nŠALJIVE NARODNE PRIČE I LEGENDE\nProždrlica\nKreativni STORYTELLING za djecu od 6 do 11 godina\nvodi: Jasmina Žiljak Ilinčić\npredbilježbe: online obrazac\n_ \n19:15 – 20:00\nMAŠTAONICA\nIGRAONICA i maštaonica za djecu od 5 do 10 godina\nmaksimalni broj djece – 10 / nije potrebna rezervacija \nNEDJELJA\, 2.10.2022.\nVelika dvorana – pozornica\nPogledaj lokaciju \n11:00 – 11:45\nPROMOCIJA / Kolibrić\nDišpetoži iz PO Poljana & Bruno Ćurko\, Mala filozofija: Izgubljeni Malić / Storija o dva otoka\npredstavljaju: tbd\n_ \n13:00 – 13:45\nPROMOCIJA / Kolibrić\nJasna Ćorić: Kaleidoskop\npredstavljaju: Željka Miletić\, Ana Babić i Jasna Ćorić\nmoderira: Ana Babić\n_ \n14:00 – 14:45\nKod nas u 2: Dada Batinić\nmoderira: Boba Đuderija\n_ \n16:00 – 16:45\nPROMOCIJA / Kolibrić\nKristen A. Jenson: Razgovarajmo o lošim slikama\nLuciano Grigoletto: Knjiga za nesavršene roditelje\npredstavljaju: Marin Periš\, (voditelj)\, Toni Maglica (socijalni pedagog) i Maja Ljubetić (pedagog)\n_ \n17:00 – 17:45\nPROMOCIJA / Kolibrić\nSara Kopeczky Bajić: Priče iz Drugozemske\npredstavljaju: Luca Kozina i Sara Kopeczky Bajić\nmoderira: Luiza Bouharaoua\n_ \nBookvarij\nPogledaj lokaciju \n10:30 – 11:30\nTete i barbe pričalice čitaju…\nČitanje priča za djecu 3+\nčitaju: volonteri udruge MOST\npredbilježbe: online obrazac\n_ \n12:00 – 13:30\nKriptografija\nRADIONICA šifriranja poruka i tajnih kodova za djecu od 6 do 12 godina\nvodi: Bruna Kolak\npredbilježbe: online obrazac \nMali Bookvarij\nPogledaj lokaciju \n16:00 – 17:00\nMAŠTAONICA\nIGRAONICA i maštaonica za djecu od 5 do 10 godina\nmaksimalni broj djece – 10 / nije potrebna rezervacija\n_ \n17:30 – 19:00\nŠALJIVE NARODNE PRIČE I LEGENDE\nKraljevna se nasmijala\nKreativni STORYTELLING za djecu od 6 do 11 godina\nvodi: Jasmina Žiljak Ilinčić\npredbilježbe: online
URL:https://kritika-hdp.hr/dogadjaji/mediteranski-festival-knjige-od-28-9-do-2-10-2022/
LOCATION:Split
ATTACH;FMTTYPE=image/jpeg:https://kritika-hdp.hr/wp-content/uploads/2022/09/mfk-1.jpg
END:VEVENT
END:VCALENDAR