BEGIN:VCALENDAR
VERSION:2.0
PRODID:-//Kritika HDP - ECPv6.15.20//NONSGML v1.0//EN
CALSCALE:GREGORIAN
METHOD:PUBLISH
X-WR-CALNAME:Kritika HDP
X-ORIGINAL-URL:https://kritika-hdp.hr
X-WR-CALDESC:Događaji za Kritika HDP
REFRESH-INTERVAL;VALUE=DURATION:PT1H
X-Robots-Tag:noindex
X-PUBLISHED-TTL:PT1H
BEGIN:VTIMEZONE
TZID:Europe/Zagreb
BEGIN:DAYLIGHT
TZOFFSETFROM:+0100
TZOFFSETTO:+0200
TZNAME:CEST
DTSTART:20200329T010000
END:DAYLIGHT
BEGIN:STANDARD
TZOFFSETFROM:+0200
TZOFFSETTO:+0100
TZNAME:CET
DTSTART:20201025T010000
END:STANDARD
BEGIN:DAYLIGHT
TZOFFSETFROM:+0100
TZOFFSETTO:+0200
TZNAME:CEST
DTSTART:20210328T010000
END:DAYLIGHT
BEGIN:STANDARD
TZOFFSETFROM:+0200
TZOFFSETTO:+0100
TZNAME:CET
DTSTART:20211031T010000
END:STANDARD
BEGIN:DAYLIGHT
TZOFFSETFROM:+0100
TZOFFSETTO:+0200
TZNAME:CEST
DTSTART:20220327T010000
END:DAYLIGHT
BEGIN:STANDARD
TZOFFSETFROM:+0200
TZOFFSETTO:+0100
TZNAME:CET
DTSTART:20221030T010000
END:STANDARD
BEGIN:DAYLIGHT
TZOFFSETFROM:+0100
TZOFFSETTO:+0200
TZNAME:CEST
DTSTART:20230326T010000
END:DAYLIGHT
BEGIN:STANDARD
TZOFFSETFROM:+0200
TZOFFSETTO:+0100
TZNAME:CET
DTSTART:20231029T010000
END:STANDARD
END:VTIMEZONE
BEGIN:VEVENT
DTSTART;TZID=Europe/Zagreb:20221019T180000
DTEND;TZID=Europe/Zagreb:20221019T200000
DTSTAMP:20260423T212330
CREATED:20221018T094319Z
LAST-MODIFIED:20221018T094418Z
UID:6742-1666202400-1666209600@kritika-hdp.hr
SUMMARY:Pitaj što te zanima / Spisateljice u dijalogu - Asja Bakić i Luca Kozina
DESCRIPTION:Ovogodišnji program u klubu Booksa predstavlja 8 autorica\, miljenica kritike i publike koje su obilježile desetljeća naše književnosti\, definirale žanrove\, spisateljica čiji se rad hrabro suočava s prošlošću i promišljeno oblikuje budućnost. Istražujući teme eksperimenta i užitka\, prirode i društva\, odrastanja i zavičaja\, autofikcije kao alata za nošenje s prošlosti i izgradnju (bolje) budućnosti te otoka i inzularnosti\, ovogodišnji program fokusira se na sljedeće naslove: „Sladostrašće” Asje Bakić\, „Važno je imati hobi” Luce Kozine\, „Divlje guske” Julijane Adamović\, „Zemlja bez sutona” Marije Andrijašević\, „Zašto sam vam lagala” Julijane Matanović\, „Moja Dota” Nore Verde\, „Otok\, zrcalo riječi” Andriane Škunce i „Slani mrak” Lore Tomaš. \n  \nVidimo se u klubu Booksa u: \nsrijedu\, 19. listopada u 18 sati s Asjom Bakić i Lucom Kozina \npetak\, 4. studenog u 20 sati s Julijanom Adamović i Marijom Andrijašević \nčetvrtak\, 17. studenog u 20 sati s Julijanom Matanović i Norom Verde \npetak\, 2. prosinca u 20 sati s Andrianom Škunca i Lorom Tomaš \n  \nPrvo izdanje „Spisateljica u dijalogu” nazvano „Drugačiji svijet je moguć\, i to više njih” ugošćuje pjesnikinju i prozaisticu\, autoricu zbirke priča „Sladostrašće” Asju Bakić i dobitnicu nagrade Prozak za zbirku priča „Važno je imati hobi” Lucu Kozinu. Riječ je o autoricama koje u svojim kratkim pričama i mirkoprozama razobličuju i transformiraju mitologiju\, religiju i književni kanon da bi pod plaštom fantastike i magijskog realizma\, uz slatki smijeh ironije\, ispisale priče o komunikaciji i (ne)razumijevanju\, samoći i drugosti\, užitku i strasti u kojima nas literarne (anti)junakinje i junaci uče kako da postanemo punokrvni protagonisti u borbi za budućnost. \nProgram vodi i moderira: Luiza Bouharaoua \nOrganizator: Hrvatsko društvo pisaca \nPartner: Booksa \nProgram se realizira uz potporu Ministarstva kulture i medija RH i Grada Zagreba
URL:https://kritika-hdp.hr/dogadjaji/pitaj-sto-te-zanima-spisateljice-u-dijalogu-asja-bakic-i-luca-kozina/
LOCATION:Booksa\, Martićeva ul. 14D\, Zagreb\, Croatia (Local Name: Hrvatska)
ATTACH;FMTTYPE=image/jpeg:https://kritika-hdp.hr/wp-content/uploads/2022/10/Bakic_Kozina_vizual.jpg
END:VEVENT
BEGIN:VEVENT
DTSTART;TZID=Europe/Zagreb:20211119T190000
DTEND;TZID=Europe/Zagreb:20211119T200000
DTSTAMP:20260423T212330
CREATED:20211116T164127Z
LAST-MODIFIED:20220724T203251Z
UID:1315-1637348400-1637352000@kritika-hdp.hr
SUMMARY:Spisateljice u dijalogu\, M. Skočibušić i O. Savičević Ivančević
DESCRIPTION:U trećem izdanju tribine Pitaj što te zanima – spisateljice u dijalogu nazvanom “Bit će strašno kada ja porastem” koje će se odražati 19. studenoga u 19 sati u zagrebačkom klubu Booksa gostovat će Marija Skočibušić i Olja Savičević Ivančević\, a razgovor će moderirati Luiza Bouharaoua. \nPitaj što te zanima – spisateljice u dijalogu\, navode organizatori\, “pilot je književna tribina koja otvara dijalog među autoricama različitih generacija i faza u spisateljskim karijerama tako što spaja već etablirane autorice s debitanticama\, odnosno autoricama nove generacije\, istražuje odnose među generacijama te odgovara na pitanje što „mlade” autorice mogu naučiti od „starijih” i na koji način nove generacije utječu na rad svojih prethodnika. Otvarajući međugeneracijski dijalog koji povezuje suvremenu književnu produkciju s važnim društvenim temama\, program Spisateljice u dijalogu istražuje načine na koji književnost može biti utjeha\, pomoćnik i suborac u suočavanju s društvenim izazovima\, problemima i tabuima.” \nOvo izdanje tribine će se “kroz razgovor o debitantskoj zbirci poezije Marije Skočibušić\, Kraćenje razlomaka i zbirci Standardan život\, koja u jednoj knjizi okuplja poeziju Saške Rojc (heteronim Olje Savičević Ivančević) te Oljine zbirke Kućna pravila i Mamasafari (i ostale stvari)\, fokusirati na temu djevojaštva\, njegove izazove\, rane i revolucionarni potencijal”. \nNaime\, “pripitomljavajući jezik (milom ili silom)\, obje autorice vode nas na putovanje proturječjima djevojaštava\, predjelima nepodnošljive napetosti između nedoraslosti\, suzdržanosti i šutnje te gladi\, strasti i prkosa. Svjesne izvanjskih imperativa ispravnosti koji naređuju svođenje vlastitog tijela i tjelesnosti na društveno zadane okvire\, Marija Skočibušić i Olja Savičević Ivančević\, olovkom daju oslonac vlastitom glasu kojim ispisuju nove mogućnosti življenja djevojaštva i tjelesnosti ispunjene pripadanjem i užitkom. Njihova poezija glasno dovodi u pitanje nametnute redukcije i nužnost „odrastanja” te nam snagom i prkosom pokazuje da smo baš onda kada smo svoje (ma koliko „male” ili „mlade” bile) zastrašujuće dorasle i dovoljne.” \nOrganizator programa je Hrvatsko društvo pisaca uz partnerstvo s klubom Booksa\, a program se realizira uz potporu Ministarstva kulture i medija RH.
URL:https://kritika-hdp.hr/dogadjaji/spisateljice-u-dijalogu-m-skocibusic-i-o-savicevic-ivancevic/
LOCATION:Zagreb
ATTACH;FMTTYPE=image/png:https://kritika-hdp.hr/wp-content/uploads/2021/10/pitaj-sto-te-zanima.png
END:VEVENT
END:VCALENDAR