BEGIN:VCALENDAR
VERSION:2.0
PRODID:-//Kritika HDP - ECPv6.15.20//NONSGML v1.0//EN
CALSCALE:GREGORIAN
METHOD:PUBLISH
X-WR-CALNAME:Kritika HDP
X-ORIGINAL-URL:https://kritika-hdp.hr
X-WR-CALDESC:Događaji za Kritika HDP
REFRESH-INTERVAL;VALUE=DURATION:PT1H
X-Robots-Tag:noindex
X-PUBLISHED-TTL:PT1H
BEGIN:VTIMEZONE
TZID:Europe/Zagreb
BEGIN:DAYLIGHT
TZOFFSETFROM:+0100
TZOFFSETTO:+0200
TZNAME:CEST
DTSTART:20190331T010000
END:DAYLIGHT
BEGIN:STANDARD
TZOFFSETFROM:+0200
TZOFFSETTO:+0100
TZNAME:CET
DTSTART:20191027T010000
END:STANDARD
BEGIN:DAYLIGHT
TZOFFSETFROM:+0100
TZOFFSETTO:+0200
TZNAME:CEST
DTSTART:20200329T010000
END:DAYLIGHT
BEGIN:STANDARD
TZOFFSETFROM:+0200
TZOFFSETTO:+0100
TZNAME:CET
DTSTART:20201025T010000
END:STANDARD
BEGIN:DAYLIGHT
TZOFFSETFROM:+0100
TZOFFSETTO:+0200
TZNAME:CEST
DTSTART:20210328T010000
END:DAYLIGHT
BEGIN:STANDARD
TZOFFSETFROM:+0200
TZOFFSETTO:+0100
TZNAME:CET
DTSTART:20211031T010000
END:STANDARD
BEGIN:DAYLIGHT
TZOFFSETFROM:+0100
TZOFFSETTO:+0200
TZNAME:CEST
DTSTART:20220327T010000
END:DAYLIGHT
BEGIN:STANDARD
TZOFFSETFROM:+0200
TZOFFSETTO:+0100
TZNAME:CET
DTSTART:20221030T010000
END:STANDARD
BEGIN:DAYLIGHT
TZOFFSETFROM:+0100
TZOFFSETTO:+0200
TZNAME:CEST
DTSTART:20230326T010000
END:DAYLIGHT
BEGIN:STANDARD
TZOFFSETFROM:+0200
TZOFFSETTO:+0100
TZNAME:CET
DTSTART:20231029T010000
END:STANDARD
END:VTIMEZONE
BEGIN:VEVENT
DTSTART;VALUE=DATE:20211126
DTEND;VALUE=DATE:20220316
DTSTAMP:20260420T095435
CREATED:20211126T135334Z
LAST-MODIFIED:20220724T203112Z
UID:1320-1637884800-1647388799@kritika-hdp.hr
SUMMARY:Natječaj metaFORA za najbolju kratku priču (rok 15.3.2022.)
DESCRIPTION:Otvoren je jubilarni\, deseti natječaj za najbolju kratku priču metaFORA u organizaciji Knjižnice Vladimira Nazora. \nNatječaj se raspisuje krajem Mjeseca hrvatske knjige\, a njegova završnica\, proglašenje najboljih\, zbiva se u Noći knjige. Od prošle godine natječaj je podijeljen na dvije konkurencije: odrasle i djecu osnovne škole. \nOKRUGLA metaFORA 2022. slavi svojih prvih deset godina te stoga ne zadaje određenu temu\, već prepušta autorima da se pozabave slobodnom temom po vlastitom izboru. \n\nUvjeti natječaja: \n\npriča slobodne tematike\, na hrvatskom jeziku\nautor može sudjelovati samo s jednom pričom\ntreba obuhvaćati maksimalno 5 400 znakova s razmacima; preferirani format .docx\nne smije biti objavljivana sve do proglašenja najboljih\nproglašenje najboljih priča i javno čitanje održat će se u travnju 2022. u Noći knjige\ngeneracijski profiliran natječaj\, dva su žirija (djeca/odrasli)\npriče se šalju na e-mail:\nforamala2022@kgz.hr (za djecu osnovne škole)\nmetafora2022@kgz.hr (za odrasle)\nili\, ako ga nemate\, tada klasičnom poštom na adresu:\n\n         Knjižnica Vladimira Nazora\nmetaFORA 2022.\nVodovodna 13\n10 000 Zagreb \n\nuz priču je potrebno navesti ime i prezime autora\, godinu rođenja\, adresu stanovanja\, adresu elektronske pošte i broj telefona (podaci će biti zaštićeni; dijete prijavljuje roditelj ili druga odgovorna odrasla osoba)  \npopis pristiglih priča objavit će se na mrežnim stranicama Knjižnica grada Zagreba\, a najbolje će biti objavljene u cijelosti\nnatječaj je otvoren od 15. studenog 2021. do 15. ožujka 2022.\n\nDaljnje informacije o natječaju te ostatak uvjeta možete pronaći na poveznici: metaFORA 2022.
URL:https://kritika-hdp.hr/dogadjaji/natjecaj-metafora-za-najbolju-kratku-pricu-rok-1532022/
ATTACH;FMTTYPE=image/jpeg:https://kritika-hdp.hr/wp-content/uploads/2021/11/metafora_2022_556.jpg
END:VEVENT
BEGIN:VEVENT
DTSTART;VALUE=DATE:20201004
DTEND;VALUE=DATE:20201011
DTSTAMP:20260420T095435
CREATED:20200925T101401Z
LAST-MODIFIED:20220725T080900Z
UID:1237-1601769600-1602374399@kritika-hdp.hr
SUMMARY:Festival europske kratke priče\, 4. - 9. 10. 2020.
DESCRIPTION:Pitanja koja nam postavlja svijet pogođen pandemijom obilježit će događanja festivala\, koji pod temom Luka različitosti okuplja pisce i umjetnike koji se u svojim djelima bave razlikama i različitima. Bilo da tematiziraju rasnu\, klasnu ili vjersku\, rodnu ili političku različitost\, ili pak njeguju umjetničke prakse koje se opiru očekivanim i uobičajenim formatima\, bilo da se bave pričama „drugih“ – poput izbjeglica i migranata – ili nam donese „drukčije“ priče\, domaći i inozemni sudionici ovogodišnjeg FEKP-a pokazuju svu složenost svijeta i vremena u kojima živimo\, navode organizatori te ističu važnost suradnje koju FEKP u Rijeci – u sklopu programa Europske prijestolnice kulture – ostvaruje s jednim od najznačajnijih svjetskih književnih događaja – Festivalom Hay (6. – 9. listopada). \n19. FEKP otvara se u riječkom Exportdrvu\, u nedjelju\, 4. listopada u 19 sati ili na YouTube kanalu FEKP-a. pričama o suputnicima s Aleksandrom Hemonom i Semezdinom Mehmedinovićem. U doba kada je piscima teško posjećivati festivale\, FEKP je odlučio posjetiti pisce. Od početka pandemije koronavirusa Aleksandar Hemon i Semezdin Mehmedinović svake se nedjelje susreću na videochatu jedne od internetskih platformi da bi razgovarali o životu prije i poslije\, o knjigama i glazbi\, o čitanju i pisanju svijeta. Nakon susreta u Sarajevu i Americi\, u pjesmama i prozama\, u sjećanjima i jezicima\, dvojica autora sada susretom otvaraju devetnaesto izdanje Festivala europske kratke priče. \nProjekt Europa 28 – žene o budućnosti Europe nudi potentne vizije budućnosti 28 europskih autorica (spisateljica\, dramatičarki i redateljica\, znanstvenica\, poduzetnica i aktivistica…)\, koje u svijetu nakon covida zadobivaju novu aktualnost i značaj. Uživo i digitalno\, u Rijeci i Zagrebu\, Festival europske kratke priče nastavlja širiti priče ponajboljih svjetskih pisaca i biti dobra priča domaće kulturne scene. Riječki program Festivala europske kratke priče dio je programskog pravca Kuhinja\, odnosno projekta Rijeka 2020 – Europska prijestolnica kulture. Programski pravac Kuhinja kroz različita područja kulture bavi se manjinama i migracijama\, u pokušaju stvaranja novih\, solidarnih prostora društvenosti.
URL:https://kritika-hdp.hr/dogadjaji/festival-europske-kratke-price-4-9-10-2020/
ATTACH;FMTTYPE=image/jpeg:https://kritika-hdp.hr/wp-content/uploads/2020/09/fekp.jpg
END:VEVENT
END:VCALENDAR