BEGIN:VCALENDAR
VERSION:2.0
PRODID:-//Kritika HDP - ECPv6.15.20//NONSGML v1.0//EN
CALSCALE:GREGORIAN
METHOD:PUBLISH
X-WR-CALNAME:Kritika HDP
X-ORIGINAL-URL:https://kritika-hdp.hr
X-WR-CALDESC:Događaji za Kritika HDP
REFRESH-INTERVAL;VALUE=DURATION:PT1H
X-Robots-Tag:noindex
X-PUBLISHED-TTL:PT1H
BEGIN:VTIMEZONE
TZID:Europe/Zagreb
BEGIN:DAYLIGHT
TZOFFSETFROM:+0100
TZOFFSETTO:+0200
TZNAME:CEST
DTSTART:20190331T010000
END:DAYLIGHT
BEGIN:STANDARD
TZOFFSETFROM:+0200
TZOFFSETTO:+0100
TZNAME:CET
DTSTART:20191027T010000
END:STANDARD
BEGIN:DAYLIGHT
TZOFFSETFROM:+0100
TZOFFSETTO:+0200
TZNAME:CEST
DTSTART:20200329T010000
END:DAYLIGHT
BEGIN:STANDARD
TZOFFSETFROM:+0200
TZOFFSETTO:+0100
TZNAME:CET
DTSTART:20201025T010000
END:STANDARD
BEGIN:DAYLIGHT
TZOFFSETFROM:+0100
TZOFFSETTO:+0200
TZNAME:CEST
DTSTART:20210328T010000
END:DAYLIGHT
BEGIN:STANDARD
TZOFFSETFROM:+0200
TZOFFSETTO:+0100
TZNAME:CET
DTSTART:20211031T010000
END:STANDARD
BEGIN:DAYLIGHT
TZOFFSETFROM:+0100
TZOFFSETTO:+0200
TZNAME:CEST
DTSTART:20220327T010000
END:DAYLIGHT
BEGIN:STANDARD
TZOFFSETFROM:+0200
TZOFFSETTO:+0100
TZNAME:CET
DTSTART:20221030T010000
END:STANDARD
BEGIN:DAYLIGHT
TZOFFSETFROM:+0100
TZOFFSETTO:+0200
TZNAME:CEST
DTSTART:20230326T010000
END:DAYLIGHT
BEGIN:STANDARD
TZOFFSETFROM:+0200
TZOFFSETTO:+0100
TZNAME:CET
DTSTART:20231029T010000
END:STANDARD
END:VTIMEZONE
BEGIN:VEVENT
DTSTART;VALUE=DATE:20220516
DTEND;VALUE=DATE:20220702
DTSTAMP:20260420T010923
CREATED:20220516T073343Z
LAST-MODIFIED:20220722T112825Z
UID:1368-1652659200-1656719999@kritika-hdp.hr
SUMMARY:Natječaj za prve i neobjavljene originalne rukopise (rok: 1. srpnja)
DESCRIPTION:Prenosimo vam poziv Raštan izdavaštva. \n \nKonkurs je javan\, a rukopisi se predaju isključivo elektronski\, putem mejla urednistvo@rashtan.com\nOdluku o pobednici ili pobedniku donosi urednički tim Raštan izdavaštva. Nagrađeni rukopis/i biće uvršten/i u izdavački plan Raštan izdavaštva nakon detaljnog uredničkog rada\, a nagradom su predviđene i sve prateće promotivne aktivnosti. \nRezultati konkursa biće objavljeni najkasnije 15. septembra 2022. godine. \nPROPOZICIJE:\n1. Mejl kojim se autor/ka prijavljuje na konkurs treba da bude naslovljen sa: Konkurs za neobjavljene rukopise – poezija/proza. (navesti kategoriju).\n2. Rukopisi se šalju u word dokumentu naslovljenom nazivom dela koje se prijavljuje i kategorijom (poezija\, kratka proza\, roman). Dokument treba da bude napisan Times New Roman fontom\, veličine 12\, s proredom i obostranim poravnanjem\, uz obaveznu upotrebu slova s dijakritičkim znacima. Pored samog rukopisa\, dokument treba da sadrži kratku biografiju i kontakt podatke autora. Ukoliko autor/ka na konkurs prijavljuje roman\, uz rukopis je potrebno priložiti i sinopsis romana.\n3. Raštan izdavaštvo zadržava pravo da nagradi više rukopisa odnosno\, u slučaju da nijedan od prispelih rukopisa ne zadovoljava estetske i literarne kriterijume\, ne proglasi pobednika konkursa. \nViše na: Raštan izdavaštvo.
URL:https://kritika-hdp.hr/dogadjaji/natjecaj-za-prve-i-neobjavljene-originalne-rukopise-rok-1-srpnja/
ATTACH;FMTTYPE=image/jpeg:https://kritika-hdp.hr/wp-content/uploads/2022/05/rstn.jpg
END:VEVENT
BEGIN:VEVENT
DTSTART;VALUE=DATE:20220424
DTEND;VALUE=DATE:20220523
DTSTAMP:20260420T010923
CREATED:20220424T142411Z
LAST-MODIFIED:20220722T113645Z
UID:1359-1650758400-1653263999@kritika-hdp.hr
SUMMARY:Natječaj za kratku priču za mlade (rok: 22. svibnja)
DESCRIPTION:Kratke priče trebaju biti inspirirane idejom pojma PROMJENA\, a mogu se prijaviti autori/ce od 18 do 30 godina. Prethodno neobjavljene priče moraju biti pisane jezicima regije (hrvatski\, bosanski\, srpski\, crnogorski). \nOstali uvjeti su: \n\nsvaki/a autor/ica može prijaviti najviše dvije priče\npriče duljinom ne smiju prelaziti 10 000 znakova s razmacima\npriče se šalju pod šifrom\, a ime i prezime autora/ice šalje se u sklopu kratke biografije u odvojenom dokumentu\npriče trebaju biti napisane na računalu i poslane u formatu .doc ili .docx (Ariel; veličina slova 12 točaka\, prored 1\,5)\npriče se šalju isključivo na email kontakt@europeanshortstory.org\ndrugačije poslani radovi neće biti uzeti na razmatranje\nnatječaj je javan\nnatječaj je otvoren od 22. travnja do 22. svibnja u 23:59\nradovi pristigli nakon navedenog roka neće biti razmatrani\ndeset priča koje ulaze u finale nagrade objavit ćemo u srijedu\, 1. lipnja na stranici Festivala (org)\ntri priče koje osvajaju nagrade objavljujemo u petak\, 10. lipnja na večernjem čitanju u Zagrebu\nžiri čine pisci\, urednici i književni kritičari: Stjepan Balent\, Antonela Marušić\, Ivana Peruško\, Ivan Tomašić i Korana Serdarević (predsjednica žirija).\n\nNagrade su u rasponu od tisuću do pet tisuća kuna\, a finalisti/kinje će biti pozvani na završnu večer FEKP-a i dodjelu nagrada te će im biti osigurani put i smještaj u Zagrebu. \nZa više informacija posjetite poveznicu: Natječaj.
URL:https://kritika-hdp.hr/dogadjaji/natjecaj-za-kratku-pricu-za-mlade-rok-22-svibnja/
ATTACH;FMTTYPE=image/jpeg:https://kritika-hdp.hr/wp-content/uploads/2022/04/278675647_3516833598440889_7455515743271308069_n.jpg
END:VEVENT
BEGIN:VEVENT
DTSTART;VALUE=DATE:20220207
DTEND;VALUE=DATE:20220328
DTSTAMP:20260420T010923
CREATED:20220207T131056Z
LAST-MODIFIED:20220722T120300Z
UID:1340-1644192000-1648425599@kritika-hdp.hr
SUMMARY:Lapis Histriae 2022 (rok: 27. ožujka 2022.)
DESCRIPTION:23. Međunarodni pogranični susreti Forum Tomizza objavili su natječaj za kratku priču. Tema natječaja sedamnaestog Međunarodnog književnog natječaja Lapis Histriae je kaoskairos\, a uvjete i tekst natječaja prenosimo vam u nastavku. \nKAOSKAIROS\nPolazeći od nesigurnosti i nepredvidivosti koju svakodnevno u naš život unosi pandemija\, od tog katastrofičnog kaosa koji razgrađuje naše intimne i društvene svjetove\, tražimo onu točku obrata\, pravi događaj u pravom trenutku – kairos – koji iz kaosa vodi u novo vrijeme i koji može dati nadahnjujuću perspektivu našem unutarnjem životu i djelovanju u javnoj sferi. Ukratko\, usred kaosa\, kao i Tomizza u svoje vrijeme\, tragamo za Kairosom!  \nKRITERIJI NATJEČAJA:\n1. tekst mora biti izvoran i neobjavljen\n2. ne smije biti dulji od 15 (27.000 znakova\, uključujući razmake)\, ni kraći od 3 kartice\n3. u obzir dolaze svi jezici (talijanski\, slovenski\, hrvatski\, srpski\, bosanski i crnogorski) naše regije\n4. autori se natječu isključivo s jednim radom\n5. najbolji rad bit će nagrađen novčanom nagradom od 8.000\,00 kuna\n6. stručni ocjenjivački odbor čine tri književnika\n7. ocjenjivački odbor zadržava pravo ne dodijeliti nagradu\n8. rok slanja je: 27. 3. 2022.\n9. tekst se šalje pod šifrom\n10. razrješenje šifre s osobnim podacima autora (ime i prezime\, adresa\, broj telefona\, e-mail\, kratka biografija s godinom rođenja) prilaže se uz tekst\, u drugom fajlu\n11. priča se šalje na e-mail: lapis@gku-bcu.hr\n12. pristigle priče sortiraju i arhiviraju isključivo knjižničari Gradske knjižnice Umag i oni jedino imaju uvid u autorske podatke; članovi žirija informacije o autorima tekstova dobivaju tek nakon odluke o nagradi i izbora najboljih priča\n13. najbolji radovi po izboru žirija bit će objavljeni u knjizi Lapis Histriae 2022 krajem godine\n14. nagrada će se svečano dodijeliti autoru pobjedničkog rada na 23. Forumu Tomizza\, u Umagu\, 20. 5. 2022. godine \nDodatne informacije možete naći na sljedećoj poveznici: Lapis Histriae
URL:https://kritika-hdp.hr/dogadjaji/lapis-histriae-2022-rok-27-ozujka-2022/
ATTACH;FMTTYPE=image/jpeg:https://kritika-hdp.hr/wp-content/uploads/2022/02/02_lapis_2022_logo_colorweb.jpg
END:VEVENT
BEGIN:VEVENT
DTSTART;VALUE=DATE:20220204
DTEND;VALUE=DATE:20220401
DTSTAMP:20260420T010924
CREATED:20220204T110813Z
LAST-MODIFIED:20220722T120327Z
UID:1338-1643932800-1648771199@kritika-hdp.hr
SUMMARY:Književni natječaj: "Trenutak kad je meni počeo rat"\, rok 31.3.2022.
DESCRIPTION:Forum ZFD Srbija raspisuje književni natječaj za neobjavljenu priču Trenutak kad je meni počeo rat\, s namjerom da ponudi književni odgovor na temu poimanja sukoba koji su počeli raspadom Jugoslavije\, a završili jedno desetljeće kasnije. Forum ZDF (Zivilier Friedensdienst) je ugledna njemačka mirovna i humanitarna organizacija. Kako ističu: “Želja nam je da prikupimo lična sećanja\, ili sećanja drugih ljudi koje ste nekad čuli\, kao ona koja izlaze iz zone iskustvenog i prelaze u fikciju u formi kratke priče”. \nPravo sudjelovnja na natječaju imaju svi autori/ce koji pišu na bosanskom\, hrvatskom\, crnogorskom ili srpskom jeziku.  \nRok za slanje radova je 31.03.2022. Radove treba slati na email: kratka.prica.forumzfd@gmail.com \nPropozicije natječaja:  \nTekstovi ne smiju biti prethodno objavljeni. Tekst se smatra objavljenim ukoliko se nalazi u knjizi\, časopisu i/ili na internetu prije objavljivanja žirija književnog natječaja. Priču treba potpisati šifrom\, a rješenje šifre s podacima\, adresom\, brojem telefona i e-mail adresom autora/ice šalje se uz tekst. Dužina pojedinačne priče ne može prelaziti 10.000 znakova\, uključujući razmake. \nTročlani žiri odabrat će za objavljivanje deset priča\, od kojih će tri prvonagrađene dobiti novčani iznos od 180 eura (bruto iznos). U knjigu će pored deset priča odabranih na natječaju biti uvršteno i petnaest priča po pozivu izdavača i urednika. Kontakt za dodatne informacije: pejovic@forumzfd.de
URL:https://kritika-hdp.hr/dogadjaji/knjizevni-natjecaj-trenutak-kad-je-meni-poceo-rat-rok-3132022/
ATTACH;FMTTYPE=image/png:https://kritika-hdp.hr/wp-content/uploads/2022/02/vizual-konkurs-Kad-je-meni....png
END:VEVENT
BEGIN:VEVENT
DTSTART;VALUE=DATE:20211210
DTEND;VALUE=DATE:20220602
DTSTAMP:20260420T010924
CREATED:20211210T154553Z
LAST-MODIFIED:20220724T202827Z
UID:1328-1639094400-1654127999@kritika-hdp.hr
SUMMARY:Peti regionalni natječaj za kratku priču "Biber" (rok: 1. lipnja 2022.)
DESCRIPTION:Na Dan ljudskih prava 2021. godine otvara se peti natječaj za kratku priču Biber u organizaciji Biber tima Centra za nenasilnu akciju Sarajevo-Beograd. \nPrenosimo tekst natječaja\, a više informacija o uvjetima i nagradama možete naći na Biberovoj stranici: \nKratke priče mogu da šalju autorke i autori koji pišu na albanskom\, makedonskom\, bosanskom\, crnogorskom\, hrvatskom ili srpskom jeziku; afirmisani\, kao i oni koji nisu do sada objavljivali. \nTema konkursa\nPored priča koje tematizuju pomirenje u kontekstu zaostavštine ratova i nasilja u zemljama bivše Jugoslavije\, dolaze u obzir i priče koje mogu da doprinesu boljem razumijevanju među ljudima\, smanjenju mržnje i razgradnji predrasuda\, antiratne priče\, priče koje se bave suočavanjem s prošlošću\, razgradnjom slika o neprijateljima\, saosjećanjem sa drugima\, hrabre priče koje se usuđuju da hodaju u “neprijateljskim” cipelama\, priče koje pomjeraju granice i otvaraju nam puteve da gradimo izvjesniju\, bezbjedniju i slobodniju budućnost za sve. \nKonkurs je otvoren do 1. 06. 2022. \nAutori/ke tri najbolje priče biće nagrađeni novčanim nagradama: \n1. nagrada 800 eura \n2. nagrada 600 eura \n3. nagrada 400 eura. \nNajmanje dvadeset izabranih radova biće objavljeno u višejezičnom zborniku. Žiri čine Lejla Kalamujić\, Kalina Maleska i Olja Savičević Ivančević. Odluka žirija biće objavljena sredinom novembra/studenog 2022. god. \nOvim konkursom želimo još i da doprinesemo kulturi prijevoda i objavljivanja autora/ki iz najbližeg susjedstva i da podržimo angažovane autore/ke da nastave da utiču na društvenu promjenu.
URL:https://kritika-hdp.hr/dogadjaji/peti-regionalni-natjecaj-za-kratku-pricu-biber-rok-1-lipnja-2022/
END:VEVENT
BEGIN:VEVENT
DTSTART;VALUE=DATE:20211126
DTEND;VALUE=DATE:20220316
DTSTAMP:20260420T010924
CREATED:20211126T135334Z
LAST-MODIFIED:20220724T203112Z
UID:1320-1637884800-1647388799@kritika-hdp.hr
SUMMARY:Natječaj metaFORA za najbolju kratku priču (rok 15.3.2022.)
DESCRIPTION:Otvoren je jubilarni\, deseti natječaj za najbolju kratku priču metaFORA u organizaciji Knjižnice Vladimira Nazora. \nNatječaj se raspisuje krajem Mjeseca hrvatske knjige\, a njegova završnica\, proglašenje najboljih\, zbiva se u Noći knjige. Od prošle godine natječaj je podijeljen na dvije konkurencije: odrasle i djecu osnovne škole. \nOKRUGLA metaFORA 2022. slavi svojih prvih deset godina te stoga ne zadaje određenu temu\, već prepušta autorima da se pozabave slobodnom temom po vlastitom izboru. \n\nUvjeti natječaja: \n\npriča slobodne tematike\, na hrvatskom jeziku\nautor može sudjelovati samo s jednom pričom\ntreba obuhvaćati maksimalno 5 400 znakova s razmacima; preferirani format .docx\nne smije biti objavljivana sve do proglašenja najboljih\nproglašenje najboljih priča i javno čitanje održat će se u travnju 2022. u Noći knjige\ngeneracijski profiliran natječaj\, dva su žirija (djeca/odrasli)\npriče se šalju na e-mail:\nforamala2022@kgz.hr (za djecu osnovne škole)\nmetafora2022@kgz.hr (za odrasle)\nili\, ako ga nemate\, tada klasičnom poštom na adresu:\n\n         Knjižnica Vladimira Nazora\nmetaFORA 2022.\nVodovodna 13\n10 000 Zagreb \n\nuz priču je potrebno navesti ime i prezime autora\, godinu rođenja\, adresu stanovanja\, adresu elektronske pošte i broj telefona (podaci će biti zaštićeni; dijete prijavljuje roditelj ili druga odgovorna odrasla osoba)  \npopis pristiglih priča objavit će se na mrežnim stranicama Knjižnica grada Zagreba\, a najbolje će biti objavljene u cijelosti\nnatječaj je otvoren od 15. studenog 2021. do 15. ožujka 2022.\n\nDaljnje informacije o natječaju te ostatak uvjeta možete pronaći na poveznici: metaFORA 2022.
URL:https://kritika-hdp.hr/dogadjaji/natjecaj-metafora-za-najbolju-kratku-pricu-rok-1532022/
ATTACH;FMTTYPE=image/jpeg:https://kritika-hdp.hr/wp-content/uploads/2021/11/metafora_2022_556.jpg
END:VEVENT
BEGIN:VEVENT
DTSTART;VALUE=DATE:20201004
DTEND;VALUE=DATE:20201011
DTSTAMP:20260420T010924
CREATED:20200925T101401Z
LAST-MODIFIED:20220725T080900Z
UID:1237-1601769600-1602374399@kritika-hdp.hr
SUMMARY:Festival europske kratke priče\, 4. - 9. 10. 2020.
DESCRIPTION:Pitanja koja nam postavlja svijet pogođen pandemijom obilježit će događanja festivala\, koji pod temom Luka različitosti okuplja pisce i umjetnike koji se u svojim djelima bave razlikama i različitima. Bilo da tematiziraju rasnu\, klasnu ili vjersku\, rodnu ili političku različitost\, ili pak njeguju umjetničke prakse koje se opiru očekivanim i uobičajenim formatima\, bilo da se bave pričama „drugih“ – poput izbjeglica i migranata – ili nam donese „drukčije“ priče\, domaći i inozemni sudionici ovogodišnjeg FEKP-a pokazuju svu složenost svijeta i vremena u kojima živimo\, navode organizatori te ističu važnost suradnje koju FEKP u Rijeci – u sklopu programa Europske prijestolnice kulture – ostvaruje s jednim od najznačajnijih svjetskih književnih događaja – Festivalom Hay (6. – 9. listopada). \n19. FEKP otvara se u riječkom Exportdrvu\, u nedjelju\, 4. listopada u 19 sati ili na YouTube kanalu FEKP-a. pričama o suputnicima s Aleksandrom Hemonom i Semezdinom Mehmedinovićem. U doba kada je piscima teško posjećivati festivale\, FEKP je odlučio posjetiti pisce. Od početka pandemije koronavirusa Aleksandar Hemon i Semezdin Mehmedinović svake se nedjelje susreću na videochatu jedne od internetskih platformi da bi razgovarali o životu prije i poslije\, o knjigama i glazbi\, o čitanju i pisanju svijeta. Nakon susreta u Sarajevu i Americi\, u pjesmama i prozama\, u sjećanjima i jezicima\, dvojica autora sada susretom otvaraju devetnaesto izdanje Festivala europske kratke priče. \nProjekt Europa 28 – žene o budućnosti Europe nudi potentne vizije budućnosti 28 europskih autorica (spisateljica\, dramatičarki i redateljica\, znanstvenica\, poduzetnica i aktivistica…)\, koje u svijetu nakon covida zadobivaju novu aktualnost i značaj. Uživo i digitalno\, u Rijeci i Zagrebu\, Festival europske kratke priče nastavlja širiti priče ponajboljih svjetskih pisaca i biti dobra priča domaće kulturne scene. Riječki program Festivala europske kratke priče dio je programskog pravca Kuhinja\, odnosno projekta Rijeka 2020 – Europska prijestolnica kulture. Programski pravac Kuhinja kroz različita područja kulture bavi se manjinama i migracijama\, u pokušaju stvaranja novih\, solidarnih prostora društvenosti.
URL:https://kritika-hdp.hr/dogadjaji/festival-europske-kratke-price-4-9-10-2020/
ATTACH;FMTTYPE=image/jpeg:https://kritika-hdp.hr/wp-content/uploads/2020/09/fekp.jpg
END:VEVENT
END:VCALENDAR