BEGIN:VCALENDAR
VERSION:2.0
PRODID:-//Kritika HDP - ECPv6.15.20//NONSGML v1.0//EN
CALSCALE:GREGORIAN
METHOD:PUBLISH
X-WR-CALNAME:Kritika HDP
X-ORIGINAL-URL:https://kritika-hdp.hr
X-WR-CALDESC:Događaji za Kritika HDP
REFRESH-INTERVAL;VALUE=DURATION:PT1H
X-Robots-Tag:noindex
X-PUBLISHED-TTL:PT1H
BEGIN:VTIMEZONE
TZID:Europe/Zagreb
BEGIN:DAYLIGHT
TZOFFSETFROM:+0100
TZOFFSETTO:+0200
TZNAME:CEST
DTSTART:20220327T010000
END:DAYLIGHT
BEGIN:STANDARD
TZOFFSETFROM:+0200
TZOFFSETTO:+0100
TZNAME:CET
DTSTART:20221030T010000
END:STANDARD
BEGIN:DAYLIGHT
TZOFFSETFROM:+0100
TZOFFSETTO:+0200
TZNAME:CEST
DTSTART:20230326T010000
END:DAYLIGHT
BEGIN:STANDARD
TZOFFSETFROM:+0200
TZOFFSETTO:+0100
TZNAME:CET
DTSTART:20231029T010000
END:STANDARD
BEGIN:DAYLIGHT
TZOFFSETFROM:+0100
TZOFFSETTO:+0200
TZNAME:CEST
DTSTART:20240331T010000
END:DAYLIGHT
BEGIN:STANDARD
TZOFFSETFROM:+0200
TZOFFSETTO:+0100
TZNAME:CET
DTSTART:20241027T010000
END:STANDARD
END:VTIMEZONE
BEGIN:VEVENT
DTSTART;TZID=Europe/Zagreb:20231028T100000
DTEND;TZID=Europe/Zagreb:20231209T180000
DTSTAMP:20260423T113026
CREATED:20231023T201440Z
LAST-MODIFIED:20231023T202000Z
UID:10066-1698487200-1702144800@kritika-hdp.hr
SUMMARY:Skribonauti: Radionica kreativnog čitanja
DESCRIPTION:Radionica kreativnog čitanja na kojoj polaznici istražuju suvremenu književnu produkciju počinje krajem mjeseca.\nDo kraja 2023. subotama u 10 i 30 u Knjižnici Ivana Gorana Kovačića\, Vukovarska 35 i to 28.10.\, 11.11.\, 25.11. i 9.12.\nBroj mjesta je ograničen\, a prijaviti se može na: skribonauti@gmail.com
URL:https://kritika-hdp.hr/dogadjaji/skribonauti-radionica-kreativnog-citanja/
ATTACH;FMTTYPE=image/jpeg:https://kritika-hdp.hr/wp-content/uploads/2023/10/cropped-logo-1.jpg
END:VEVENT
END:VCALENDAR