BEGIN:VCALENDAR
VERSION:2.0
PRODID:-//Kritika HDP - ECPv6.15.20//NONSGML v1.0//EN
CALSCALE:GREGORIAN
METHOD:PUBLISH
X-WR-CALNAME:Kritika HDP
X-ORIGINAL-URL:https://kritika-hdp.hr
X-WR-CALDESC:Događaji za Kritika HDP
REFRESH-INTERVAL;VALUE=DURATION:PT1H
X-Robots-Tag:noindex
X-PUBLISHED-TTL:PT1H
BEGIN:VTIMEZONE
TZID:Europe/Zagreb
BEGIN:DAYLIGHT
TZOFFSETFROM:+0100
TZOFFSETTO:+0200
TZNAME:CEST
DTSTART:20250330T010000
END:DAYLIGHT
BEGIN:STANDARD
TZOFFSETFROM:+0200
TZOFFSETTO:+0100
TZNAME:CET
DTSTART:20251026T010000
END:STANDARD
BEGIN:DAYLIGHT
TZOFFSETFROM:+0100
TZOFFSETTO:+0200
TZNAME:CEST
DTSTART:20260329T010000
END:DAYLIGHT
BEGIN:STANDARD
TZOFFSETFROM:+0200
TZOFFSETTO:+0100
TZNAME:CET
DTSTART:20261025T010000
END:STANDARD
BEGIN:DAYLIGHT
TZOFFSETFROM:+0100
TZOFFSETTO:+0200
TZNAME:CEST
DTSTART:20270328T010000
END:DAYLIGHT
BEGIN:STANDARD
TZOFFSETFROM:+0200
TZOFFSETTO:+0100
TZNAME:CET
DTSTART:20271031T010000
END:STANDARD
END:VTIMEZONE
BEGIN:VEVENT
DTSTART;VALUE=DATE:20260129
DTEND;VALUE=DATE:20260227
DTSTAMP:20260422T141230
CREATED:20260129T124052Z
LAST-MODIFIED:20260129T124152Z
UID:18870-1769644800-1772150399@kritika-hdp.hr
SUMMARY:Pozivni natječaj za dodjelu Nagrade „Vladimir Nazor“ za 2025. godinu (Rok: 26. veljače 2026.)
DESCRIPTION:  \n  \nNagrada se dodjeljuje za najbolja umjetnička ostvarenja u Republici Hrvatskoj na području književnosti\, glazbe\, filma\, likovnih i primijenjenih umjetnosti\, kazališne umjetnosti te arhitekture i urbanizma\, a mogu je dobiti stvaraoci koji su državljani Republike Hrvatske. \nDodjeljuju se dvije vrste nagrada: godišnja nagrada za umjetnička ostvarenja objavljena\, izložena\, prikazana ili izvedena tijekom 2025. godine u Hrvatskoj\, koja se može dodijeliti pojedincu ili skupini umjetnika\, te nagrada za životno djelo\, namijenjena istaknutim umjetnicima čiji je stvaralački opus trajno obilježio hrvatsku kulturu. \nPrijedloge za dodjelu nagrade mogu podnositi ustanove\, trgovačka društva\, organizacije i institucije\, strukovne udruge\, građani i njihova udruženja\, kao i kulturni stvaraoci i djelatnici pojedinačno. \nSvaki prijedlog mora biti podnesen na propisanom Obrascu i sadržavati podatke o području umjetničkog ostvarenja (uz napomenu ako je riječ o prijedlogu za životno djelo)\, detaljan opis ostvarenja te temeljito obrazloženje prijedloga. Za prijave u području književnosti potrebno je priložiti osam primjeraka knjige\, dok se za film dostavlja poveznica na elektronički/digitalni primjerak uz pripadajuću lozinku. \nPrijedlozi se zaprimaju isključivo u elektroničkom obliku\, na adresu nagradavladimirnazor@min-kulture.hr\n\, najkasnije do 26. veljače 2026. godine.
URL:https://kritika-hdp.hr/dogadjaji/pozivni-natjecaj-za-dodjelu-nagrade-vladimir-nazor-za-2025-godinu-rok-26-veljace-2026/
ATTACH;FMTTYPE=image/jpeg:https://kritika-hdp.hr/wp-content/uploads/2023/05/MKM-logo.jpg
END:VEVENT
END:VCALENDAR