BEGIN:VCALENDAR
VERSION:2.0
PRODID:-//Kritika HDP - ECPv6.15.20//NONSGML v1.0//EN
CALSCALE:GREGORIAN
METHOD:PUBLISH
X-WR-CALNAME:Kritika HDP
X-ORIGINAL-URL:https://kritika-hdp.hr
X-WR-CALDESC:Događaji za Kritika HDP
REFRESH-INTERVAL;VALUE=DURATION:PT1H
X-Robots-Tag:noindex
X-PUBLISHED-TTL:PT1H
BEGIN:VTIMEZONE
TZID:Europe/Zagreb
BEGIN:DAYLIGHT
TZOFFSETFROM:+0100
TZOFFSETTO:+0200
TZNAME:CEST
DTSTART:20230326T010000
END:DAYLIGHT
BEGIN:STANDARD
TZOFFSETFROM:+0200
TZOFFSETTO:+0100
TZNAME:CET
DTSTART:20231029T010000
END:STANDARD
BEGIN:DAYLIGHT
TZOFFSETFROM:+0100
TZOFFSETTO:+0200
TZNAME:CEST
DTSTART:20240331T010000
END:DAYLIGHT
BEGIN:STANDARD
TZOFFSETFROM:+0200
TZOFFSETTO:+0100
TZNAME:CET
DTSTART:20241027T010000
END:STANDARD
BEGIN:DAYLIGHT
TZOFFSETFROM:+0100
TZOFFSETTO:+0200
TZNAME:CEST
DTSTART:20250330T010000
END:DAYLIGHT
BEGIN:STANDARD
TZOFFSETFROM:+0200
TZOFFSETTO:+0100
TZNAME:CET
DTSTART:20251026T010000
END:STANDARD
END:VTIMEZONE
BEGIN:VEVENT
DTSTART;TZID=Europe/Zagreb:20240811T100000
DTEND;TZID=Europe/Zagreb:20240910T013000
DTSTAMP:20260420T083057
CREATED:20240811T144717Z
LAST-MODIFIED:20240811T145832Z
UID:12554-1723370400-1725931800@kritika-hdp.hr
SUMMARY:Javni poziv za dodjelu potpora za poticanje književnoga stvaralaštva u 2025. godini
DESCRIPTION:  \n1. Ministarstvo kulture i medija dodjeljivat će potpore autorima za:\n\nknjiževno-umjetnički rad na hrvatskom jeziku i to za pisanje:\n\nproznih djela – romana\, priča\npoezije\nknjiževnih eseja\nstripa\ndjela za djecu i mlade\n\n\n\n  \n\nknjiževne prijevode na hrvatski jezik djela koja predstavljaju opća kulturna dostignuća\, što uključuje prijevode:\n\nproznih djela – romana\, priča\npoezije\nknjiževnih eseja\nstripa\ndjela za djecu i mlade\n\n\n\nPotpora se neće dodjeljivati autorima za: \n\npublicistička i stručna djela\npripremu znanstvenih radova\nprijevode s trećih jezika\, odnosno jezika na kojima djela nisu izvorno napisana\ndovršavanje/dopunjavanje djela koja su već bila djelomično ili u potpunosti objavljivana (u fizičkom ili elektroničkom obliku)\n\nPotpora za poticanje književnoga stvaralaštva nije namijenjena objavljivanju knjiga. \n2. Dodjeljivat će se sljedeće potpore:\n\ngodišnje potpore u pojedinačnom iznosu od 12.000\,00 €\npolugodišnje potpore u pojedinačnom iznosu od 6.000\,00 €\ntromjesečne potpore u iznosu od 3.000\,00 €\n\nPotpore će se isplaćivati autorima u mjesečnim obrocima od 1.000\,00 € \n3. Pravo podnošenja ponuda na Javni poziv imaju fizičke osobe\, državljani Republike Hrvatske.\n4. Autori se nemaju pravo prijaviti na Javni poziv za poticanje književnoga stvaralaštva:\n\nprije nego što bude objavljena knjiga za koju su zadnji put koristili ovu potporu\nako je Ministarstvo kulture i medija nakladniku već odobrilo potporu za izdavanje prijavljenog naslova ili ako se nakladnik prijavljuje za potporu izdavanju toga djela u istoj godini\nako je rukopis s kojim se prijavljuju već završen i/ili objavljen\n\n\n5. Prijava s kompletnom dokumentacijom (ogledni arak i sinopsis\, životopis i bibliografija te dvije recenzije) podnosi se isključivo elektronički\, putem sustava ePrijavnica. \nObavezna se dokumentacija uz ePrijavnicu prilaže u 2 mape/foldera: \nObavezni prilog 1 (mapa/folder 1) \n\n\nSinopsis/detaljan opis projekta\nOgledni arak (oko 16 stranica gotovog teksta)\n\nNi sinopsis ni ogledni arak u nazivu i tijelu teksta ne smiju sadržavati ime autora radi prvog dijela procesa vrednovanja koji se odvija anonimno. \nObavezni prilog 2 (mapa/folder 2) \n\nBiobibliografija\nDvije potpisane recenzije relevantnih stručnjaka i to književnog kritičara ili teoretičara te urednika ili izdavača. Potpisivanje recenzije ne obvezuje izdavača/urednika da objavi/uredi završen rukopis.\n\nAutori koji se ponovno prijavljuju moraju uz svoju prijavu dostaviti primjerak objavljene knjige za koju su zadnji put koristili potporu za poticanje književnog stvaralaštva ako je nisu ranije dostavili Ministarstvu kulture i medija. \n6.  Sve u roku pristigle prijave s potpunom dokumentacijom razmotrit će posebno formirano povjerenstvo te uputiti prijedlog ministrici koja će donijeti odluku o dodjeli potpora autorima. \nPotpora za poticanje književnog stvaralaštva dodijelit će se autorima za rad na rukopisima koji se ističu svojom književnom kvalitetom\, a iznos\, odnosno visina i vrijeme trajanja potpore\, odredit će se na temelju terminskog plana rada na rukopisu koji se opisuje u prijavnici. \nS korisnikom potpore za poticanje književnoga stvaralaštva sklopit će se ugovor kojim će se urediti prava i obveze autora i Ministarstva. \n7. Nepotpune prijave te prijave pristigle izvan roka neće se razmatrati.\nSva pitanja vezana uz ovaj Poziv mogu se postaviti elektroničkim putem\, slanjem upita na sljedeću adresu: knjizevno.stvaralastvo@min-kulture.hr .\n8. Prijave na ovaj javni poziv mogu se podnositi od dana objave do 9. rujna 2024. godine do 17 sati.
URL:https://kritika-hdp.hr/dogadjaji/javni-poziv-za-dodjelu-potpora-za-poticanje-knjizevnoga-stvaralastva-u-2025-godini/
ATTACH;FMTTYPE=image/jpeg:https://kritika-hdp.hr/wp-content/uploads/2023/05/MKM-logo.jpg
END:VEVENT
END:VCALENDAR