BEGIN:VCALENDAR
VERSION:2.0
PRODID:-//Kritika HDP - ECPv6.15.20//NONSGML v1.0//EN
CALSCALE:GREGORIAN
METHOD:PUBLISH
X-WR-CALNAME:Kritika HDP
X-ORIGINAL-URL:https://kritika-hdp.hr
X-WR-CALDESC:Događaji za Kritika HDP
REFRESH-INTERVAL;VALUE=DURATION:PT1H
X-Robots-Tag:noindex
X-PUBLISHED-TTL:PT1H
BEGIN:VTIMEZONE
TZID:Europe/Zagreb
BEGIN:DAYLIGHT
TZOFFSETFROM:+0100
TZOFFSETTO:+0200
TZNAME:CEST
DTSTART:20190331T010000
END:DAYLIGHT
BEGIN:STANDARD
TZOFFSETFROM:+0200
TZOFFSETTO:+0100
TZNAME:CET
DTSTART:20191027T010000
END:STANDARD
BEGIN:DAYLIGHT
TZOFFSETFROM:+0100
TZOFFSETTO:+0200
TZNAME:CEST
DTSTART:20200329T010000
END:DAYLIGHT
BEGIN:STANDARD
TZOFFSETFROM:+0200
TZOFFSETTO:+0100
TZNAME:CET
DTSTART:20201025T010000
END:STANDARD
BEGIN:DAYLIGHT
TZOFFSETFROM:+0100
TZOFFSETTO:+0200
TZNAME:CEST
DTSTART:20210328T010000
END:DAYLIGHT
BEGIN:STANDARD
TZOFFSETFROM:+0200
TZOFFSETTO:+0100
TZNAME:CET
DTSTART:20211031T010000
END:STANDARD
BEGIN:DAYLIGHT
TZOFFSETFROM:+0100
TZOFFSETTO:+0200
TZNAME:CEST
DTSTART:20220327T010000
END:DAYLIGHT
BEGIN:STANDARD
TZOFFSETFROM:+0200
TZOFFSETTO:+0100
TZNAME:CET
DTSTART:20221030T010000
END:STANDARD
BEGIN:DAYLIGHT
TZOFFSETFROM:+0100
TZOFFSETTO:+0200
TZNAME:CEST
DTSTART:20230326T010000
END:DAYLIGHT
BEGIN:STANDARD
TZOFFSETFROM:+0200
TZOFFSETTO:+0100
TZNAME:CET
DTSTART:20231029T010000
END:STANDARD
END:VTIMEZONE
BEGIN:VEVENT
DTSTART;VALUE=DATE:20220318
DTEND;VALUE=DATE:20220418
DTSTAMP:20260424T033843
CREATED:20220318T142316Z
LAST-MODIFIED:20220722T114229Z
UID:1349-1647561600-1650239999@kritika-hdp.hr
SUMMARY:JAVNI POZIV: TRADUKI REZIDENCIJALNI PROGRAM 2022 (rok: 17. travnja)
DESCRIPTION:Prihvatljivi kandidati/kinje su pisci/spisateljice\, prevoditelji/ce i stručnjaci/kinje iz oblasti književnosti\, a koji dolaze iz: Albanije\, Bosne i Hercegovine\, Bugarske\, Hrvatske\, Kosova\, Crne Gore\, Sjeverne Makedonije\, Rumunije\, Srbije i Slovenije. \nTipovi rezidencija i ostale pojedinosti: \nU toku druge polovine 2022. godine\, dostupne su rezidencije u deset gradova jugoistočne Evrope: Beogradu\, Bukureštu\, Cetinju\, Novom Mestu\, Prištini\, Sarajevu\, Skoplju\, Sofiji\, Splitu i Tirani\, u trajanju od dvije do šest sedmica. Stipendije pokrivaju putne troškove\, smještaj u potpuno opremljenom stanu\, kao i izdržavanje od 250 EUR sedmično. \nMoguće je prijaviti se na: \n\nprevoditeljske rezidencije\,\nspisateljske rezidencije\,\nrezidencije za interdisciplinarnu saradnju\,\nrezidencije za praktičnu razmjenu\,\nistraživačka putovanja\,\nvirtuelne rezidencije.\n\nViše o tipovima rezidencija pročitajte u Uputama. Prijave podnesite putem Obrasca za prijavu. Odabrani kandidati će biti obaviješteni najkasnije do 15. 5. 2022. godine.
URL:https://kritika-hdp.hr/dogadjaji/javni-poziv-traduki-rezidencijalni-program-2022-rok-17-travnja/
ATTACH;FMTTYPE=image/png:https://kritika-hdp.hr/wp-content/uploads/2022/03/traduki_final_where_is_my_home-1024x730.png
END:VEVENT
BEGIN:VEVENT
DTSTART;VALUE=DATE:20220302
DTEND;VALUE=DATE:20220401
DTSTAMP:20260424T033843
CREATED:20220302T150443Z
LAST-MODIFIED:20220722T114356Z
UID:1346-1646179200-1648771199@kritika-hdp.hr
SUMMARY:Natječaj: Pjesnička rezidencija „Vesna Parun“ (rok: 31. ožujka 2022.)
DESCRIPTION:Dvotjedna književna rezidencija za hrvatske pjesnike i pjesnikinje organizira se na Zlarinu\, rodnom otoku Vesne Parun po kojoj projekt nosi ime. Obuhvaća boravak na otoku\, posjet zanimljivim lokalitetima u Šibensko-kninskoj županiji i minimalno jedno javno događanje u Šibeniku i/ili na Zlarinu. \nRok za podnošenje prijave: 31. ožujka 2022. u ponoć \nTrajanje rezidencije: 2 tjedna \nRazdoblje i mjesto provedbe: najkasnije do kraja rujna 2022. / otok Zlarin kod Šibenika \nUvjeti prijave:  \n\nPrijavitelji moraju imati objavljenu barem 1 zbirku poezije;\nPrijavitelji moraju imati najmanje 18 godina na datum podnošenja prijave;\nPrijavitelji moraju biti hrvatski državljani;\nPrijavitelj mora održati barem jedno javno predstavljanje tijekom rezidencije.\n\nŠto je ponuđeno: \n\nBoravak na otoku Zlarinu u privatnom smještaju;\nPokriveni troškovi putovanja i smještaja; \nHonorar;\nPromocija rezidenta na društvenim mrežama i u medijima; \nPodrška tijekom boravka.\n\nZa prijavu je potrebno poslati dokument u PDF ili Word formatu koji sadrži: \n\nŽivotopis (ne duži od jedne stranice);\nMotivacijsko pismo s obveznim obrazloženjem zašto prijavitelj želi boraviti na rezidenciji odnosno planom rada za vrijeme boravka.\n\nPrijave se šalju na fotopoetika@gmail.com \nIme odabranog rezidenta bit će proglašeno 10. travnja u Šibeniku prilikom proslave 100. obljetnice rođenja Vesne Parun i objavljeno na Facebook stranici organizatora projekta (Kulturna udruga Fotopoetika). Odabrani rezident također će biti obaviješten putem e-poruke. \nOvo je prva književna rezidencija na području Šibensko-kninske županije. Organizira se po drugi put i provodi uz financijsku potporu Ministarstva kulture i medija Republike Hrvatske.
URL:https://kritika-hdp.hr/dogadjaji/natjecaj-pjesnicka-rezidencija-vesna-parun-rok-31-ozujka-2022/
END:VEVENT
BEGIN:VEVENT
DTSTART;VALUE=DATE:20210415
DTEND;VALUE=DATE:20210506
DTSTAMP:20260424T033843
CREATED:20210415T043829Z
LAST-MODIFIED:20220725T075656Z
UID:1267-1618444800-1620259199@kritika-hdp.hr
SUMMARY:Pjesnička rezidencija Vesna Parun - rok: 5. svibnja
DESCRIPTION:Desetodnevna književna rezidencija za hrvatske pjesnike i pjesnikinje organizira se na Zlarinu\, rodnom otoku Vesne Parun po kojoj projekt nosi ime. Obuhvaća boravak pjesnika na otoku\, posjet zanimljivim lokalitetima u Šibensko-kninskoj županiji i minimalno jedno javno događanje u Šibeniku i/ili na Zlarinu. \nRok za podnošenje prijave: 5. svibnja 2021. u ponoć. \nTrajanje rezidencije: 10 dana \nRazdoblje i mjesto provedbe: 1. – 10. lipnja 2021. / otok Zlarin nasuprot Šibenika \n  \nUvjeti prijave: \n\nPrijavitelji moraju imati objavljenu barem 1 zbirku poezije;\nPrijavitelji moraju imati najmanje 18 godina na datum podnošenja prijave;\nPrijavitelji moraju biti hrvatski državljani;\nPrijavitelj mora održati barem jedno javno predstavljanje tijekom rezidencije.\n\nŠto je ponuđeno: \n\nBoravak na otoku Zlarinu u privatnom smještaju;\nPokriveni troškovi putovanja do rezidencije (unutar Hrvatske)\, smještaja i honorar;\nPromocija rezidenata na društvenim mrežama i u medijima;\nPodrška rezidentu.\n\nZa prijavu je potrebno poslati dokument u PDF ili Word formatu koji uključuje: \n\nŽivotopis (ne duži od jedne stranice);\nMotivacijsko pismo s obrazloženjem zašto prijavitelj želi boraviti na rezidenciji te okvirnim planom rada za vrijeme boravka\n\nPrijave se šalju na fotopoetika@gmail.com  Rezultati će biti objavljeni na Facebook stranici organizatora projekta (Kulturna udruga Fotopoetika) najkasnije do 10. svibnja 2021. Odabrani kandidat također će biti obaviješten putem e-poruke. \nOvo je prva književna rezidencija na području Šibensko-kninske županije i prvo veće događanje u županiji u kojoj je rođena najpoznatija hrvatska pjesnikinja Vesna Parun. Rezidencija se provodi uz financijsku potporu Grada Šibenika.
URL:https://kritika-hdp.hr/dogadjaji/pjesnicka-rezidencija-vesna-parun-rok-5-svibnja/
END:VEVENT
BEGIN:VEVENT
DTSTART;VALUE=DATE:20210216
DTEND;VALUE=DATE:20210301
DTSTAMP:20260424T033843
CREATED:20210216T070730Z
LAST-MODIFIED:20220725T080151Z
UID:1257-1613433600-1614556799@kritika-hdp.hr
SUMMARY:Međunarodni program književnih rezidencija Odisejevo utočište – Ulysses' Shelter; rok za prijavu: 28.2.2021.
DESCRIPTION:Izdavačka kuća Sandorf pokrenula je treći ciklus projekta književnih rezidencija Odisejevo utočište – Ulysses’ Shelter uz potporu programa Creative Europe Europske unije te u suradnji s općinom Mljet i Nacionalnim parkom Mljet i međunarodnim partnerima iz Slovenije\, Grčke\, Srbije i Velike Britanije (više o projektu na www.tovar.hr)\, a do 28. veljače otvoren je poziv za tri hrvatska sudionika međunarodnog programa književnih rezidencija. \nProjekt i mreža rezidencija namijenjeni su mladim piscima (proza i/ili poezija) i književnim prevoditeljima u dobi do 40 godina. \nProgram književnih rezidencija odvijat će se na otoku Mljetu (Hrvatska)\, u Ljubljani (Slovenija)\, u Larisi (Grčka)\, u Beogradu (Srbija) te na nekoliko lokacija u Walesu (UK). Program rezidencija\, čiji je naglasak na transnacionalnoj mobilnosti i razvoju publike\, omogućit će mladim piscima i prevoditeljima da rade\, nastupaju i predstave se unutar na jednoj od ponuđenih lokacija. Od ukupno 15 izabranih rezidenata iz 5 europskih država partnera (mladih pisaca / književnih prevoditelja) svaki partner će oformiti stručni žiri sastavljen od vodećih stručnjaka iz područja književnosti koji će od prijavljenih kandidata izabrati 3 autora\, sudionika mreže književnih rezidencija „Odisejevo utočište – Ulysses’ Shelter“. Rezidencije će omogućiti nove prilike za ostvarenje kontakata s drugim autorima\, prevoditeljima\, urednicima\, izdavačima i/ili predstavnicima različitih književnih organizacija i publike iz svih zemalja uključenih u projekt. Rezidencije će biti obogaćene popratnim programom koji sadrži različite književne aktivnosti namijenjene specifičnim (lokalnim) ciljanim skupinama. \nPandemija virusa COVID-19 znatno je otežala razmjenu rezidenata između partnera na projektu\, ali uz sve potrebne mjerama opreza projekt je nastavljen\, a partneri na projektu brinu za sigurnost kako sudionika projekta tako i njihove potencijalne publike. \nSve aktivnosti možete pratiti na stranici www.tovar.hr posvećenoj mreži književnih rezidencija „Odisejevo utočište – Ulysses’ Shelter“\, na stranici voditelja projekta www.sandorf.hr te na društvenim mrežama projekta i partnera. \nProjekt su također poduprli Ministarstvo kulture Republike Hrvatske\, Grad Zagreb i Dubrovačko-neretvanska županija. \n 
URL:https://kritika-hdp.hr/dogadjaji/medunarodni-program-knjizevnih-rezidencija-odisejevo-utociste-ulysses-shelter-rok-za/
ATTACH;FMTTYPE=image/jpeg:https://kritika-hdp.hr/wp-content/uploads/2021/02/Ulysses_Shelter-scaled.jpg
END:VEVENT
BEGIN:VEVENT
DTSTART;VALUE=DATE:20200915
DTEND;VALUE=DATE:20201008
DTSTAMP:20260424T033843
CREATED:20200915T111511Z
LAST-MODIFIED:20220725T080929Z
UID:1235-1600128000-1602115199@kritika-hdp.hr
SUMMARY:Rezidencije: Reading Balkans 2021: rok za prijavu 7. listopada 2020.
DESCRIPTION:Otvoren je natječaj za prijavu za književne rezidencije programa Reading Balkans 2021. Program u suradnji realiziraju Publishing House Goga (Slovenija)\, Goten Publishing (Makedonija)\, Krokodil (Srbija)\, Udruga Kurs (Hrvatska)\, Poeteka (Albanija)\, Qendra Multimedija (Kosovo)\, PEN Centar (Bosna i Hercegovina)\, a podržava ga mreža Traduki. \nRezidencije se održavaju od 1. ožujka do 30. rujna 2021. u Novom Mestu\, Beogradu\, Skoplju\, Tirani\, Prištini i Sarajevu.  \nRok za prijavu je 7. listopada 2020. \nViše o natječaju i prijavama: \nhttp://www.krokodil.rs/2020/09/open-call-reading-balkans-2021-the-literary-residence-programme/
URL:https://kritika-hdp.hr/dogadjaji/rezidencije-reading-balkans-2021-rok-za-prijavu-7-listopada-2020/
ATTACH;FMTTYPE=image/png:https://kritika-hdp.hr/wp-content/uploads/2020/09/reading-balkans-fp-1.png
END:VEVENT
END:VCALENDAR