BEGIN:VCALENDAR
VERSION:2.0
PRODID:-//Kritika HDP - ECPv6.15.20//NONSGML v1.0//EN
CALSCALE:GREGORIAN
METHOD:PUBLISH
X-ORIGINAL-URL:https://kritika-hdp.hr
X-WR-CALDESC:Događaji za Kritika HDP
REFRESH-INTERVAL;VALUE=DURATION:PT1H
X-Robots-Tag:noindex
X-PUBLISHED-TTL:PT1H
BEGIN:VTIMEZONE
TZID:Europe/Zagreb
BEGIN:DAYLIGHT
TZOFFSETFROM:+0100
TZOFFSETTO:+0200
TZNAME:CEST
DTSTART:20250330T010000
END:DAYLIGHT
BEGIN:STANDARD
TZOFFSETFROM:+0200
TZOFFSETTO:+0100
TZNAME:CET
DTSTART:20251026T010000
END:STANDARD
BEGIN:DAYLIGHT
TZOFFSETFROM:+0100
TZOFFSETTO:+0200
TZNAME:CEST
DTSTART:20260329T010000
END:DAYLIGHT
BEGIN:STANDARD
TZOFFSETFROM:+0200
TZOFFSETTO:+0100
TZNAME:CET
DTSTART:20261025T010000
END:STANDARD
BEGIN:DAYLIGHT
TZOFFSETFROM:+0100
TZOFFSETTO:+0200
TZNAME:CEST
DTSTART:20270328T010000
END:DAYLIGHT
BEGIN:STANDARD
TZOFFSETFROM:+0200
TZOFFSETTO:+0100
TZNAME:CET
DTSTART:20271031T010000
END:STANDARD
END:VTIMEZONE
BEGIN:VEVENT
DTSTART;VALUE=DATE:20260511
DTEND;VALUE=DATE:20260516
DTSTAMP:20260424T145948
CREATED:20260424T100609Z
LAST-MODIFIED:20260424T100609Z
UID:19425-1778457600-1778889599@kritika-hdp.hr
SUMMARY:Zagreb Book Festival 2026.
DESCRIPTION:  \nZagreb Book Festival i ove godine otvara ljeto u velikom stilu! Najveća imena svjetske i domaće književnosti\, umjetnosti i znanosti gostuju od 11. do 15. svibnja 2026. u Kulturno informativnom centru i Knjižari Ljevak te Zagreb još jednom pretvaraju u prijestolnicu riječi koje oblikuju suvremeni svijet. Dvanaesto izdanje Zagreb Book Festivala donosi bogat program s ekskluzivnim književnim promocijama\, panel-diskusijama\, popularnim tribinama “Knjige i vino” i “Kul u gradu” te razgovorima o ključnim pitanjima našega vremena. Nakon službenog dijela čekaju vas druženja s festivalskim zvijezdama na omiljenim zagrebačkim lokacijama – upoznajte ih i otkrijte još pokoji detalj o vašoj najdražoj knjizi! \n“Podijeli pa vladaj” još je od rimskog doba formula za osvajanje i dominaciju. Zagreb Book Festival 2026. umjesto podjela bira veliku i važnu temu “Mostovi”. S nagrađivanom belgijskom spisateljicom Caroline De Mulder razgovarat ćemo o njezinom potresnom hit-romanu “Himmlerove jaslice”(Naklada OceanMore\, 2025.; prevela Tonka Baričević)\, istinitoj priči o savršeno organiziranom nacističkom rodilištu\, za koji ugledni “Le Figaro littéraire” piše da “ima snagu velikog dokumentarca”. Njemački novinar i pisac Uwe Wittstock osvrnut će se na veliki uspjeh svoje knjige “Veljača 1933. – Zima književnosti” (Gymnasium naklada\, 2025.; prevela Gordana Dana Grozdanić)\, napete kronike o prvih mjesec dana Hitlerove vladavine\, ispisane ritmom i scenama kriminalističke priče\, koja je 12 tjedana bila na listi bestselera časopisa “Der Spiegel” te je prevedena na 15 jezika. Danska novinarka i pionirka razvoja konstruktivnih metoda izvještavanja Cathrine Gyldensted predstavit će svoju knjigu “Od zrcala do pokretača” (Agencija za elektroničke medije\, 2025.; prevela Iva Karabaić)\, utemeljenu na inovativnoj tezi da novinarstvo\, svojim utjecajem na građane i političare\, mijenja perspektive birača\, kontrolira moć vladajućih i pokreće svijet. Uz slovenskog ratnog izvjestitelja Boštjana Videmšeka i njegov novi naslov “Mir i rat: Korijeni ključnih kriza našega vremena” (Naklada Ljevak\, 2026.; prevela Anita Peti-Stantić) proputovat ćemo svijet linijom velikih sukoba\, od rata u Iraku preko Afganistana do Ukrajine i Rusije\, ali i saznati kako klimatske promjene oblikuju našu budućnost te kako sačuvati nadu usprkos svemu. \nU dijelu programa posvećenom domaćim gostima istražit ćemo pejzaž suvremene kinematografije\, književnosti i publicistike te ispitati društvene osjetljivosti kroz prizmu znanosti. \nBavit ćemo se fenomenom najgledanijeg filma u hrvatskim kinima u povijesti te najgledanijeg filma u regiji “Svadba”\, u razgovoru s njegovim redateljem i scenaristom Igorom Šeregijem. Predstavit ćemo novi naslov pisca i novinara Borisa Dežulovića “Tko je taj čovjek?: Izvještaj o jednoj mogućnosti” (Ex Libris – Rijeka\, 2025.)\, koji tematizira pokušaj preispisivanja povijesti Hitlerova “pivničkog puča” 1923. godine\, a koji Miljenko Jergović naziva “romanom bombom”. \nProgovorit ćemo o stigmatizaciji uslijed dijagnoze HIV-a i novom životu koji nastaje iz suočavanja s istinom\, u društvu pisca i bivšeg novinara Edija Kiseljaka\, čiji je debitantski roman “Ja sam Edi… i to je dovoljno” (Naklada Fragment\, 2026.) osvojio i uzdrmao javnost. Otkrit ćemo što se krije u novoj\, duhovitoj i britkoj zbirci eseja “Bachove književne kapi” književne teoretičarke i kritičarke Helene Sablić Tomić te koje bismo knjige trebali čitati kada smo tužni\, kada smo sretno zaljubljeni\, ljubomorni\, razočarani ili znatiželjni. Ponudit ćemo uvide u uzroke polarizacije društva i mogućnosti izgradnje mostova među ljudima\, u susretu s cijenjenim psihijatrom Darkom Marčinkom\, istaknutom psihologinjom Irenom Bezić\, uvaženim povjesničarom i novinarom Dariom Špelićem\, poznatim sociologom Ozrenom Žunecom i brojnim drugima. \nNa Zagreb Book Festivalu 2026. sudjelovat će i Sanja Baković\, Anda Bukvić Pažin\, Mirela Barbaroša-Šikić\, Iva Bezinović-Haydon\, Ivica Đikić\, Ena Katarina Haler\, Miljenko Jergović\, Boris Jokić\, Morana Kasapović\, Jasmina Kenda\, Dubravka Kisić\, Lea Kovács\, Dražen Lalić\, Karolina Lisak Vidović\, Barbara Matejčić\, Dalibor Milas\, Dragan Nikolić\, Dubravka Oraić Tolić\, Anita Peti-Stantić\, Sibila Petlevski\, Snježana Prijić-Samaržija\, Marijana Radmilović\, Boris Rašeta\, Ana Salopek\, Marko Stričević\, Nives Tomašević i Robert Tomljenović. \nZahvaljujemo pokroviteljima i medijskim pokroviteljima Zagreb Book Festivala 2026.: Ministarstvo kulture i medija Republike Hrvatske\, Grad Zagreb\, Agencija za medije\, 24sata\, Express\, HRT\, Yammat FM\, Moderna vremena i Najbolje knjige. \nZahvaljujemo svim autoricama i autorima\, gošćama i gostima festivala te prevoditeljicama i prevoditeljima razgovora koji su omogućili realizaciju programa. Posebno zahvaljujemo publici – našoj najvećoj inspiraciji i razlogu postojanja festivala. \nPronađite most do riječi – posjetite Zagreb Book Festival 2026.!
URL:https://kritika-hdp.hr/dogadjaji/zagreb-book-festival-2026/
LOCATION:Knjižara Ljevak\, Trg bana Josipa Jelačića 17\, Zagreb\, Croatia (Local Name: Hrvatska)
ATTACH;FMTTYPE=image/jpeg:https://kritika-hdp.hr/wp-content/uploads/2026/04/zbf.jpg
END:VEVENT
END:VCALENDAR