BEGIN:VCALENDAR
VERSION:2.0
PRODID:-//Kritika HDP - ECPv6.15.20//NONSGML v1.0//EN
CALSCALE:GREGORIAN
METHOD:PUBLISH
X-WR-CALNAME:Kritika HDP
X-ORIGINAL-URL:https://kritika-hdp.hr
X-WR-CALDESC:Događaji za Kritika HDP
REFRESH-INTERVAL;VALUE=DURATION:PT1H
X-Robots-Tag:noindex
X-PUBLISHED-TTL:PT1H
BEGIN:VTIMEZONE
TZID:Europe/Zagreb
BEGIN:DAYLIGHT
TZOFFSETFROM:+0100
TZOFFSETTO:+0200
TZNAME:CEST
DTSTART:20210328T010000
END:DAYLIGHT
BEGIN:STANDARD
TZOFFSETFROM:+0200
TZOFFSETTO:+0100
TZNAME:CET
DTSTART:20211031T010000
END:STANDARD
BEGIN:DAYLIGHT
TZOFFSETFROM:+0100
TZOFFSETTO:+0200
TZNAME:CEST
DTSTART:20220327T010000
END:DAYLIGHT
BEGIN:STANDARD
TZOFFSETFROM:+0200
TZOFFSETTO:+0100
TZNAME:CET
DTSTART:20221030T010000
END:STANDARD
BEGIN:DAYLIGHT
TZOFFSETFROM:+0100
TZOFFSETTO:+0200
TZNAME:CEST
DTSTART:20230326T010000
END:DAYLIGHT
BEGIN:STANDARD
TZOFFSETFROM:+0200
TZOFFSETTO:+0100
TZNAME:CET
DTSTART:20231029T010000
END:STANDARD
BEGIN:DAYLIGHT
TZOFFSETFROM:+0100
TZOFFSETTO:+0200
TZNAME:CEST
DTSTART:20240331T010000
END:DAYLIGHT
BEGIN:STANDARD
TZOFFSETFROM:+0200
TZOFFSETTO:+0100
TZNAME:CET
DTSTART:20241027T010000
END:STANDARD
END:VTIMEZONE
BEGIN:VEVENT
DTSTART;TZID=Europe/Zagreb:20230522T100000
DTEND;TZID=Europe/Zagreb:20230527T010000
DTSTAMP:20260420T095923
CREATED:20230509T201915Z
LAST-MODIFIED:20230509T202044Z
UID:8756-1684749600-1685149200@kritika-hdp.hr
SUMMARY:Zagreb Book Festival 2023.
DESCRIPTION:Objavljen je program Zagreb Book Festivala! Održavat će se od 22. svibnja do 26. svibnja na raznim lokacijama u Zagrebu\, a program možete naći u nastavku. \nZagreb Book Festival 2023. – Promjena\nProgram: \n22.05.2023. Ponedjeljak \n18:00 – 19:00 PANEL DISKUSIJA\nPercepcije ljubavi: ljubav treba ponovno izmisliti\nSudjeluju: Dora Šustić\, Ivana Bodrožić\, Marina Vujčić\nModerira: Morana Kasapović\nLokacija: KIC\, Preradovićeva 5 \n19:30-20:30 RAZGOVOR S PISCEM\n“Je li majka umrla?”\nGošća: Vigdis Hjorth\nModerira: Sanja Baković\nLokacija KIC\, Preradovićeva 5 \n23.05.2023. Utorak \n08:30-09:30 MALA SLOVA\nKimi\, nemaš vremena!\nSudjeluje: Jelena Pervan\nModerira: Sanja Baković\nLokacija: Knjižara Ljevak \n14:00-15:00 MALA SLOVA\nRazgovor s autorom: Mladen Kopjar\nSudjeluju: Mladen Kopjar i Mejra Vindakijević\nModerira: Vlatka Kolarović\nLokacija: Knjižara Ljevak \n19:00-20:00 POSEBAN PROGRAM\nKnjige i vino\nSudjeluju: Damir Karakaš i Morana Kasapović\nLokacija: KIC\, Preradovićeva 5 \n24.05.2023. Srijeda \n17:00-18:00 RAZGOVOR S PISCEM\nGloria Lujanović: Otac\nSudjeluju: Gloria Lujanović\, Ivica Đikić\, Monika Herceg\nModerira: Sanja Baković\nLokacija: KIC\, Preradovićeva 5 \n18:30-19:30 PROMOCIJA\nGrof Darkula: Priručnik za preživljavanje\nSudjeluju: Nastja Kulović\, Pamela Perkić\, Duje Kovačević\, Miranda Novak\nModerira: Ivana Bodrožić\nLokacija: KIC\, Preradovićeva 5 \n20:00-21:00 PANEL DISKUSIJA\nStrah i anksioznost – alkemija mraka\nSudjeluju: Jeanette Fischer\, Nataša Jokić Begić\, Monika Herceg\nModerira: Morana Kasapović\nLokacija: KIC\, Preradovićeva 5 \n25.05.2023. Četvrtak \n17:00-18:00 KUL U GRADU\nKnjiževnica u Zagrebu\nSudjeluju: Katarina Ivon\, Dubravka Zima\nModerira: Sanja Baković\nLokacija: Knjižara Ljevak \n18:00-19:00 RAZGOVOR S PISCEM\nJeannette Fischer: Mržnja\nSudjeluju: Jeanette Fischer\, Leonida Kovač\nModerira: Nataša Medved\nPosebne gošće: Zbor jodlerica Jodelwiiber Naturtrüeb\, Zurich\nLokacija: KIC\, Preradovićeva 5 \n20:00-21:00 PANEL DISKUSIJA\nVrijeme je da se krene- kakvo društvo sanjamo?\nSudjeluju: Nika Kovač\, Marko Tomaš\, Tomislav Klauški\nModerira: Morana Kasapović\nLokacija: KIC\, Preradovićeva 5 \n26.05.2023. Petak \n14:00 – 15:00 MALA SLOVA\nRazgovor s autoricom: Nada Mihaljević\nSudjeluju: Nada Mihaljević i Mejra Vindakijević\nModerira: Vlatka Kolarović\nLokacija: Knjižara Ljevak \n17:00-18:00 PROMOCIJA\nNika Kovač: Pisma tebi\nSudjeluju: Nika Kovač\, Anita Peti- Stantić \, Tina Đaković\nModerira: Vlatka Kolarović\nLokacija: Knjižnica Bogdan Ogrizović \n18:00-19:00 PROMOCIJA\nSibila Petlevski: Točka poraza\nSudjeluju: Sibila Petlevski\, Irena Matijašević\, Nataša Govedić\nModerira: Sanja Baković\nLokacija: KIC\, Preradovićeva 5 \n19:30-20:30: POSEBAN PROGRAM\nStorytelling\nSudjeluju: Nora Verde\, Borna Sor\, Emir Imamović Pirke\nModerira: Morana Kasapović\nLokacija: KIC\, Preradovićeva 5
URL:https://kritika-hdp.hr/dogadjaji/zagreb-book-festival-2023/
ATTACH;FMTTYPE=image/jpeg:https://kritika-hdp.hr/wp-content/uploads/2023/05/339805837_1362691247908012_5158084784850618015_n.jpg
END:VEVENT
BEGIN:VEVENT
DTSTART;VALUE=DATE:20220523
DTEND;VALUE=DATE:20220529
DTSTAMP:20260420T095923
CREATED:20220509T143029Z
LAST-MODIFIED:20220722T113114Z
UID:1365-1653264000-1653782399@kritika-hdp.hr
SUMMARY:Zagreb Book Festival 2022.
DESCRIPTION:Nakon dvije pandemijske godine ponovno se održava raznovrsni ZBF u prostorijama Ritma grada i Knjižare Ljevak. \nMeđu gostima su Olja Savičević Ivančević\, Yannick Geens\, Goran Čolakhodžić\, Andri Snaer Magnason\, Eva Meijer\, Dunja Mazzocco Drvar\, Rachida Lamrabet\, Tena Štivičić\, Ivana Bašić\, Dalibor Šimpraga\, Adriana Škunca\, Marija Andrijašević\, Dražen Šimleša\, Karmen Ratković\, Edo Popović\, Mirela Holy\, Velimir Grgić\, Saša Ceci i drugi. \nŠest panel diskusija bavit će se sljedećim temama: Čuje li politika zvona za uzbunu?; Klimatske promjene – sadašnjost\, a ne budućnost; Zelena poezija; EkoFeminizam – u potrazi za skladom; Istina je voda duboka – što je tako privlačno u teorijama zavjere?; A gdje sam u svemu tome Ja? \nViše o temama i samom festivalu: Zagreb Book Festival; Program.
URL:https://kritika-hdp.hr/dogadjaji/zagreb-book-festival-2022/
ATTACH;FMTTYPE=image/jpeg:https://kritika-hdp.hr/wp-content/uploads/2022/05/Untitled-1.jpg
END:VEVENT
END:VCALENDAR