BEGIN:VCALENDAR
VERSION:2.0
PRODID:-//Kritika HDP - ECPv6.15.20//NONSGML v1.0//EN
CALSCALE:GREGORIAN
METHOD:PUBLISH
X-ORIGINAL-URL:https://kritika-hdp.hr
X-WR-CALDESC:Događaji za Kritika HDP
REFRESH-INTERVAL;VALUE=DURATION:PT1H
X-Robots-Tag:noindex
X-PUBLISHED-TTL:PT1H
BEGIN:VTIMEZONE
TZID:Europe/Zagreb
BEGIN:DAYLIGHT
TZOFFSETFROM:+0100
TZOFFSETTO:+0200
TZNAME:CEST
DTSTART:20210328T010000
END:DAYLIGHT
BEGIN:STANDARD
TZOFFSETFROM:+0200
TZOFFSETTO:+0100
TZNAME:CET
DTSTART:20211031T010000
END:STANDARD
BEGIN:DAYLIGHT
TZOFFSETFROM:+0100
TZOFFSETTO:+0200
TZNAME:CEST
DTSTART:20220327T010000
END:DAYLIGHT
BEGIN:STANDARD
TZOFFSETFROM:+0200
TZOFFSETTO:+0100
TZNAME:CET
DTSTART:20221030T010000
END:STANDARD
BEGIN:DAYLIGHT
TZOFFSETFROM:+0100
TZOFFSETTO:+0200
TZNAME:CEST
DTSTART:20230326T010000
END:DAYLIGHT
BEGIN:STANDARD
TZOFFSETFROM:+0200
TZOFFSETTO:+0100
TZNAME:CET
DTSTART:20231029T010000
END:STANDARD
BEGIN:DAYLIGHT
TZOFFSETFROM:+0100
TZOFFSETTO:+0200
TZNAME:CEST
DTSTART:20240331T010000
END:DAYLIGHT
BEGIN:STANDARD
TZOFFSETFROM:+0200
TZOFFSETTO:+0100
TZNAME:CET
DTSTART:20241027T010000
END:STANDARD
BEGIN:DAYLIGHT
TZOFFSETFROM:+0100
TZOFFSETTO:+0200
TZNAME:CEST
DTSTART:20250330T010000
END:DAYLIGHT
BEGIN:STANDARD
TZOFFSETFROM:+0200
TZOFFSETTO:+0100
TZNAME:CET
DTSTART:20251026T010000
END:STANDARD
BEGIN:DAYLIGHT
TZOFFSETFROM:+0100
TZOFFSETTO:+0200
TZNAME:CEST
DTSTART:20260329T010000
END:DAYLIGHT
BEGIN:STANDARD
TZOFFSETFROM:+0200
TZOFFSETTO:+0100
TZNAME:CET
DTSTART:20261025T010000
END:STANDARD
BEGIN:DAYLIGHT
TZOFFSETFROM:+0100
TZOFFSETTO:+0200
TZNAME:CEST
DTSTART:20270328T010000
END:DAYLIGHT
BEGIN:STANDARD
TZOFFSETFROM:+0200
TZOFFSETTO:+0100
TZNAME:CET
DTSTART:20271031T010000
END:STANDARD
END:VTIMEZONE
BEGIN:VEVENT
DTSTART;VALUE=DATE:20260111
DTEND;VALUE=DATE:20260201
DTSTAMP:20260423T102747
CREATED:20260111T172616Z
LAST-MODIFIED:20260111T172808Z
UID:18781-1768089600-1769903999@kritika-hdp.hr
SUMMARY:Poziv na dostavu projektnih prijedloga „Čitanjem do uključivog društva“
DESCRIPTION:Opći je cilj Poziva povećanje socijalne uključenosti pripadnika ranjivih skupina kroz razvoj i provedbu inkluzivnih usluga narodnih knjižnica\, dok su specifični ciljevi razvoj inkluzivne usluge pokretne knjižnice u svrhu poticanja čitalačke pismenosti te razvoj čitalačke pismenosti pripadnika ranjivih skupina – djece i mladih\, starijih i osoba s invaliditetom sudjelovanjem u inkluzivnim uslugama narodnih knjižnica. Prihvatljivi su prijavitelji ustanove koje samostalno obavljaju knjižničnu djelatnost te su upisane kao narodne knjižnice u odgovarajući registar (Upisnik knjižnica u Republici Hrvatskoj). \nNarodne knjižnice predstavljaju jedan od temeljnih preduvjeta za stjecanje informacija\, znanja\, poticanje čitalačke pismenosti te cjeloživotnog učenja s ciljem zadovoljenja kulturnih\, obrazovnih\, informacijskih te osobnih potreba za razvoj pojedinaca. Uspostavom novih i/ili unapređenjem postojećih inkluzivnih usluga pokretne knjižnice\, jačaju se kapaciteti narodnih knjižnica za obavljanje djelatnosti propisanih Standardom za narodne knjižnice u Republici Hrvatskoj (NN 103/21)\, posebice u dijelu pružanja usluga kao što su knjižnične usluge te programi poticanja čitanja i razvoja čitateljske kulture. Sudjelovanjem u navedenim programima\, pripadnicima ranjivih skupina\, što su u kontekstu ovog Poziva: djeca  i mladi\, starije osobe  te osobe s invaliditetom\, omogućuje se razvoj čitalačke pismenosti te jačanje kompetencija i vještina\, što u konačnici pozitivno utječe na njihovo osobno ispunjenje i razvoj te socijalnu uključenost. \nPozivom će se financirati aktivnosti razvoja usluge pokretne knjižnice te provedba programa narodnih knjižnica namijenjenih pripadnicima ranjivih skupina u svrhu poticanja čitanja i razvoja čitalačke pismenosti. \nUkupna raspoloživa financijska sredstva u okviru ovog Poziva na dostavu projektnih prijedloga iznose 15.000.000\,00 eura. Udio financiranja po pojedinom projektu iznosi 100 % prihvatljivih troškova\, od čega je 85 % osigurano iz sredstava Europskog socijalnog fonda plus\, a 15 % iz Državnog proračuna Republike Hrvatske. \nNatječajna dokumentacija dostupna je na poveznicama: (eufondovi.gov.hr i esf.hr/esfplus)\, a projektni prijedlozi se podnose putem sustava eKohezija (https://ekohezija.gov.hr/). \nProjektni se prijedlozi zaprimaju od 2. listopada 2025. od 9:00 sati. Ovaj se PDP provodi u modalitetu otvorenog trajnog PDP-a te rok za podnošenje projektnih prijedloga ističe danom donošenja Odluke o financiranju posljednjeg projektnog prijedloga koji udovolji svim kriterijima\, a kojim se iscrpljuju raspoloživa financijska sredstva ili na dan krajnjeg roka za zaprimanje projektnih prijedloga (ovisno što prije nastupi). Krajnji je rok za dostavu projektnih prijedloga 31. siječnja 2026. do 16:00 sati. \nZa navedeni će se Poziv organizirati online informativna radionica za potencijalne prijavitelje/partnere u petak\, 12. rujna 2025. godine od 10:00 do 12:00 sati putem aplikacije Microsoft Teams. \nSvrha je online informativne radionice detaljnije informirati potencijalne prijavitelje/partnere o ciljevima i kriterijima natječaja te o procedurama za prijavu\, ocjenjivanje i provedbu projekata. Sudjelovanje na online informativnoj radionici je besplatno. \nZa prijavu sudjelovanja potrebno je popuniti Prijavni obrazac. U obzir će se uzimati prijave pristigle do srijede\, 10. rujna 2025. u 16:00 sati. \nPrihvatljivi će sudionici dobiti poveznicu za pristup radionici najkasnije na dan održavanja radionice. \nPodsjećamo\, zahvaljujući osiguranim sredstvima u okviru Operativnog programa Učinkoviti ljudski potencijali 2014. – 2020.\, hrvatska mreža pokretnih knjižnica proširena je i pojačana s 11 novih vozila. Snažan razvoj nastavljen je nacionalnim sredstvima\, kojima su u 2024. godine osigurana 2 nova vozila u Koprivničko-križevačkoj županiji. Na području Hrvatske danas djeluje 16 bibliobusnih službi s 19 pokretnih knjižnica koje\, u mreži od 194 općinske/gradske knjižnice te 115 njihovih podružnica i ogranaka\, značajno doprinose rješavanju problema dostupnosti knjižničnih usluga na područjima svoga djelovanja. Uzimajući u obzir broj naselja\, gustoću naseljenosti i postojeću mrežu stacionarnih narodnih knjižnica\, upravo pokretne knjižnice predstavljaju primjeren i racionalan oblik nadopune knjižničnih usluga u Republici Hrvatskoj. \nNovo izdanje Programa razvoja mreže pokretnih knjižnica u Republici Hrvatskoj (2023. – 2032.) predviđa dostupnost usluga u svim županijama Republike Hrvatske\, osobito u područjima gdje trenutno ne postoje bibliobusne službe. Brodsko-posavska\, Dubrovačko-neretvanska\, Istarska\, Krapinsko-zagorska\, Ličko-senjska\, Osječko-baranjska\, Požeško-slavonska\, Sisačko-moslavačka\, Šibensko-kninska\, Varaždinska i Zagrebačka\, županije su koje će u narednom desetljeću uvoditi i razvijati bibliobusne usluge prema usvojenim planovima razvoja županijskih bibliobusnih usluga i specifičnim lokalnim potrebama.
URL:https://kritika-hdp.hr/dogadjaji/poziv-na-dostavu-projektnih-prijedloga-citanjem-do-ukljucivog-drustva/
ATTACH;FMTTYPE=image/jpeg:https://kritika-hdp.hr/wp-content/uploads/2023/05/MKM-logo.jpg
END:VEVENT
BEGIN:VEVENT
DTSTART;VALUE=DATE:20251107
DTEND;VALUE=DATE:20251209
DTSTAMP:20260423T102747
CREATED:20251119T105207Z
LAST-MODIFIED:20251119T105241Z
UID:18101-1762473600-1765238399@kritika-hdp.hr
SUMMARY:Javni poziv za predlaganje programa koji potiču razvoj publike u kulturi u Republici Hrvatskoj za 2026. godinu (Rok: 8. prosinca 2025.)
DESCRIPTION:Na temelju članka 7. Zakona o kulturnim vijećima i financiranju javnih potreba u kulturi („Narodne novine“\, broj 83/22) Ministarstvo kulture i medija Republike Hrvatske objavljuje \nJavni poziv za predlaganje programa koji potiču razvoj publike u kulturi\nu Republici Hrvatskoj za 2026. godinu \n1.\nPravo podnošenja prijava na temelju ovog Poziva imaju samostalni umjetnici\, umjetničke organizacije\, ustanove u kulturi\, udruge\, pravne i fizičke osobe koje obavljaju djelatnost u kulturi\, ustanove koje obavljaju djelatnost umjetničkog obrazovanja te jedinice lokalne i područne (regionalne) samouprave. Sve fizičke i pravne osobe registrirane za obavljanje djelatnosti u području kulture u Republici Hrvatskoj prilikom prijave dužne su dostaviti dokaz o djelovanju u području kulture tijekom najmanje dviju godina (registracija\, opis dosadašnjega rada i postignuća).\n2.\nFinanciraju se programi visoke kvalitete i profesionalnih standarda\, obuhvaćajući široka područja kulture i umjetnosti: izvedbene i vizualne umjetnosti interdisciplinarne i nove kulturne i umjetničke prakse\, književnost\, kulturna baština i film te programi međunarodne kulturne suradnje. \n3.\nSredstva će se dodjeljivati za programe kojima je cilj razvoj publike u kulturi. Programi razvoja publike mogu se prijaviti u sljedećim programskim djelatnostima: \n1. Jačanje kapaciteta organizacija za razvoj i provođenje aktivnosti usmjerenih na razvoj publike \n• stručna i profesionalno vođena istraživanja publike u svrhu definiranja ciljnih skupina\,\nsegmentacije publike ili izrade baze rezultata istraživanja dostupne javnosti\n• jačanje kapaciteta organizacije i razmjena znanja kroz edukativne programe usmjerene na razvoj inovativnih i interdisciplinarnih pristupa publici\n• stvaranje partnerstva među organizacijama u području razvoja publike\n• organizacija\, suorganizacija ili pohađanje profesionalnih edukacija u području razvoja publike\n• izrada profesionalnog plana razvoja publike ili strategije u organizacijama uz mentorsko vođenje. \n2. Razvoj programa \n• programi aktivnog uključivanja publike u umjetnička i kulturna događanja u formalnome i neformalnome okruženju\n• aktivnosti koje sustavno povećavaju pristup i sudjelovanje ranjivih skupina (djeca i mladi\, starija generacija\, osobe s invaliditetom\, jezične i nacionalne manjine\, stanovnici rijetko naseljenih područja i područja od posebne državne skrbi i sl.) u kulturnim i umjetničkim programima\n• razvoj inovativnih digitalnih sadržaja i modela za interaktivnu komunikaciju s publikom kojima će se povećati vidljivosti kulturnih i umjetničkih programa\n• aktivnosti umrežavanja i stvaranje partnerstva na programima razvoja publike\n• programi osmišljavanja i provedbe suradničkih praksi s ciljem uključivanja šire zajednice u razvoj kulturnih sadržaja. \n3. Razvoj čitateljske publike u narodnim knjižnicama \n• promocija i poticanje čitanja u narodnim knjižnicama vrijednih knjiga pribavljenih kroz Program otkupa knjiga za narodne knjižnice na temelju popisa A i B objavljenih na mrežnim stranicama Ministarstva u 2025. godini.\n• narodne knjižnice mogu poticati razvoj čitateljske publike knjiga pribavljenih kroz program otkupa/uvrštenih na popise A i B putem predstavljanja novih izdanja\, autorskih čitanja i potpisivanja knjiga\, programa za djecu i mlade (radionice\, pričaonice\, susreti…)\, književnih klubova\, tematskih književnih događanja/tribina (npr. razgovori o poeziji\, popularno-znanstvene tribine i sl.)\n• narodne knjižnice dužne su u svoj program razvoja čitateljske publike uvrstiti 70% knjiga uvrštenih na popis A te 30% knjiga uvrštenih na popis B (Primjer: knjižnica planira predstaviti 10 knjiga u godini dana – od toga ih 7 treba biti s popisa A i 3 s popisa B iz 2025. godine)\n• do trećine prijavljenih aktivnosti može se odnositi na književnost za djecu i mlade\, do trećine na domaću i prijevodnu prozu\, a trećina na poeziju te publicističku\, znanstvenu i stručnu knjigu. \n4.\nUz ispunjenu e-prijavnicu obavezno je priložiti:\nObrazac izjave o nepostojanju dvostrukog financiranja (predložak je dostupan za preuzimanje unutar e-prijavnice)\nObrazac izjave o istinitosti i vjerodostojnosti podataka financiranja (predložak je dostupan za preuzimanje unutar e-prijavnice)\nPotvrda Porezne uprave o stanju duga ne starija od 30 dana\nDetaljno specificiran troškovnik programa\nDetaljan opis programa za koji se potražuju sredstva (kontekst nastanka programa i potrebe razvoja publike koje se programom zadovoljavaju\, detaljna razrada programa s pregledom svih predviđenih aktivnosti\, popis sudionika i suradnika s referencijama\, metodologija rada\, ciljane skupine\, rezultati programa\, održivost programa)\nTerminski plan održavanja programa Stručne referencije autora/voditelja programa (CV)\nPrethodna suglasnost nadležnog tijela ukoliko program uključuje korištenje javnog prostora\ndostavljen izvadak iz Registra neprofitnih organizacija za umjetničke organizacije i udruge\nupis u Očevidnik kazališta (za javna i privatna kazališta). \n5.\nSve fizičke i pravne osobe registrirane za obavljanje djelatnosti u području kulture u Republici Hrvatskoj prilikom prijave dužne su priložiti dokaz o djelovanju u području kulture tijekom najmanje dviju godina (registracija\, opis dosadašnjeg rada i postignuća). \n6.\nSve u roku pristigle prijave s potpunom dokumentacijom razmotrit će posebno stručno povjerenstvo za odabir programa koji potiču razvoj publike u području kulture te uputiti prijedlog ministrici kulture i medija\, koja će donijeti odluku o izboru programa. S nositeljem programa sklopit će se ugovor kojim će se urediti prava i obveze korisnika sredstava i Ministarstva kulture i medija.\n7.\nPrijava se podnosi elektroničkim putem e-obrasca koji je dostupan na stranicama Ministarstva kulture i medija: https://e-prijavnice.min-kulture.hr/e-pisarnica. Uz svaku elektronički popunjenu e-prijavnicu potrebno je učitati odnosno pohraniti svu propisanu popratnu dokumentaciju u digitalnom obliku. \n8.\nPrijavnice koje ne ispunjavaju tražene uvjete sukladno tekstu i uvjetima natječaja te uputama za prijavitelje\, koje nisu dostavljene u elektroničkome obliku na odgovarajućem obrascu (e-prijavnici) u navedenome roku\, kojima nedostaje neki od obaveznih priloga te prijavnice korisnika koji nisu izvršili dosadašnje obveze prema Ministarstvu kulture i medija neće se razmatrati niti uvrstiti u programe koji potiču razvoj publike u kulturi u Republici Hrvatskoj za 2026. godinu. \nPrijave na temelju ovog Poziva mogu se podnositi od 7. studenog do 8. prosinca 2025. godine do 17 sati. \nKLASA: 402-01/25-01/0051\nURBROJ: 532-03-02-02-25-01 \n 
URL:https://kritika-hdp.hr/dogadjaji/javni-poziv-za-predlaganje-programa-koji-poticu-razvoj-publike-u-kulturi-u-republici-hrvatskoj-za-2026-godinu-rok-8-prosinca-2025/
ATTACH;FMTTYPE=image/jpeg:https://kritika-hdp.hr/wp-content/uploads/2023/05/MKM-logo.jpg
END:VEVENT
BEGIN:VEVENT
DTSTART;TZID=Europe/Zagreb:20230725T100000
DTEND;TZID=Europe/Zagreb:20230826T013000
DTSTAMP:20260423T102747
CREATED:20230813T083201Z
LAST-MODIFIED:20230816T181627Z
UID:9548-1690279200-1693013400@kritika-hdp.hr
SUMMARY:Javni poziv Art radionice Lazareti za 2024. godinu (rok: 25. kolovoza)
DESCRIPTION:ARL poziva umjetnike i umjetnice\, autorice i autore\, umjetničke organizacije\, udruge\, građane i sve zainteresirane da se sa svojim prijedlozima umjetničkih\, kulturnih i društvenih aktivnosti jave na Javni poziv Art radionice Lazareti za 2024. godinu\, od 25.07.2023. do 25.08.2023. \n\nPoziv je otvoren za sve programske linije koje provodi i organizira ARL:\n· Galerija Otok\n· Scena Karantena\n· Participacija / Protuotrov\n· Književnost u Lazaretima\n· Grad je mrtav? Živio Grad!Budući da će 2024. označiti 35. godinu djelovanja ARL u stvaranju prostora suvemenih umjetnosti\, poseban će naglasak programiranja 2024. biti usmjeren prema aktivnostima koje tu obljetnicu i kontekst obilježavaju. Fokus ovih aktivnosti možemo sažeti u pojmovima retrospektivnost\, rekontekstualizacija i anticipacija.\n\nNatječaj.
URL:https://kritika-hdp.hr/dogadjaji/javni-poziv-art-radionice-lazareti-za-2024-godinu-rok-25-8-2023/
LOCATION:Dubrovnik
ATTACH;FMTTYPE=image/jpeg:https://kritika-hdp.hr/wp-content/uploads/2023/08/drawing-pencil-waist-pencil-carbon.jpg
END:VEVENT
BEGIN:VEVENT
DTSTART;TZID=Europe/Zagreb:20230515T100000
DTEND;TZID=Europe/Zagreb:20230612T190000
DTSTAMP:20260423T102747
CREATED:20230515T195950Z
LAST-MODIFIED:20230515T200356Z
UID:8838-1684144800-1686596400@kritika-hdp.hr
SUMMARY:Javni poziv za dodjelu stimulacija autorima za najbolja ostvarenja na području književnog stvaralaštva i književnog prevodilaštva u 2021. i 2022. godini
DESCRIPTION:Objavljen Javni poziv za dodjelu stimulacija autorima za najbolja ostvarenja na području književnog stvaralaštva i književnog prevodilaštva u 2021. i 2022. godini. \nNa ovaj se Poziv mogu prijaviti autori s prijedlogom književnih djela čije je prvo izdanje objavljeno na hrvatskom jeziku kod izdavača registriranih u Republici Hrvatskoj u razdoblju od 1. siječnja 2021. do 31. prosinca 2022. godine. \nPrijaviti se mogu književna djela napisana izvorno na hrvatskom jeziku ili književna djela prevedena na hrvatski jezik.\n \nDo 20 stimulacija dodijelit će se autorima književnih djela izvorno napisanih na hrvatskom jeziku\, dok će se prevoditeljima za književne prijevode sa suvremenih jezika dodijeliti do 10 stimulacija i to za prozna i poetska djela te stripove i knjige namijenjene djeci i mladima. Stimulacije se neće dodjeljivati za publicistička\, znanstvena i stručna djela.\n \nPrijave se podnose elektroničkim putem\, ispunjavanjem eprijavnice br. 36 za prijavu svake pojedinačne knjige. Prijave na ovaj Poziv primaju se do 12. lipnja 2023. godine\, do 17 sati.
URL:https://kritika-hdp.hr/dogadjaji/javni-poziv-za-dodjelu-stimulacija-autorima-za-najbolja-ostvarenja-na-podrucju-knjizevnog-stvaralastva-i-knjizevnog-prevodilastva-u-2021-i-2022-godini/
ATTACH;FMTTYPE=image/jpeg:https://kritika-hdp.hr/wp-content/uploads/2023/05/MKM-logo.jpg
END:VEVENT
BEGIN:VEVENT
DTSTART;VALUE=DATE:20220912
DTEND;VALUE=DATE:20221013
DTSTAMP:20260423T102747
CREATED:20220915T073917Z
LAST-MODIFIED:20220915T073933Z
UID:6478-1662940800-1665619199@kritika-hdp.hr
SUMMARY:Javni poziv za predlaganje javnih potreba u kulturi Republike Hrvatske za 2023. godinu
DESCRIPTION:Na ovaj Javni poziv mogu se prijaviti ustanove u kulturi\, umjetničke organizacije\, umjetnici\, udruge\, druge fizičke i pravne osobe te jedinice lokalne i područne (regionalne) samouprave u djelatnostima navedenima na njihovim mrežnim stranicama. \nU procesu vrednovanja prijavljenih programa i projekata posebna pozornost bit će posvećena ispunjavanju osnovnih prioriteta i ciljeva kulturnog razvitka: jačanje suvremenog umjetničkog stvaralaštva i produkcije te njezino pozicioniranje u odnosu na europski kontekst\, poticanje mobilnosti i međukulturnog dijaloga\, razvijanje dugoročnih partnerskih suradnji\, stručna utemeljenost i visoka razina kvalitete\, uključenost lokalne zajednice\, osiguranje temeljne kulturne infrastrukture\, zaštita\, očuvanje i održivo upravljanje kulturnom baštinom\, ekonomičnost te kontinuitet u djelovanju predlagatelja programa i projekata. \nPrijave za financiranje javnih potreba u kulturi podnose se elektroničkim putem na odgovarajućim e-obrascima (za svako programsko područje posebna e-prijavnica te za međunarodnu kulturnu suradnju za svaku zemlju posebna e-prijavnica) koji su dostupni na mrežnim stranicama Ministarstva kulture i medija: https://e-prijavnice.min-kulture.hr/e-pisarnica. Uz svaku elektronički popunjenu e-prijavnicu potrebno je učitati\, odnosno pohraniti\, svu propisanu popratnu dokumentaciju u digitalnom obliku. \nPrijave se podnose u razdoblju od 12. rujna do 12. listopada 2022. godine do 17 sati. \nIznimno od prethodno navedenog roka\, prijave programa koji se odnose na područja zaštite i očuvanja kopnene i podvodne arheološke baštine\, nepokretnih\, pokretnih i nematerijalnih kulturnih dobara podnose se u razdoblju od 26. rujna do 26. listopada 2022. godine do 17 sati. \nZbog posebne dinamike planiranja prijedlozi programa koji se odnose na međunarodnu kulturnu suradnju u 2023. godini prijavljuju se u dva (2) roka: od 12. rujna do 12. listopada 2022. godine te od 17. travnja do 17. svibnja 2023. godine.
URL:https://kritika-hdp.hr/dogadjaji/javni-poziv-za-predlaganje-javnih-potreba-u-kulturi-republike-hrvatske-za-2023-godinu/
ATTACH;FMTTYPE=image/jpeg:https://kritika-hdp.hr/wp-content/uploads/2022/09/MKM-logo.jpg
END:VEVENT
END:VCALENDAR