BEGIN:VCALENDAR
VERSION:2.0
PRODID:-//Kritika HDP - ECPv6.15.20//NONSGML v1.0//EN
CALSCALE:GREGORIAN
METHOD:PUBLISH
X-WR-CALNAME:Kritika HDP
X-ORIGINAL-URL:https://kritika-hdp.hr
X-WR-CALDESC:Događaji za Kritika HDP
REFRESH-INTERVAL;VALUE=DURATION:PT1H
X-Robots-Tag:noindex
X-PUBLISHED-TTL:PT1H
BEGIN:VTIMEZONE
TZID:Europe/Zagreb
BEGIN:DAYLIGHT
TZOFFSETFROM:+0100
TZOFFSETTO:+0200
TZNAME:CEST
DTSTART:20200329T010000
END:DAYLIGHT
BEGIN:STANDARD
TZOFFSETFROM:+0200
TZOFFSETTO:+0100
TZNAME:CET
DTSTART:20201025T010000
END:STANDARD
BEGIN:DAYLIGHT
TZOFFSETFROM:+0100
TZOFFSETTO:+0200
TZNAME:CEST
DTSTART:20210328T010000
END:DAYLIGHT
BEGIN:STANDARD
TZOFFSETFROM:+0200
TZOFFSETTO:+0100
TZNAME:CET
DTSTART:20211031T010000
END:STANDARD
BEGIN:DAYLIGHT
TZOFFSETFROM:+0100
TZOFFSETTO:+0200
TZNAME:CEST
DTSTART:20220327T010000
END:DAYLIGHT
BEGIN:STANDARD
TZOFFSETFROM:+0200
TZOFFSETTO:+0100
TZNAME:CET
DTSTART:20221030T010000
END:STANDARD
BEGIN:DAYLIGHT
TZOFFSETFROM:+0100
TZOFFSETTO:+0200
TZNAME:CEST
DTSTART:20230326T010000
END:DAYLIGHT
BEGIN:STANDARD
TZOFFSETFROM:+0200
TZOFFSETTO:+0100
TZNAME:CET
DTSTART:20231029T010000
END:STANDARD
BEGIN:DAYLIGHT
TZOFFSETFROM:+0100
TZOFFSETTO:+0200
TZNAME:CEST
DTSTART:20240331T010000
END:DAYLIGHT
BEGIN:STANDARD
TZOFFSETFROM:+0200
TZOFFSETTO:+0100
TZNAME:CET
DTSTART:20241027T010000
END:STANDARD
BEGIN:DAYLIGHT
TZOFFSETFROM:+0100
TZOFFSETTO:+0200
TZNAME:CEST
DTSTART:20250330T010000
END:DAYLIGHT
BEGIN:STANDARD
TZOFFSETFROM:+0200
TZOFFSETTO:+0100
TZNAME:CET
DTSTART:20251026T010000
END:STANDARD
BEGIN:DAYLIGHT
TZOFFSETFROM:+0100
TZOFFSETTO:+0200
TZNAME:CEST
DTSTART:20260329T010000
END:DAYLIGHT
BEGIN:STANDARD
TZOFFSETFROM:+0200
TZOFFSETTO:+0100
TZNAME:CET
DTSTART:20261025T010000
END:STANDARD
END:VTIMEZONE
BEGIN:VEVENT
DTSTART;VALUE=DATE:20251022
DTEND;VALUE=DATE:20251117
DTSTAMP:20260423T074310
CREATED:20251022T065541Z
LAST-MODIFIED:20251128T102357Z
UID:17844-1761091200-1763337599@kritika-hdp.hr
SUMMARY:Interliber 2025.
DESCRIPTION:  \nINTERLIBER\, 47. međunarodni sajam knjiga održat će se u terminu od 11. do 16. studenog 2025. godine. \nInterliber nije samo središnji događaj za sve nakladnike i izdavače – on je kulturni spektakl\, društveni fenomen i poslovno središte za promociju knjiga\, pisaca\, čitanja\, znanosti i znanja. \nUz ključnu ulogu u promicanju čitanja i književnosti\, Interliber također snažno doprinosi jačanju nakladništva i izdavaštva te u širem kontekstu kulturnog identiteta Hrvatske. Svojom neupitnom kulturnom snagom Interliber je postao nezaobilazan događaj\, ne samo za grad Zagreb\, nego i za cijelu Hrvatsku. \nInterliber je sinergija ljubavi i poslovanja\, mjesto gdje se čitatelj susreće s knjigom\, mjesto na kojem se knjige ne samo prodaju\, nego i slave kroz susrete s autorima\, promocije novih izdanja i zanimljive panele. Čitanje nije samo užitak. Ono oblikuje društvo\, potiče kritičko razmišljanje i jača kulturni identitet. \nPrisutnost svih ključnih dionika iz nakladničkog sektora\, kao i više od 120.000 posjetitelja čini ga savršenim mjestom za poslovno umrežavanje\, širenje tržišta i predstavljanje najnovijih izdanja publici koja cijeni kvalitetnu knjigu. Izravna komunikacija i susreti uživo pružaju neprocjenjivu vrijednost koju digitalni mediji teško mogu zamijeniti.
URL:https://kritika-hdp.hr/dogadjaji/17844/
ATTACH;FMTTYPE=image/png:https://kritika-hdp.hr/wp-content/uploads/2025/10/Interliber-1430x530-1.png
END:VEVENT
BEGIN:VEVENT
DTSTART;VALUE=DATE:20241112
DTEND;VALUE=DATE:20241118
DTSTAMP:20260423T074310
CREATED:20241018T080453Z
LAST-MODIFIED:20241018T080712Z
UID:13061-1731369600-1731887999@kritika-hdp.hr
SUMMARY:Interliber 2024.
DESCRIPTION:Brojimo sitno do Interlibera koji će se odviti od 12. do 17. studenog 2024. godine! Ubrzo stiže i program.
URL:https://kritika-hdp.hr/dogadjaji/interliber-2024/
ATTACH;FMTTYPE=image/png:https://kritika-hdp.hr/wp-content/uploads/2024/10/interliber.png
END:VEVENT
BEGIN:VEVENT
DTSTART;TZID=Europe/Zagreb:20231107T090000
DTEND;TZID=Europe/Zagreb:20231113T000000
DTSTAMP:20260423T074310
CREATED:20231101T160928Z
LAST-MODIFIED:20231101T161006Z
UID:10125-1699347600-1699833600@kritika-hdp.hr
SUMMARY:Interliber 2023.
DESCRIPTION:Interliber\, mežunarodni sajam knjige održava se i ove godine u prostorima Zagrebačkog Velesajma\, a kao i obično\, donosi pregršt gostovanja autora\, između ostaloga i poznatog pisca Vikasa Swarupa\, autora po čijem je romanu (Q and A) napravljen i film Milijunaš s ulice (Slumdog Millionaire). \nViše o bogatom programu možete naći na sljedećoj poveznici.
URL:https://kritika-hdp.hr/dogadjaji/interliber-2023/
LOCATION:Zagrebački Velesajam\, Avenija Dubrovnik 15\, Zagreb\, Hrvatska\, 10000\, Croatia (Local Name: Hrvatska)
ATTACH;FMTTYPE=image/png:https://kritika-hdp.hr/wp-content/uploads/2023/11/Untitled.png
END:VEVENT
BEGIN:VEVENT
DTSTART;VALUE=DATE:20221108
DTEND;VALUE=DATE:20221114
DTSTAMP:20260423T074310
CREATED:20221027T105944Z
LAST-MODIFIED:20221027T110106Z
UID:6821-1667865600-1668383999@kritika-hdp.hr
SUMMARY:44. Interliber
DESCRIPTION:INTERLIBER\, 44. međunarodni sajam knjige održat će se u terminu od 8. do 13. studenog 2022. godine na veliko zadovoljstvo svih ljubitelja pisane riječi koji ga uvijek s nestrpljenjem čekaju. \nNakladnici i knjižari zajedno sa Zagrebačkim velesajmom marljivo su radili na stvaranju nove lijepe priče u čiju radnju je utkano bezbroj zanimljivih naslova\, susreta s omiljenim autorima i svakodnevnog kulturnog i edukativnog programa. \nOve se godine održava u paviljonima 5\, 6\, 7a i 7\, izlagača je više od 250. Cjelodnevni prateći program odvijat će se na pozornicama u paviljonima 6 i 7.
URL:https://kritika-hdp.hr/dogadjaji/44-interliber/
LOCATION:Zagrebački Velesajam\, Avenija Dubrovnik 15\, Zagreb\, Hrvatska\, 10000\, Croatia (Local Name: Hrvatska)
ATTACH;FMTTYPE=image/jpeg:https://kritika-hdp.hr/wp-content/uploads/2022/10/Untitled.jpg
END:VEVENT
BEGIN:VEVENT
DTSTART;VALUE=DATE:20211109
DTEND;VALUE=DATE:20211115
DTSTAMP:20260423T074310
CREATED:20211104T102407Z
LAST-MODIFIED:20220724T203450Z
UID:1309-1636416000-1636934399@kritika-hdp.hr
SUMMARY:Interliber: od 9. do 14. studenog\, Zagreb
DESCRIPTION:Međunarodni sajam knjige Interliber održat će se ove godine uživo od 9. do 14. studenog na poznatim lokacijama Zagrebačkog velesajma. Sajam je najavljen uz slogan “Najsigurnije mjesto za shopping u gradu”\, a svoje sudjelovanje je najavila većina poznatijih domaćih nakladnika. Tako će paviljone 5\, 6 i 7a ispuniti više od 230 izlagača iz 14 zemalja (Austrija\, Bosna i Hercegovina\, Crna Gora\, Francuska\, Hrvatska\, Italija\, Nizozemska\, Njemačka\, Poljska\, SAD\, Slovenija\, Srbija\, Španjolska\, Velika Britanija i Sjeverna Irska). \nRadno vrijeme Interlibera:\n– utorak\, srijeda\, četvrtak 10.00 do 21.00 sati\n– petak i subota 10.00 do 22.00 sati\n– nedjelja 10.00 do 20.00 sati \nUlaz na sajam je besplatan i moguć isključivo uz predočenje važeće Covid potvrde; potvrde o cijepljenju\, o preboljenju (unutar 6 mjeseci) ili važećeg negativnog testa (PCR do 72 sata\, brzi antigenski do 48 sati). \nSajam prati bogat kulturno-edukativni program koji je dostupan na ovome linku. \nSve novosti vezane uz Interliber redovno će se ažurirati na web stranici i društvenim mrežama Zagrebačkog velesajma. \nKnjiga svima i svuda\nU istom tjednu odražava se i projekt Knjiga svima i svuda Zajednice nakladnika i knjižara pri HGK. Na web stranici Knjiga svima i svuda moći će se naći zanimljive naslove na popustima od 20 do 70 posto. Naslove će ponuditi 100-tinjak nakladnika i knjižara diljem Hrvatske\, a ovisno o preferencijama isti će se moći kupiti online ili na prodajnim mjestima.
URL:https://kritika-hdp.hr/dogadjaji/interliber-od-9-do-14-studenog-zagreb/
LOCATION:Zagreb
ATTACH;FMTTYPE=image/jpeg:https://kritika-hdp.hr/wp-content/uploads/2021/11/interliber.jpg
END:VEVENT
END:VCALENDAR