BEGIN:VCALENDAR
VERSION:2.0
PRODID:-//Kritika HDP - ECPv6.15.20//NONSGML v1.0//EN
CALSCALE:GREGORIAN
METHOD:PUBLISH
X-WR-CALNAME:Kritika HDP
X-ORIGINAL-URL:https://kritika-hdp.hr
X-WR-CALDESC:Događaji za Kritika HDP
REFRESH-INTERVAL;VALUE=DURATION:PT1H
X-Robots-Tag:noindex
X-PUBLISHED-TTL:PT1H
BEGIN:VTIMEZONE
TZID:Europe/Zagreb
BEGIN:DAYLIGHT
TZOFFSETFROM:+0100
TZOFFSETTO:+0200
TZNAME:CEST
DTSTART:20220327T010000
END:DAYLIGHT
BEGIN:STANDARD
TZOFFSETFROM:+0200
TZOFFSETTO:+0100
TZNAME:CET
DTSTART:20221030T010000
END:STANDARD
BEGIN:DAYLIGHT
TZOFFSETFROM:+0100
TZOFFSETTO:+0200
TZNAME:CEST
DTSTART:20230326T010000
END:DAYLIGHT
BEGIN:STANDARD
TZOFFSETFROM:+0200
TZOFFSETTO:+0100
TZNAME:CET
DTSTART:20231029T010000
END:STANDARD
BEGIN:DAYLIGHT
TZOFFSETFROM:+0100
TZOFFSETTO:+0200
TZNAME:CEST
DTSTART:20240331T010000
END:DAYLIGHT
BEGIN:STANDARD
TZOFFSETFROM:+0200
TZOFFSETTO:+0100
TZNAME:CET
DTSTART:20241027T010000
END:STANDARD
BEGIN:DAYLIGHT
TZOFFSETFROM:+0100
TZOFFSETTO:+0200
TZNAME:CEST
DTSTART:20250330T010000
END:DAYLIGHT
BEGIN:STANDARD
TZOFFSETFROM:+0200
TZOFFSETTO:+0100
TZNAME:CET
DTSTART:20251026T010000
END:STANDARD
BEGIN:DAYLIGHT
TZOFFSETFROM:+0100
TZOFFSETTO:+0200
TZNAME:CEST
DTSTART:20260329T010000
END:DAYLIGHT
BEGIN:STANDARD
TZOFFSETFROM:+0200
TZOFFSETTO:+0100
TZNAME:CET
DTSTART:20261025T010000
END:STANDARD
END:VTIMEZONE
BEGIN:VEVENT
DTSTART;VALUE=DATE:20251106
DTEND;VALUE=DATE:20251118
DTSTAMP:20260423T174208
CREATED:20251106T060622Z
LAST-MODIFIED:20251106T060656Z
UID:18005-1762387200-1763423999@kritika-hdp.hr
SUMMARY:Finalisti Nagrade Janko Polic Kamov 2025.
DESCRIPTION:  \nŽiri Nagrade Janko Polić Kamov\, u sastavu: Nadežda Čačinovič\, Irena Matijašević i Edo Popović\nodabrao je pet finalista Nagrade Kamov koja se dodjeljuje za najbolje književno djelo napisano na hrvatskom jeziku. \nU finale su ušli (abecednim redom): \n\nAntolić Sandra\, Hrvatska mati\, Vuković&Runjić\, 2024. \nMeđurečan\, Robert\, Tako neka bude\, Sandorf\, 2025 \nPavličić\, Pavao\, Ti si ja\, Lađa od vode\, 2025. \nRudan\, Evelina\, Polja\, slama\, žudnja\, Fraktura\,2025. \nŠur Puhlovski\, Marina\, Adam\, VBZ\, 2025. \n\nNagrada će biti dodijeljena u ponedjeljak 17. studenog 2025. u 13 sati u Rijeci\, u antikvarijatu Ex Libris\, Riva boduli 3b.\, Nagradu Janko Polić Kamov ustanovilo je Hrvatsko društvo pisaca 2014. godine\, a kriterij odabira prvenstveno je književna izvrsnost. Nagrada istovremeno promiče inovativnost\, bilo u stilsko-jezičnom ili u tematskom smislu.
URL:https://kritika-hdp.hr/dogadjaji/finalisti-nagrade-janko-polic-kamov-2025/
ATTACH;FMTTYPE=image/jpeg:https://kritika-hdp.hr/wp-content/uploads/2025/11/unnamed.jpg
END:VEVENT
BEGIN:VEVENT
DTSTART;VALUE=DATE:20251014
DTEND;VALUE=DATE:20251015
DTSTAMP:20260423T174208
CREATED:20251012T055140Z
LAST-MODIFIED:20251012T055312Z
UID:17775-1760400000-1760486399@kritika-hdp.hr
SUMMARY:Gošće pete sezone programa Spisateljice u dijalogu - Dijana Matković i Marija Andrijašević
DESCRIPTION:“Zašto pišemo?” \nDijana Matković \nPosebna gošća: Marija Andrijašević \n  \n„Spisateljice u dijalogu” peta je sezona književne tribine koja otvara dijalog među autoricama različitih generacija i polaznih točaka te povezuje suvremenu književnu produkciju s važnim društvenim temama\, tako istražujući načine na koji književnost može biti utjeha\, pomoćnik i suborac u suočavanju s društvenim izazovima\, problemima i tabuima. \n  \nSezonu otvara slovenska spisateljica Dijana Matković\, autorica izrazito autofikcijskog\, esejističkog romana „Zašto ne pišem” koji se našao u užem krugu za prestižnu slovensku književnu nagradu Kresnik za roman godine te je bio prva slovenska knjiga na Berlinaleu. O romanu koji u svoj narativ vješto upliće društvenu kritiku i otvoreno progovara o silama koje većem dijelu pučanstva onemogućuju egzistenciju\, a s njom i umjetničko ostvarenje. Uz podršku posebne gošće\, Marije Andrijašević\, s Dijanom Matković pokušat ćemo odgovoriti na naočigled jednostavna\, ali u svojoj srži izrazito kompleksna pitanja: tko su oni koji pišu\, a tko oni koji ne pišu\, što znači čin preuzimanja glasa\, preuzimanja narativa u klasnom sustavu kasnog kapitalizma\, te na kraju\, i najvažnije\, koje su to sile i fenomeni\, osobni i društveni s kojima u sprezi na kraju ipak pišemo. \n  \nRazgovor vodi Luiza Bouharaoua. \nOrganizator: Hrvatsko društvo pisaca \nProgram vodi i moderira: Luiza Bouharaoua \nPartner: Booksa \nProgram se realizira uz potporu Ministarstva kulture i medija RH i Grada Zagreb
URL:https://kritika-hdp.hr/dogadjaji/gosce-pete-sezone-programa-spisateljice-u-dijalogu-dijana-matkovic-i-marija-andrijasevic/
ATTACH;FMTTYPE=image/jpeg:https://kritika-hdp.hr/wp-content/uploads/2025/10/Spisateljice-u-dijalogu-2025.-Dijana-Matkovic.jpg
END:VEVENT
BEGIN:VEVENT
DTSTART;VALUE=DATE:20250629
DTEND;VALUE=DATE:20250717
DTSTAMP:20260423T174208
CREATED:20250629T140402Z
LAST-MODIFIED:20250629T140432Z
UID:16893-1751155200-1752710399@kritika-hdp.hr
SUMMARY:Nagrada „Janko Polić Kamov”
DESCRIPTION:Hrvatsko društvo pisaca ustanovilo je 2014. godine Nagradu Janko Polić Kamov za najbolje književno djelo (proza\, poezija) napisano na hrvatskom jeziku.\nKriterij odabira prvenstveno je književna izvrsnost\, međutim nagrada također promiče inovativnost\, bilo u stilsko-jezičnom ili u tematskom smislu. \nNagrada Kamov sastoji se od novčanog iznosa i statue. \nŽiri će objaviti listu finalista u listopadu\, a nagrada će biti dodijeljena u studenom\, na Kamovljev rođendan. \nNagrada se ove godine dodjeljuje u Rijeci. \nPravilnik Nagrade Kamov: \nhttps://hrvatskodrustvopisaca.hr/hr/projekti/pravilnik-nagrade-janko-polic-kamov-2024-izmjene-i-dopune
URL:https://kritika-hdp.hr/dogadjaji/nagrada-janko-polic-kamov/
ATTACH;FMTTYPE=image/jpeg:https://kritika-hdp.hr/wp-content/uploads/2025/06/IMG_5630.jpeg
END:VEVENT
BEGIN:VEVENT
DTSTART;VALUE=DATE:20250626
DTEND;VALUE=DATE:20250630
DTSTAMP:20260423T174208
CREATED:20250620T162412Z
LAST-MODIFIED:20250620T162454Z
UID:16793-1750896000-1751241599@kritika-hdp.hr
SUMMARY:14. Stih u regiji
DESCRIPTION:Ovogodišnje\, četrnaesto izdanje međunarodnog festivala poezije Stih u regiji – SUR 2025 održava se od 26. do 29. lipnja na više lokacija u Zagrebu\, Đakovu i Vrbovcu. Festival organizira Hrvatsko društvo pisaca u suradnji s Hrvatskim P.E.N. centrom\, a okuplja pjesnikinje i pjesnike iz dvanaest zemalja. \nProgram festivala obuhvaća pjesnička čitanja\, razgovore s autorima\, predstavljanja knjiga i festivala\, tribine i večernje glazbene programe. Cilj mu je povezivanje autora iz regije i šire\, poticanje međukulturalnog dijaloga te otvaranje prostora za suvremenu poeziju u različitim društvenim i jezičnim kontekstima. \nFestivalski program odvijat će se u Knjižnici Marije Jurić Zagorke\, Knjižnici i čitaonici Bogdana Ogrizovića i prostoru Pri Nami u Zagrebu\, zatim u Šumi Žokovica u Đakovu te u Holiday Home Nightswim Inn u Vrbovcu. \nSudjeluju pjesnici i pjesnikinje iz Hrvatske\, Bugarske\, Crne Gore\, Italije\, Poljske\, Portugala\, Sjeverne Makedonije\, Srbije\, Njemačke\, Ukrajine i Indije. \nSUR 2025 održava se uz podršku Ministarstva kulture i medija RH i Grada Zagreba\, u suradnji s nizom domaćih i međunarodnih partnera i festivala.
URL:https://kritika-hdp.hr/dogadjaji/14-stih-u-regiji/
ATTACH;FMTTYPE=image/jpeg:https://kritika-hdp.hr/wp-content/uploads/2025/06/image001.jpg
END:VEVENT
BEGIN:VEVENT
DTSTART;VALUE=DATE:20230512
DTEND;VALUE=DATE:20230514
DTSTAMP:20260423T174208
CREATED:20230506T064636Z
LAST-MODIFIED:20230506T070139Z
UID:8657-1683856800-1683943199@kritika-hdp.hr
SUMMARY:Pjesnikinja petkom: Beatrica Kurbel i Rajna Racz
DESCRIPTION:Na novoj tribini “Pjesnikinja petkom” gošće su dvije mlade pjesnikinje koje su ujedno i kazališne radnice.\nRajna Racz\, redateljica je koja je upravo izdala i prvu zbirku pjesama\, a Beatrica Kurbel piše poeziju već dulje vrijeme\,\na radi kao dramatičarka i dramaturginja. O poeziji\, dramaturgiji\, dodirnim točkama ta dva svijeta\, razlikama i sličnostima u procesima\,\npočecima pisanja\, ali i razlozima odabira poezije\, kao i načinima na koji ona može komunicirati s publikom razgovaramo idući petak u  Booksi u 19 sati.\nModerira: Monika Herceg
URL:https://kritika-hdp.hr/dogadjaji/pjesnikinja-petkom-beatrica-kurbel-i-rajna-racz/
LOCATION:Booksa\, Martićeva ul. 14D\, Zagreb\, Croatia (Local Name: Hrvatska)
ATTACH;FMTTYPE=image/jpeg:https://kritika-hdp.hr/wp-content/uploads/2023/05/345270238_1018194529164369_8679141024053618478_n.jpg
END:VEVENT
END:VCALENDAR