BEGIN:VCALENDAR
VERSION:2.0
PRODID:-//Kritika HDP - ECPv6.15.20//NONSGML v1.0//EN
CALSCALE:GREGORIAN
METHOD:PUBLISH
X-WR-CALNAME:Kritika HDP
X-ORIGINAL-URL:https://kritika-hdp.hr
X-WR-CALDESC:Događaji za Kritika HDP
REFRESH-INTERVAL;VALUE=DURATION:PT1H
X-Robots-Tag:noindex
X-PUBLISHED-TTL:PT1H
BEGIN:VTIMEZONE
TZID:Europe/Zagreb
BEGIN:DAYLIGHT
TZOFFSETFROM:+0100
TZOFFSETTO:+0200
TZNAME:CEST
DTSTART:20190331T010000
END:DAYLIGHT
BEGIN:STANDARD
TZOFFSETFROM:+0200
TZOFFSETTO:+0100
TZNAME:CET
DTSTART:20191027T010000
END:STANDARD
BEGIN:DAYLIGHT
TZOFFSETFROM:+0100
TZOFFSETTO:+0200
TZNAME:CEST
DTSTART:20200329T010000
END:DAYLIGHT
BEGIN:STANDARD
TZOFFSETFROM:+0200
TZOFFSETTO:+0100
TZNAME:CET
DTSTART:20201025T010000
END:STANDARD
BEGIN:DAYLIGHT
TZOFFSETFROM:+0100
TZOFFSETTO:+0200
TZNAME:CEST
DTSTART:20210328T010000
END:DAYLIGHT
BEGIN:STANDARD
TZOFFSETFROM:+0200
TZOFFSETTO:+0100
TZNAME:CET
DTSTART:20211031T010000
END:STANDARD
BEGIN:DAYLIGHT
TZOFFSETFROM:+0100
TZOFFSETTO:+0200
TZNAME:CEST
DTSTART:20220327T010000
END:DAYLIGHT
BEGIN:STANDARD
TZOFFSETFROM:+0200
TZOFFSETTO:+0100
TZNAME:CET
DTSTART:20221030T010000
END:STANDARD
BEGIN:DAYLIGHT
TZOFFSETFROM:+0100
TZOFFSETTO:+0200
TZNAME:CEST
DTSTART:20230326T010000
END:DAYLIGHT
BEGIN:STANDARD
TZOFFSETFROM:+0200
TZOFFSETTO:+0100
TZNAME:CET
DTSTART:20231029T010000
END:STANDARD
BEGIN:DAYLIGHT
TZOFFSETFROM:+0100
TZOFFSETTO:+0200
TZNAME:CEST
DTSTART:20240331T010000
END:DAYLIGHT
BEGIN:STANDARD
TZOFFSETFROM:+0200
TZOFFSETTO:+0100
TZNAME:CET
DTSTART:20241027T010000
END:STANDARD
BEGIN:DAYLIGHT
TZOFFSETFROM:+0100
TZOFFSETTO:+0200
TZNAME:CEST
DTSTART:20250330T010000
END:DAYLIGHT
BEGIN:STANDARD
TZOFFSETFROM:+0200
TZOFFSETTO:+0100
TZNAME:CET
DTSTART:20251026T010000
END:STANDARD
BEGIN:DAYLIGHT
TZOFFSETFROM:+0100
TZOFFSETTO:+0200
TZNAME:CEST
DTSTART:20260329T010000
END:DAYLIGHT
BEGIN:STANDARD
TZOFFSETFROM:+0200
TZOFFSETTO:+0100
TZNAME:CET
DTSTART:20261025T010000
END:STANDARD
END:VTIMEZONE
BEGIN:VEVENT
DTSTART;VALUE=DATE:20251209
DTEND;VALUE=DATE:20260101
DTSTAMP:20260419T232606
CREATED:20251209T091349Z
LAST-MODIFIED:20251209T091415Z
UID:18326-1765238400-1767225599@kritika-hdp.hr
SUMMARY:Raspisan natječaj za nagradu „Goran“ za mlade pjesnike
DESCRIPTION:NATJEČAJ ZA NAGRADU „GORAN“ ZA MLADE PJESNIKE \nUvjeti natječaja:  \n\nU natječaju mogu sudjelovati pjesnikinje i pjesnici koji nisu stariji od 30 godina na dan zatvaranja natječaja i koji nikada nisu objavili knjigu poezije.\nNa natječaj je potrebno poslati:\n\n\ncjelovit rukopis pjesničke zbirke u jednom\, otvorenom (Word) dokumentu koji ne smije sadržavati ime autora/ice ni u jednom dijelu dokumenta;\nu zasebnom dokumentu potrebno je poslati biografiju i osobne podatke (ime i prezime\, datum i godinu rođenja\, kontakt: broj telefona i adresu elektroničke pošte te točnu adresu stanovanja).\n\n\nŽiriranje će se odvijati anonimno\, bez uvida žirija u autorstvo pojedinih rukopisa.\nŽiri sastavljen od suvremenih hrvatskih književnika/ica i kritičara/ki predložit će  najbolji rukopis za nagradu „Goran“ za mlade pjesnike. Po završetku uredničkog procesa\, nagrađeni rukopis bit će objavljen u obliku knjige u ediciji Novi hrvatski pjesnici\, u izdanju SKUD-a „Ivan Goran Kovačić“. Za autore objava knjige predstavlja materijalni dio Nagrade.\nOsim nagrađenog autora/ice\, sudionike se neće pojedinačno izvještavati o ishodu natječaja.\nRok za slanje pjesama je srijeda\, 31.12.2025. u ponoć.\nRukopise i biografiju\, s naznakom „Za nagradu Goran za mlade pjesnike“ u naslovu poruke\, isključivo u elektronskom obliku\, slati na e-mail: natjecaj@igk.hr\n\n 
URL:https://kritika-hdp.hr/dogadjaji/raspisan-natjecaj-za-nagradu-goran-za-mlade-pjesnike-2/
ATTACH;FMTTYPE=image/jpeg:https://kritika-hdp.hr/wp-content/uploads/2025/12/goran-za-mlade-pjesnike-1.jpg
END:VEVENT
BEGIN:VEVENT
DTSTART;VALUE=DATE:20241202
DTEND;VALUE=DATE:20250101
DTSTAMP:20260419T232606
CREATED:20241202T185833Z
LAST-MODIFIED:20241202T185855Z
UID:13553-1733097600-1735689599@kritika-hdp.hr
SUMMARY:Raspisan natječaj za nagradu „Goran“ za mlade pjesnike
DESCRIPTION:NATJEČAJ ZA NAGRADU „GORAN“ ZA MLADE PJESNIKE \nUVJETI NATJEČAJA: \n\nU natječaju mogu sudjelovati pjesnikinje i pjesnici koji nisu stariji od 30 godina na dan zatvaranja natječaja i koji nikada nisu objavili knjigu poezije.\n\n\nNa natječaj je potrebno poslati:\n\n\ncjelovit rukopis pjesničke zbirke u otvorenom (Word) dokumentu koji ne smije sadržavati ime autora/ice ni u jednom dijelu dokumenta;\nu zasebnom dokumentu potrebno je poslati biografiju i osobne podatke (ime i prezime\, datum i godinu rođenja\, kontakt: broj telefona i adresu elektroničke pošte te točnu adresu stanovanja)\n\n\nŽiriranje će se odvijati anonimno\, bez uvida žirija u autorstvo pojedinih rukopisa.\n\n\nŽiri sastavljen od suvremenih hrvatskih književnika/ica i kritičara/ki predložit će  najbolji rukopis za nagradu „Goran“ za mlade pjesnike. Po završetku uredničkog procesa\, nagrađeni rukopis bit će objavljen u obliku knjige u ediciji Novi hrvatski pjesnici\, u izdanju SKUD-a „Ivan Goran Kovačić“. Za autore objava knjige predstavlja materijalni dio Nagrade.\n\n\nOsim nagrađenog autora/ice\, sudionike se neće pojedinačno izvještavati o ishodu natječaja.\n\n\nRok za slanje pjesama je nedjelja\, 31. 12. 2024. u ponoć.\n\n\nRukopise i biografiju\, s naznakom „Za nagradu Goran za mlade pjesnike“ u naslovu poruke\, isključivo u elektronskom obliku\, slati na e-mail: natjecaj@igk.hr\nZagreb\, 2. 12. 2024.\n\n 
URL:https://kritika-hdp.hr/dogadjaji/raspisan-natjecaj-za-nagradu-goran-za-mlade-pjesnike/
ATTACH;FMTTYPE=image/jpeg:https://kritika-hdp.hr/wp-content/uploads/2022/03/goranovo-proljece-163037.jpeg
END:VEVENT
BEGIN:VEVENT
DTSTART;TZID=Europe/Zagreb:20231204T090000
DTEND;TZID=Europe/Zagreb:20231231T180000
DTSTAMP:20260419T232606
CREATED:20231205T174559Z
LAST-MODIFIED:20231218T180813Z
UID:10548-1701680400-1704045600@kritika-hdp.hr
SUMMARY:Natječaj za “Gorana za mlade pjesnike” 2023.
DESCRIPTION:U nastojanju da potaknemo stvaralaštvo mladih pjesnika u Republici Hrvatskoj i drugdje gdje postoji književna aktivnost na hrvatskom jeziku\, “Goranovo proljeće” i ove godine raspisuje natječaj za nagradu “Goran za mlade pjesnike”. \nUVJETI NATJEČAJA: \n\nU natječaju mogu sudjelovati pjesnikinje i pjesnici koji nisu stariji od 30 godina na dan zatvaranja natječaja i koji nikada nisu objavili knjigu poezije.\n\n\nNa natječaj je potrebno poslati:\n\n\ncjelovit rukopis pjesničke zbirke u otvorenom (Word) dokumentu koji ne smije sadržavati ime autora/ice ni u jednom dijelu dokumenta;\n\n\nu zasebnom dokumentu potrebno je poslati biografiju i osobne podatke (ime i prezime\, datum i godinu rođenja\, kontakt: broj telefona i adresu elektroničke pošte te točnu adresu stanovanja)\n\n\nŽiriranje će se odvijati anonimno\, bez uvida žirija u autorstvo pojedinih rukopisa.\n\n\nŽiri sastavljen od suvremenih hrvatskih književnika/ica i kritičara/ki predložit će  najbolji rukopis za nagradu „Goran za mlade pjesnike“. Po završetku uredničkog procesa\, nagrađeni rukopis bit će objavljen u obliku knjige u ediciji Novi hrvatski pjesnici\, u izdanju SKUD-a „Ivan Goran Kovačić“. Za autora besplatna objava knjige predstavlja materijalni dio Nagrade.\n\n\nOsim nagrađenog autora/ice\, sudionike se neće pojedinačno izvještavati o ishodu natječaja.\n\n\nRok za slanje pjesama je nedjelja\, 31. 12. 2023. u ponoć.\n\n\nRukopise i biografiju\, s naznakom „Za nagradu Goran za mlade pjesnike“ u naslovu poruke\, isključivo u elektronskom obliku\, slati na e-mail: natjecaj@igk.hr
URL:https://kritika-hdp.hr/dogadjaji/natjecaj-za-gorana-za-mlade-pjesnike-2023/
ATTACH;FMTTYPE=image/png:https://kritika-hdp.hr/wp-content/uploads/2023/12/Goran-za-mlade_2022-1.png
END:VEVENT
BEGIN:VEVENT
DTSTART;TZID=Europe/Zagreb:20221201T080000
DTEND;TZID=Europe/Zagreb:20221231T233000
DTSTAMP:20260419T232606
CREATED:20221203T162316Z
LAST-MODIFIED:20221203T164117Z
UID:7261-1669881600-1672529400@kritika-hdp.hr
SUMMARY:Natječaj Goran za mlade pjesnike 2022.
DESCRIPTION:Goranovo proljeće tradicionalno raspisuje natječaj „Goran za mlade pjesnike“ nastojeći stimulirati stvaralaštvo mladih pjesnika u Republici Hrvatskoj i drugdje gdje postoji književna aktivnost na hrvatskom jeziku. \nUVJETI NATJEČAJA:\n1. U natječaju mogu sudjelovati pjesnikinje i pjesnici koji nisu stariji od 30 godina na dan zatvaranja natječaja i koji nikada nisu objavili knjigu poezije. \n2. Na natječaj je potrebno poslati: \na) cjelovit rukopis pjesničke zbirke u otvorenom (word) dokumentu koji ne smije sadržavati ime autora/ice ni u jednom dijelu dokumenta \nb) u zasebnom dokumentu potrebno je poslati biografiju i osobne podatke (ime i prezime\, datum i godinu rođenja\, kontakt: broj telefona i adresu elektroničke pošte te točnu adresu stanovanja) \n3. Žiriranje će se odvijati anonimno\, bez uvida žirija u autorstvo pojedinih rukopisa. \n4. Žiri sastavljen od suvremenih hrvatskih književnika/ica i kritičara/ki predložit će najbolji rukopis za nagradu “Goran za mlade pjesnike”. Nagrađeni rukopis biti će objavljen u obliku knjige\, u ediciji Novi hrvatski pjesnici\, u izdanju SKUD-a Ivan Goran Kovačić. \n5. Osim nagrađenog autora/ice\, sudionici se neće pojedinačno izvještavati o ishodu natječaja. \n6. Rok za slanje pjesama je 31. prosinac 2022. \n7. Rukopise i biografiju\, s naznakom „za nagradu: Goran za mlade pjesnike“ u naslovu poruke\, isključivo u elektronskom obliku\, slati na e-mail: natjecaj@igk.hr \nZa sve ostale informacije posjetite sljedeću poveznicu: Goran za mlade pjesnike.
URL:https://kritika-hdp.hr/dogadjaji/natjecaj-goran-za-mlade-pjesnike-2022-godine/
ATTACH;FMTTYPE=image/jpeg:https://kritika-hdp.hr/wp-content/uploads/2022/12/Untitled-1.jpg
END:VEVENT
BEGIN:VEVENT
DTSTART;VALUE=DATE:20211205
DTEND;VALUE=DATE:20220101
DTSTAMP:20260419T232606
CREATED:20211205T121146Z
LAST-MODIFIED:20220724T202859Z
UID:1326-1638662400-1640995199@kritika-hdp.hr
SUMMARY:Natječaj "Goran za mlade pjesnike" (rok: 31.12.2021.)
DESCRIPTION:Raspisan je natječaj za nagradu “Goran za mlade pjesnike” za stimuliranje stvaralaštva mladih pjesnika u Republici Hrvatskoj i drugdje gdje postoji književna aktivnost na hrvatskom jeziku. \nUVJETI NATJEČAJA: \n1. U natječaju mogu sudjelovati pjesnikinje i pjesnici koji nisu stariji od 30 godina na dan zatvaranja natječaja i koji nikada nisu objavili knjigu poezije. \n2. Na natječaj je potrebno poslati cjelovit rukopis pjesničke zbirke u otvorenom (Word) dokumentu koji ne smije sadržavati ime autora/ice ni u jednom dijelu dokumenta. \n3. Uz rukopis treba poslati kratku biografiju s imenom i prezimenom na početku\, datum i godinu rođenja\, kontakt: broj telefona i adresu elektroničke pošte te točnu adresu stanovanja. \n4. Žiriranje će se odvijati anonimno\, bez uvida žirija u autorstvo pojedinih rukopisa. \n5. Žiri sastavljen od suvremenih hrvatskih književnika/ica i kritičara/ki predložit će najbolji rukopis za nagradu “Goran za mlade pjesnike”. Nagrađeni rukopis biti će objavljen u obliku knjige\, u ediciji Novi hrvatski pjesnici\, u izdanju SKUD-a Ivan Goran Kovačić. \n6. Osim nagrađenog autora/ice\, sudionici se neće pojedinačno izvještavati o ishodu natječaja. \n7. Rok za slanje pjesama je 31. prosinca 2021. \n8. Rukopise\,\, s naznakom „za nagradu: Goran za mlade pjesnike“ u naslovu poruke\, isključivo u elektronskom obliku\, slati na e-mail: natjecaj@igk.hr \n  \nDaljnje informacije dostupne su na sljedećoj poveznici: Goran za mlade pjesnike
URL:https://kritika-hdp.hr/dogadjaji/natjecaj-goran-za-mlade-pjesnike-rok-31122021/
ATTACH;FMTTYPE=image/jpeg:https://kritika-hdp.hr/wp-content/uploads/2021/12/goran-za-mlade_2021.jpg
END:VEVENT
BEGIN:VEVENT
DTSTART;VALUE=DATE:20201203
DTEND;VALUE=DATE:20210101
DTSTAMP:20260419T232606
CREATED:20201203T154547Z
LAST-MODIFIED:20220725T080650Z
UID:1243-1606953600-1609459199@kritika-hdp.hr
SUMMARY:Goran za mlade pjesnike: rok za prijavu 31.12.2020.
DESCRIPTION:Nastojeći stimulirati stvaralaštvo mladih pjesnika u Republici Hrvatskoj i drugdje gdje postoji književna aktivnost na hrvatskom jeziku\, Studentsko kulturno-umjetničko društvo Ivan Goran Kovačić raspisuje natječaj za nagradu Goran za mlade pjesnike.\nUvjeti natječaja:\n1. U natječaju mogu sudjelovati pjesnikinje i pjesnici koji nisu stariji od 30 godina na dan zatvaranja natječaja i koji nikada nisu objavili knjigu poezije.\n2. Na natječaj je potrebno poslati cjelovit rukopis pjesničke zbirke u otvorenom (word) dokumentu koji ne smije sadržavati ime autora/ice ni u jednom dijelu dokumenta.\n3. Uz rukopis treba poslati kratku biografiju s imenom i prezimenom na početku\, kontakt: broj telefona i adresu elektroničke pošte te točnu adresu stanovanja.\n4. Žiriranje će se odvijati anonimno\, bez uvida žirija u autorstvo pojedinih rukopisa.\n5. Žiri sastavljen od suvremenih hrvatskih književnika/ica i kritičara/ki predložit će najbolji rukopis za nagradu “Goran za mlade pjesnike”. Nagrađeni rukopis biti će objavljen u obliku knjige\, u ediciji Novi hrvatski pjesnici\, u izdanju SKUD-a Ivan Goran Kovačić.\n6. Osim nagrađenog autora/ice\, sudionici se neće pojedinačno izvještavati o ishodu natječaja.\n7. Rok za slanje pjesama je 31. prosinca  2020.\n8. Rukopise\, s naznakom „za nagradu: Goran za mlade pjesnike“ u naslovu poruke\, isključivo u elektronskom obliku\, slati na e-mail: natjecaj@igk.hr
URL:https://kritika-hdp.hr/dogadjaji/goran-za-mlade-pjesnike-rok-za-prijavu-31122020/
ATTACH;FMTTYPE=image/jpeg:https://kritika-hdp.hr/wp-content/uploads/2020/12/Goran-slika_0.jpg
END:VEVENT
END:VCALENDAR