BEGIN:VCALENDAR
VERSION:2.0
PRODID:-//Kritika HDP - ECPv6.15.20//NONSGML v1.0//EN
CALSCALE:GREGORIAN
METHOD:PUBLISH
X-ORIGINAL-URL:https://kritika-hdp.hr
X-WR-CALDESC:Događaji za Kritika HDP
REFRESH-INTERVAL;VALUE=DURATION:PT1H
X-Robots-Tag:noindex
X-PUBLISHED-TTL:PT1H
BEGIN:VTIMEZONE
TZID:Europe/Zagreb
BEGIN:DAYLIGHT
TZOFFSETFROM:+0100
TZOFFSETTO:+0200
TZNAME:CEST
DTSTART:20210328T010000
END:DAYLIGHT
BEGIN:STANDARD
TZOFFSETFROM:+0200
TZOFFSETTO:+0100
TZNAME:CET
DTSTART:20211031T010000
END:STANDARD
BEGIN:DAYLIGHT
TZOFFSETFROM:+0100
TZOFFSETTO:+0200
TZNAME:CEST
DTSTART:20220327T010000
END:DAYLIGHT
BEGIN:STANDARD
TZOFFSETFROM:+0200
TZOFFSETTO:+0100
TZNAME:CET
DTSTART:20221030T010000
END:STANDARD
BEGIN:DAYLIGHT
TZOFFSETFROM:+0100
TZOFFSETTO:+0200
TZNAME:CEST
DTSTART:20230326T010000
END:DAYLIGHT
BEGIN:STANDARD
TZOFFSETFROM:+0200
TZOFFSETTO:+0100
TZNAME:CET
DTSTART:20231029T010000
END:STANDARD
BEGIN:DAYLIGHT
TZOFFSETFROM:+0100
TZOFFSETTO:+0200
TZNAME:CEST
DTSTART:20240331T010000
END:DAYLIGHT
BEGIN:STANDARD
TZOFFSETFROM:+0200
TZOFFSETTO:+0100
TZNAME:CET
DTSTART:20241027T010000
END:STANDARD
END:VTIMEZONE
BEGIN:VEVENT
DTSTART;VALUE=DATE:20230331
DTEND;VALUE=DATE:20230528
DTSTAMP:20260421T231839
CREATED:20230215T183034Z
LAST-MODIFIED:20230215T183446Z
UID:7975-1680228000-1685152799@kritika-hdp.hr
SUMMARY:Prva znanstveno-stručna konferencija mladih slavista PhiloSlavicon u organizaciji Kluba studenata rusistike Puškin
DESCRIPTION:Zagreb\, 25. – 26. svibnja 2023. \nKlub studenata rusistike Puškin organizira Prvu znanstveno-stručnu konferenciju mladih slavista PhiloSlavicon. Na Konferenciju su pozvani svi studenti\, diplomirani filolozi\, doktorandi i mladi znanstvenici iz struke do 35. godine života. Zainteresirani izlagači dužni su Organizacijskom odboru Konferencije putem posebne prijavnice najkasnije do 31. ožujka 2023. dostaviti sažetak svojega izlaganja (upute za oblikovanje sažetka nalaze se u prilogu). Prijavnica se nalazi na poveznici: https://forms.gle/AqfSLCcxviBTR2c56 \nTema je Konferencije: Slavistika jučer\, danas\, sutra – tragom filološke baštine očima mladih. Konferencija se održava povodom Dana filologa (25. svibnja)\, a cilj joj je povezati mlade slaviste te im pružiti mogućnost predstavljanja svojih istraživanja i radova.\nNakon Konferencije bit će objavljen zbornik predstavljenih radova. Predaja radova za zbornik nije uvjet za sudjelovanje na Konferenciji.\nO točnom mjestu i vremenu održavanja Konferencije\, kao i o okolnostima objave zbornika sudionici će biti obaviješteni naknadno.\nZa sva pitanja obratite nam se na adresu e-pošte: danfilologa.ksrup@gmail.com \nVažni datumi:\n• rok za prijavu (slanje sažetaka) putem posebne prijavnice: 31. ožujka 2023.\n• objavljivanje programa Konferencije: 12. svibnja 2023.\n• rok za predaju pismenih inačica radova (fakultativno): 31. srpnja 2023. \nPredložene tematske sekcije:\n• lingvistika\n• književnoznanstvena (književnopovijesna i književnoteorijska) istraživanja\n• prijevod i međukulturna komunikacija\n• metodika stranog jezika i glotodidaktika\n• interdisciplinarna istraživanja. \nViše informacija\, prijavnicu\, kao i upute za oblikovanje sažetka možete pronaći u službenom pozivu na linku: https://forms.gle/AqfSLCcxviBTR2c56. \nSve nedoumice i upite možete uputiti na e-adresu danfilologa.ksrup@gmail.com. Pravovremeno ažurirane informacije o Konferenciji uz ostale zanimljivosti i objave nalaze se na društvenim mrežama Kluba studenata rusistike Puškin. \nFacebook: ksru.puskin \nInstagram: @ksru.puskin \nLinkedIn: ksru-puskin
URL:https://kritika-hdp.hr/dogadjaji/prva-znanstveno-strucna-konferencija-mladih-slavista-philoslavicon-u-organizaciji-kluba-studenata-rusistike-puskin/
ATTACH;FMTTYPE=image/png:https://kritika-hdp.hr/wp-content/uploads/2023/02/11111.png
END:VEVENT
BEGIN:VEVENT
DTSTART;TZID=Europe/Zagreb:20221129T080000
DTEND;TZID=Europe/Zagreb:20221201T223000
DTSTAMP:20260421T231839
CREATED:20221129T125819Z
LAST-MODIFIED:20221129T131348Z
UID:7198-1669708800-1669933800@kritika-hdp.hr
SUMMARY:Konferencija "Književnost i revolucije"
DESCRIPTION:Prenosimo poziv na konferenciju “Književnost i revolucije”:\n\n\nS brojnim uspješno provedenim projektnim aktivnostima iza nas\, napokon smo došli i do svojevrsne krune projekta – konferencije “Književnost i revolucije” koja će se u organizaciji našeg projektnog tima održati u Vijećnici Filozofskog fakulteta Sveučilišta u Zagrebu od 29. 11. do 1. 12. 2022.\n\nUzimajući u obzir načine na koje se unutar umjetničkog polja\, prije svega kroz književne prakse\, generiraju radikalne političke i poetičke promjene\, na konferenciji nas zanimaju analogni procesi i odnosi u povijesnim revolucionarnim godinama. U kojem su odnosu književne revolucije i smjene paradigmi: književna povijest\, modeli\, tipovi\, koncepti jezika i literarnosti\, autorske prakse i poetike? Je li moguće ponuditi redefinicije i nova čitanja avangarde kao historijskog\, transhistorijskog i nadnacionalnog pojma? Kako autorske poetike u odnosu prema promjenama koje se zbivaju unutar književnog polja dugoročno mijenjaju strategije govora\, pisanja i šutnje\, oblikuju predodžbe i političke pojmove zajednice\, reflektirajući smjer povijesnih procesa? Na koji način se pritom ostvaruje emancipacijski potencijal književnosti\, a na koji način funkcioniraju radikalne promjene u poetskom izrazu? U kojem odnosu prema konceptima utopije i optimalne projekcije stoje pojedinačne autorske hereze te kako iz toga grade vlastite šire zahvate u polju? Koja je pritom uloga kritike\, a koja književne povijesti i teorije?\nVeselimo se ovoj prilici za zajednički rad i diskusiju o ovim kompleksnim i relevantnim temama.\n\nNa sljedećim poveznicama možete naći program\, knjižicu sažetaka\, poveznicu za konferenciju te Facebook događaj:\n\nProgram\n\nKnjižica sažetaka\n\nKonferenciju možete pratiti i preko MS Teams poveznice.\n\nFacebook događaj
URL:https://kritika-hdp.hr/dogadjaji/7198/
LOCATION:Filozofski fakultet u Zagrebu\, Ivana Lučića 3\, Zagreb\, Hrvatska\, 10000\, Croatia (Local Name: Hrvatska)
ATTACH;FMTTYPE=image/jpeg:https://kritika-hdp.hr/wp-content/uploads/2022/11/316271468_644620140754736_5120809992953094105_n.jpg
END:VEVENT
BEGIN:VEVENT
DTSTART;TZID=Europe/Zagreb:20220520T103000
DTEND;TZID=Europe/Zagreb:20220520T160000
DTSTAMP:20260421T231839
CREATED:20220516T080142Z
LAST-MODIFIED:20220722T112723Z
UID:1373-1653042600-1653062400@kritika-hdp.hr
SUMMARY:Kritično stanje: izazovi suvremene književne kritike (27. svibnja)
DESCRIPTION:Na Filozofskom fakultetu u Zagrebu 27. svibnja 2022. održat će se znanstveni kolokvij pod nazivom Kritično stanje: izazovi suvremene književne kritike. Cilj kolokvija jest okupiti i u razgovoru sučeliti aktivne sudionike književnokritičkog polja: one koji kritiku redovito pišu i objavljuju te one koji o njoj razmišljaju – kritički. Kritika će se u uvodnim izlaganjima motriti u širem prostornom\, vremenskom i epistemološkom kontekstu\, a potom će se raspravljati o posljedicama njezine migracije u virtualnu sferu\, njezinom raslojavanju i reagiranju na ukus nove čitateljske generacije i logiku novih medija i tehnologija. Raspravljat će se o figuri književnog kritičara i njegovoj poziciji u aktualnim komunikacijskim i ekonomsko-tržišnim uvjetima\, o etici kritike u kulturi lajkanja i hejtanja\, o političnosti kritike i njezinom odnosu prema društvenom kontekstu\, o njezinoj retorici i polemičkim gestama kojima se služi. Na kolokviju sudjeluju Vladimir Arsenić\, Asja Bakić\, Tomislav Brlek\, Saša Ćirić\, Nataša Govedić\, Ana Fazekaš\, Dinko Kreho\, Andrea Milanko\, Branislav Oblučar\, Luka Ostojić\, Jadranka Pintarić i Anera Ryznar.  \n \n 
URL:https://kritika-hdp.hr/dogadjaji/kriticno-stanje-izazovi-suvremene-knjizevne-kritike-27-svibnja/
ATTACH;FMTTYPE=image/jpeg:https://kritika-hdp.hr/wp-content/uploads/2022/05/kriticno3.jpg
END:VEVENT
END:VCALENDAR