BEGIN:VCALENDAR
VERSION:2.0
PRODID:-//Kritika HDP - ECPv6.15.20//NONSGML v1.0//EN
CALSCALE:GREGORIAN
METHOD:PUBLISH
X-WR-CALNAME:Kritika HDP
X-ORIGINAL-URL:https://kritika-hdp.hr
X-WR-CALDESC:Događaji za Kritika HDP
REFRESH-INTERVAL;VALUE=DURATION:PT1H
X-Robots-Tag:noindex
X-PUBLISHED-TTL:PT1H
BEGIN:VTIMEZONE
TZID:Europe/Zagreb
BEGIN:DAYLIGHT
TZOFFSETFROM:+0100
TZOFFSETTO:+0200
TZNAME:CEST
DTSTART:20190331T010000
END:DAYLIGHT
BEGIN:STANDARD
TZOFFSETFROM:+0200
TZOFFSETTO:+0100
TZNAME:CET
DTSTART:20191027T010000
END:STANDARD
BEGIN:DAYLIGHT
TZOFFSETFROM:+0100
TZOFFSETTO:+0200
TZNAME:CEST
DTSTART:20200329T010000
END:DAYLIGHT
BEGIN:STANDARD
TZOFFSETFROM:+0200
TZOFFSETTO:+0100
TZNAME:CET
DTSTART:20201025T010000
END:STANDARD
BEGIN:DAYLIGHT
TZOFFSETFROM:+0100
TZOFFSETTO:+0200
TZNAME:CEST
DTSTART:20210328T010000
END:DAYLIGHT
BEGIN:STANDARD
TZOFFSETFROM:+0200
TZOFFSETTO:+0100
TZNAME:CET
DTSTART:20211031T010000
END:STANDARD
END:VTIMEZONE
BEGIN:VEVENT
DTSTART;VALUE=DATE:20200924
DTEND;VALUE=DATE:20200927
DTSTAMP:20260420T193858
CREATED:20200915T103530Z
LAST-MODIFIED:20220725T081000Z
UID:1233-1600905600-1601164799@kritika-hdp.hr
SUMMARY:KaLibar bestival Varaždin: 24.–26.9.2020.
DESCRIPTION:KaLibar Bestival odražava se od 24. do 26. rujna u Varaždinu u Centru za mlade Varaždin (Petra Preradovića 49). \nProgram: \nČetvrtak\, 24. rujna\n19.30 h\, Otvaranje festivala i dodjela Nagrade Post scriptum za književnost na društvenim mrežama 2020. Senki Kapetanović\, dodjeljuje: Kruno Lokotar\n20.15 h\, Predstavljanje zbirke poezije Razglednice iz prašnjave republike Lidije Deduš\, dobitnice Nagrade Post scriptum za godinu 2019.\, predstavlja Kruno Lokotar\n21.00 h\, Predstavljanje zbirke priča Nasmijati psa i sedam novih priča i zbirke poezije Divlje i tvoje Olje Savičević Ivančević\n22.00 h\, Transmedija: od priče Pederi Olje Savičević Ivančević do stripa Ljeto (Danijel Žeželj\, Jelena Paljan) i filmova Trešnje (Dubravka Turić) i Balavica (Igor Mirković); predstavljaju Kruno Lokotar\, Ivana Bodrožić \nPetak\, 25. rujna\n19.30 h\, Predstavljanje zbirki poezije Sang Alena Brleka i Autobus za Trnavu Sanje Baković; uzajamno predstavljanje\n20.30 h\, Predstavljanje romana Vošicki Marka Gregura\, predstavljaju Nikola Leskovar i Kruno Lokotar\n21.30 h\, Predstavljanje romana Herkul Miljenka Jergovića\, predstavljaju Želimir Periš i Nikola Leskovar \nSubota\, 26. rujna\n19.30 h\, Predstavljanje zbirke priča Nikamo ne idem Rumene Bužarovske video-linkom; predstavljaju Kruno Lokotar i Stanislava Nikolić Aras\n20.00 h\, Predstavljanje knjige A. Z. Stolice Blizina svega; predstavlja Želimir Periš\n20.45 h\, In memoriam Bekimu Sejranoviću: Prekid programa zbog čitanja; Kruno Lokotar i Semezdin Mehmedinović\n21.15 h\, Predstavljanje romana Mladenka kostonoga Želimira Periša; predstavljaju Nikola Leskovar i Kruno Lokotar\n22.00 h\, Predstavljanje knjige Ovo vrijeme sada Semezdina Mehmedinovića\, predstavljaju A. Z. Stolica i Lidija Deduš
URL:https://kritika-hdp.hr/dogadjaji/kalibar-bestival-varazdin-24-2692020/
ATTACH;FMTTYPE=image/jpeg:https://kritika-hdp.hr/wp-content/uploads/2020/09/kalibar.jpg
END:VEVENT
BEGIN:VEVENT
DTSTART;VALUE=DATE:20200913
DTEND;VALUE=DATE:20200920
DTSTAMP:20260420T193858
CREATED:20200910T093011Z
LAST-MODIFIED:20220725T081027Z
UID:1231-1599955200-1600559999@kritika-hdp.hr
SUMMARY:Vrisak: riječki sajam knjiga i festival autora: 13. – 19. 9.2020.
DESCRIPTION:Riječki sajam knjiga i festival autora Vrisak ove godine se održava od 13. do 19. rujna 2020. u prostorima zgrade Exportdrva i Guvernerove palače Pomorskog i povijesnog muzeja Hrvatskog primorja Rijeka. \nFestival će otvoriti dodjela V.B.Z.-ove Nagrade za najbolji neobjavljeni roman u Perivoju Guvernerove palače Pomorskog i povijesnog muzeja Hrvatskog primorja Rijeka. Najveći dio programa održat će se u hali Exportdrva te u klubovima Dnevni boravak i Morski prasac. \nVrisak je ove godine posvećen uspomeni na Bekima Sejranovića\, jednog od najvažnijih hrvatskih i bosanskih pisaca u posljednja dva desetljeća. Uoči službenog otvorenja festivala u subotu 12. rujna u Morskom prascu Bekima će se u neformalnoj atmosferi prisjetiti njegovi prijatelji\, a festival će se zatvoriti predstavljanjem upravo objavljenih Sabranih djela Bekima Sejranovića. U sklopu tog programa bit će ekskluzivno prikazan video koji je Bekim Sejranović snimio neposredno prije smrti\, a na kojem čita svoju zadnju objavljenu priču „Miss Misery na otoku Susku“. \nMnogi europski autori koji nisu mogli doći u Rijeku prisustvovat će promocijama putem snimljenih video intervjua koji će se emitirati u posebnom programu u Book caffeu Dnevni boravak. Na Vrisku će sudjelovati brojni domaći i regionalni autori poput Marka Tomaša\, Ivice Prtenjače\, Olje Savičević Ivančević\, Monike Herceg\, Marine Šur Puhlovski\, Olje Knežević\, Tomislava Čadeža\, Damira Zlatara Freya\, Mirele Priselec Remi\, Andrije Škare\, Zlatka Galla\, Zoje Strenja Šolaja\, Nade Topić i Vlade Simcicha Vave. Iz Makedonije na Festival dolaze Rumena Bužarovska i Lidija Dimkovska\, iz Srbije Saša Ilić\, a iz Bosne i Hercegovine Almin Kaplan i Tanja Stupar Trifunović. U večeri slam poezije sudjelovat će drumski pjesnici Žarko Jovanovski\, Vid Jeraj\, Siniša Matasović i Zoran Kelava. Svečano zatvaranje Vriska održat će se uz koncert Damira Urbana u hali Exportdrva u suorganizaciji programa EPK-a Rijeka 2020. \nProgram Vriska moći će se pratiti i uživo (live streama) na službenoj mrežnoj stranici Vriska (https://vrisak.vbz.hr/)\, V.B.Z.-ovom YouTube kanala i portalu 24sata.
URL:https://kritika-hdp.hr/dogadjaji/vrisak-rijecki-sajam-knjiga-i-festival-autora-13-19-92020/
ATTACH;FMTTYPE=image/jpeg:https://kritika-hdp.hr/wp-content/uploads/2020/09/vrisak-sajam.jpg
END:VEVENT
BEGIN:VEVENT
DTSTART;VALUE=DATE:20200907
DTEND;VALUE=DATE:20200914
DTSTAMP:20260420T193858
CREATED:20200910T083116Z
LAST-MODIFIED:20220725T081102Z
UID:1229-1599436800-1600041599@kritika-hdp.hr
SUMMARY:Fažana Media Fest: tema Različitosti\, 7. - 13. 09.2020.
DESCRIPTION:Fažana Media Fest 2020 međunarodni je multimedijalni novinarski festival koji se drugu godinu zaredom održava u Fažani.\nFMF je zamišljen kao tradicionalno međunarodno okupljalište novinara gdje će se promovirati etička i profesionalna načela novinarstva kroz razne vidove stvaralaštva vezanog za medije i novinare. \nIdeja je da sastav sudionika i festivalski programi nedvosmisleno promoviraju antifašizam\, antinacionalizam\, suradnju i afirmaciju ljudskih prava te da promoviraju Fažanu kao prvo mjesto na svijetu koje je i službeno proglašeno – prijateljem novinara. \nGlavna tema ovogodišnjeg Fažana Media Festa su Različitosti.\nViše o programu na:\nhttps://fazanamediafest.eu/program/
URL:https://kritika-hdp.hr/dogadjaji/fazana-media-fest-tema-razlicitosti-7-13-092020/
LOCATION:Fažana
ATTACH;FMTTYPE=image/png:https://kritika-hdp.hr/wp-content/uploads/2020/09/fmfmlogo-300x51.png
END:VEVENT
BEGIN:VEVENT
DTSTART;VALUE=DATE:20200903
DTEND;VALUE=DATE:20200906
DTSTAMP:20260420T193858
CREATED:20200817T104519Z
LAST-MODIFIED:20220725T081248Z
UID:1223-1599091200-1599350399@kritika-hdp.hr
SUMMARY:8. FALIŠ: 3-5. rujna 2020\, Šibenik
DESCRIPTION:8. Festival alternative i ljevice\n3-5. rujna\, Trg Ivana Pavla II\, Šibenik \nProgram:\nČetvrtak\, 3. rujna\n20:00h – Opasne priče: politike koje su zarobile svijet; promocija knjige Petra Vidova. Sudjeluju: Petar Vidov\, Ana Benačić; moderira: Branko Sekulić.\n21:00h – Krah carstva ovozemaljskog: Amerika 2020.; predavanje Stipe Grgasa\n22:00h – Sva velika braća nas gledaju; javni intervju sa Denisom Perišom. Voditelj: Marko Podrug \nPetak\, 4. rujna\n20:00h – Summa atheologiae: Nekoliko heretičkih rasprava o nemogućnosti Svemogućeg; promocija knjige Borisa Dežulovića. Sudjeluju: Boris Dežulović\, Viktor Ivančić; moderira: Zoran Grozdanov.\n21:00h – Ateizam: Strah od tuđe nevjere ili vlastitog malovjerja?; okrugli stol. Sudjeluju: don Hrvoje Katušić\, fra Domagoj Runje; moderira: Branko Sekulić.\n22:00h – Ekonomija sreće; predavanje Petra Filipića \nSubota\, 5. rujna \n19:00h – Knin – život u limbu 1995. – 2020.; promocija knjige Slavena Raškovića i Igora Čoke. Sudjeluju: Slaven Rašković\, Igor Čoko; moderira: Davorka Blažević.\n20:00h – 1968.: godina koja je uzdrmala svijet; predavanje Hrvoja Klasića.\n21:00h – Na braniku povijesti; okrugli stol. Sudjeluju: Snježana Koren\, Božo Repej; moderira: Dubravka Stojanović.\n22:00h – 1971.: Srpski liberali u Hrvatskom proljeću; predavanje Milivoja Bešlina.
URL:https://kritika-hdp.hr/dogadjaji/8-falis-3-5-rujna-2020-sibenik/
ATTACH;FMTTYPE=image/jpeg:https://kritika-hdp.hr/wp-content/uploads/2020/08/falis-2020.jpg
END:VEVENT
BEGIN:VEVENT
DTSTART;VALUE=DATE:20200807
DTEND;VALUE=DATE:20200815
DTSTAMP:20260420T193858
CREATED:20200810T193932Z
LAST-MODIFIED:20220725T081315Z
UID:1222-1596758400-1597449599@kritika-hdp.hr
SUMMARY:Festival Zadar snova 2020.
DESCRIPTION:Festival „Zadar snova 2020“ održava se od 7. do 14. kolovoza u Zadru. \nProgram:\n7. kolovoza\, Sv. Dominik 21.30h\nDomino\, Festival Ganz nove Perforacije i Malo sutra\nMia Zalukar i Bruno Isaković: Kill B. \n8. kolovoza\, Noć performansa\nSiniša Labrović: Pecanje\, Kalelarga 19.00-23.00h\nMaja Rivić i Silvija Dogan: Valna blizina\, Citadela 21.00h\nIzbor hrvatskog eksperimentalnog kratkog filma\, Citadela 22.30h\nDane Komljen i James Lattimer: Sve\, još uvijek\, u orbiti /23′\nAna Hušman: Volim te\, Ines /14′\nDavor Sanvincenti: Skoro ništa: i dalje noć /12′ \n10. kolovoza\, Indie bar 21.30h\nMeet the Artist – Marko Tomaš: Nemoj me buditi\, domaćin Želimir Periš \n10. i 11. kolovoza\, kod Ekonomske škole 20.00-24.00h\nThe Essentials Graffiti&Hip Hop Jam\nMCs: Grše (St) Scuba\, Sensi\, Brala (Ši) AL-Z\, Pestipeto\, Pećo (Zd)\nDJs: Mr Dirty Hairy (UK) Noki Nole\, Phat Phillie (Zg)\nWriters: Mars\, Mosk\, Rope (Ri) Novak (Ča) Senk\, Mobs (St) Heron (Toronto/Ca)\nLifer\, Imaog\, Ink 135\, Obleka\, Ember\, Ghet1\, Rujan (Zd) \n12. kolovoza\, Sv. Nikola 21.30h\nTeatr A Part\, Katowice (Pl)\nMarcin Herich i Marlene Niestrój: Bonds \n13. kolovoza\, Sv. Donat 21.30h\nROOM 100 i Umjetnička akademija Split\nAnja Ostojić: Dijete od pijeska \n14. kolovoza\nOdjavni domjenak \nPartneri festivala su Domino i Zadarski plesni ansambl. Festival Ganz nove Perforacije i Noć performansa u Zadru provodi se u organizaciji udruge Domino u suradnji s udrugom Zadar snova kroz platformu Mreže izvedbenih umjetnosti\, a uz potporu Zaklade Kultura nova. \nUlaznice su potrebne za tri programa\, Domino: Kill B.\, Teatr A Part: Bonds i Room 100: Dijete od pijeska. Ostali programi su besplatni uz uvjet razmaka. \n 
URL:https://kritika-hdp.hr/dogadjaji/festival-zadar-snova-2020/
END:VEVENT
END:VCALENDAR