BEGIN:VCALENDAR
VERSION:2.0
PRODID:-//Kritika HDP - ECPv6.15.20//NONSGML v1.0//EN
CALSCALE:GREGORIAN
METHOD:PUBLISH
X-WR-CALNAME:Kritika HDP
X-ORIGINAL-URL:https://kritika-hdp.hr
X-WR-CALDESC:Događaji za Kritika HDP
REFRESH-INTERVAL;VALUE=DURATION:PT1H
X-Robots-Tag:noindex
X-PUBLISHED-TTL:PT1H
BEGIN:VTIMEZONE
TZID:Europe/Zagreb
BEGIN:DAYLIGHT
TZOFFSETFROM:+0100
TZOFFSETTO:+0200
TZNAME:CEST
DTSTART:20190331T010000
END:DAYLIGHT
BEGIN:STANDARD
TZOFFSETFROM:+0200
TZOFFSETTO:+0100
TZNAME:CET
DTSTART:20191027T010000
END:STANDARD
BEGIN:DAYLIGHT
TZOFFSETFROM:+0100
TZOFFSETTO:+0200
TZNAME:CEST
DTSTART:20200329T010000
END:DAYLIGHT
BEGIN:STANDARD
TZOFFSETFROM:+0200
TZOFFSETTO:+0100
TZNAME:CET
DTSTART:20201025T010000
END:STANDARD
BEGIN:DAYLIGHT
TZOFFSETFROM:+0100
TZOFFSETTO:+0200
TZNAME:CEST
DTSTART:20210328T010000
END:DAYLIGHT
BEGIN:STANDARD
TZOFFSETFROM:+0200
TZOFFSETTO:+0100
TZNAME:CET
DTSTART:20211031T010000
END:STANDARD
BEGIN:DAYLIGHT
TZOFFSETFROM:+0100
TZOFFSETTO:+0200
TZNAME:CEST
DTSTART:20220327T010000
END:DAYLIGHT
BEGIN:STANDARD
TZOFFSETFROM:+0200
TZOFFSETTO:+0100
TZNAME:CET
DTSTART:20221030T010000
END:STANDARD
BEGIN:DAYLIGHT
TZOFFSETFROM:+0100
TZOFFSETTO:+0200
TZNAME:CEST
DTSTART:20230326T010000
END:DAYLIGHT
BEGIN:STANDARD
TZOFFSETFROM:+0200
TZOFFSETTO:+0100
TZNAME:CET
DTSTART:20231029T010000
END:STANDARD
BEGIN:DAYLIGHT
TZOFFSETFROM:+0100
TZOFFSETTO:+0200
TZNAME:CEST
DTSTART:20240331T010000
END:DAYLIGHT
BEGIN:STANDARD
TZOFFSETFROM:+0200
TZOFFSETTO:+0100
TZNAME:CET
DTSTART:20241027T010000
END:STANDARD
BEGIN:DAYLIGHT
TZOFFSETFROM:+0100
TZOFFSETTO:+0200
TZNAME:CEST
DTSTART:20250330T010000
END:DAYLIGHT
BEGIN:STANDARD
TZOFFSETFROM:+0200
TZOFFSETTO:+0100
TZNAME:CET
DTSTART:20251026T010000
END:STANDARD
BEGIN:DAYLIGHT
TZOFFSETFROM:+0100
TZOFFSETTO:+0200
TZNAME:CEST
DTSTART:20260329T010000
END:DAYLIGHT
BEGIN:STANDARD
TZOFFSETFROM:+0200
TZOFFSETTO:+0100
TZNAME:CET
DTSTART:20261025T010000
END:STANDARD
END:VTIMEZONE
BEGIN:VEVENT
DTSTART;VALUE=DATE:20250830
DTEND;VALUE=DATE:20250906
DTSTAMP:20260425T181823
CREATED:20250811T094052Z
LAST-MODIFIED:20250811T100054Z
UID:17213-1756512000-1757116799@kritika-hdp.hr
SUMMARY:Festival svjetske književnosti\, Zagreb\, 31. 8. – 4. 9. 2025.
DESCRIPTION:Od 31. kolovoza do 5. rujna u grad stiže više od 70 autorica i autora\, prevoditelja\, kritičara i urednika iz čak 19 europskih zemalja. Na više od 30 programa razgovarat će se o knjigama\, ali i o stvarima koje ih pokreću: strahovima\, radostima\, čežnjama\, boli i nadi. \nFestival svjetske književnosti ove godine donosi i niz novosti. Jutarnji programi održavat će se besplatno u Knjižari Fraktura\, dok će se glavni dio događanja odvijati u zagrebačkom HNK-u\, od ponedjeljka do četvrtka\, na tri pozornice: glavnoj\, u foajeu i tonskoj dvorani\, svakodnevno od 17 sati pa do kasno navečer. \nSvečano otvaranje bit će u nedjelju\, 31. kolovoza\, na velikoj pozornici HNK-a\, a gošća večeri bit će škotsko-bugarska književnica Kapka Kassabova\, višestruko nagrađivana autorica čija je djela domaća publika već imala prilike upoznati. Ovaj put dolazi s knjigom Anima\, koju je prevela Patricija Horvat\, a u kojoj autorica propituje vezu ljudi i životinja u balkanskim krajolicima. \nMeđu gostima su i neka od najvažnijih imena današnje svjetske književnosti. Stiže španjolski pisac Fernando Aramburu\, poznat po romanima Patria i Čiope\, čije su knjige prevedene na više od 30 jezika\, a prema Patriji je snimljena i iznimno uspješna TV serija. U Zagrebu će prvi put predstaviti svoj najnoviji roman Dječak\, u prijevodu Željke Somun. \nDolazi i Leïla Slimani\, jedno od najistaknutijih imena francuske književnosti\, dobitnica Goncourtove nagrade i ambasadorica frankofonije. Hrvatska publika poznaje je po romanima Uspavanka i U zemlji drugih\, a sad donosi završni dio trilogije pod naslovom Ponijet ću vatru. \nSofi Oksanen\, finska autorica čija su djela prevedena na više od 40 jezika\, gostuje uz razgovor o ratnim zločinima nad ženama\, u kojem će joj se pridružiti Slavenka Drakulić i novinarka Barbara Matejčić. \nPublika će imati priliku susresti i švicarsku spisateljicu Zoru del Buono\, poznatu po romanu Maršalica\, te makedonsku autoricu Rumenu Bužarovsku\, čije su zbirke priča postale kazališni hitovi\, a sada predstavlja i svoj prvi roman Toni. \nJedan od najiščekivanijih gostiju je bosanskohercegovački glumac Feđa Štukan\, koji će govoriti o svom autobiografskom romanu Blank: brutalno iskrenoj priči o životu\, ratu\, ovisnosti i osobnom iskupljenju. S njim će razgovarati pjesnikinja Monika Herceg. \nFestival ne završava na riječima\, u Galeriji Kranjčar istovremeno će se moći pogledati i izložba portreta svjetskih pisaca\, koje je snimio fotograf Ante Magzan\, u kustoskom izboru Leile Topić. \nUlaznice su u pretprodaji do 30. kolovoza po cijeni od 9\,99 €\, a tijekom festivala 11\,99 €\, dostupne online ili na blagajni HNK-a. Detalje programa možete pratiti na www.fsk.hr \n 
URL:https://kritika-hdp.hr/dogadjaji/festival-svjetske-knjizevnosti-zagreb-31-8-4-9-2025/
ATTACH;FMTTYPE=image/jpeg:https://kritika-hdp.hr/wp-content/uploads/2025/08/Bez-naslova-1.jpg
END:VEVENT
BEGIN:VEVENT
DTSTART;TZID=Europe/Zagreb:20230902T080000
DTEND;TZID=Europe/Zagreb:20230908T170000
DTSTAMP:20260425T181823
CREATED:20230825T061839Z
LAST-MODIFIED:20230919T113639Z
UID:9622-1693641600-1694192400@kritika-hdp.hr
SUMMARY:Festival svjetske književnosti 2023.
DESCRIPTION:Od treći do osmi rujna održat će se jedanaesti Festival svjetske književnosti u prostorima Knjižare Fraktura\, Zagrebačkog kazališta mladih i Galerije Kranjčar. \nGostovat će autori iz više od petnaest zemalja\, a festival otvaraju Georgij Gospodinov\, Vanessa Monftort\, Antonio Scurati i Péter Nádas. Više o samom programu\, kao i o svim gostima\, možete naći na sljedećoj poveznici: \nProgram: Festival svjetske književnosti
URL:https://kritika-hdp.hr/dogadjaji/festival-svjetske-knjizevnosti-2023/
ATTACH;FMTTYPE=image/jpeg:https://kritika-hdp.hr/wp-content/uploads/2023/08/Bez-naslova.jpg
END:VEVENT
BEGIN:VEVENT
DTSTART;VALUE=DATE:20220904
DTEND;VALUE=DATE:20220910
DTSTAMP:20260425T181823
CREATED:20220811T105515Z
LAST-MODIFIED:20220811T192726Z
UID:6012-1662249600-1662767999@kritika-hdp.hr
SUMMARY:Deseti Festival svjetske književnosti
DESCRIPTION:Festival će otvoriti proslavljena hrvatska autorica Olja Savičević Ivančević\, a o njezinu novom romanu Ljeta s Marijom s njom će razgovarati spisateljica Maša Kolanović. U Zagreb će doći i dobitnica nagrade Man Booker Bernardine Evaristo\, zatim dobitnica nagrade Costa Monique Roffey\, dobitnica NIN-ove nagrade Milena Marković\, slavni i čitani izraelski pisac krimića i psiholoških trilera Dror Mišani\, ponovno će nam gostovati Mathias Énard i Karl-Markus Gauß\, ugostit ćemo Katharinu Volckmer\, autoricu romana o promjeni spola\, svoju knjigu napisanu na njemačkom predstavit će Alida Bremer\, Erica Johnson Debeljak govorit će o svojem romanu Djevica\, supruga\, udovica\, kurva\, načitanijem u Sloveniji prošle godine\, omiljeni Semezdin Mehmedinović razgovarat će o svom opusu s Markom Pogačarom\, iz Nizozemske će doći Ernest van der Kwast. O Danilu Kišu razgovarat će Đorđe Matić i Mark Thompson\, svoje knjige predstavit će Andrej Nikolaidis\, Dražen Katunarić\, Sandra Antolić\, Saša Ilić i Nada Gašić. O tome zašto je Tito bez sumnje najvažnija povijesna osoba naših prostora diskutirat će njegovi biografi Marie-Janine Calic\, Ivo Goldstein i Boris Rašeta. Svoje nove romane predstavit će Jurica Pavičić\, Ivica Ivanišević\, Josip Mlakić\, Davor Špišić i Ivana Šojat. Od pjesnika ćemo uz Đorđa Matića i Milenu Marković čuti Sanju Baković\, Natašu Govedić i Kolumbijca Georgea Marija Angela Quintera. Učenici zagrebačkih gimnazija opet će razgovarati sa suvremenim piscima; ove će godine to biti Monika Herceg\, Josip Mlakić i Ivica Prtenjača. \nO svojim romanima\, ali i položaju disidenta u današnjoj Rusiji i ratu u Ukrajini govorit će jedan od najboljih suvremenih ruskih pisaca Sergej Lebedev\, dok će Festival zatvoriti Slavenka Drakulić razgovorom o svojoj novoj knjizi eseja Rat je uvijek isti.
URL:https://kritika-hdp.hr/dogadjaji/deseti-festival-svjetske-knjizevnosti/
LOCATION:Hrvatsko društvo likovnih umjetnika\, Fraktura\, Botanički vrt
ATTACH;FMTTYPE=image/jpeg:https://kritika-hdp.hr/wp-content/uploads/2022/08/297123304_5186112494776661_6060572326996543453_n.jpg
END:VEVENT
BEGIN:VEVENT
DTSTART;VALUE=DATE:20210905
DTEND;VALUE=DATE:20210912
DTSTAMP:20260425T181823
CREATED:20210831T213637Z
LAST-MODIFIED:20220724T204131Z
UID:1293-1630800000-1631404799@kritika-hdp.hr
SUMMARY:9. Festival svjetske književnosti: 5.-11. rujna u Zagrebu
DESCRIPTION:Deveti Festival svjetske književnosti koji organizira izdavačka kuća Fraktura održava se od 5. do 11. rujna u Zagrebu. Održat će se više od trideset književnih događanja\, dvije kazališne predstave i izložba hrvatskih likovnih umjetnka koji su svoja djela stvarali inspirirani nekim književnim djelima. Festival će ugostiti više od pedeset svjetskih i domaćih književnih zvijezda iz 16 zemalja. Među njima posebno se ističu bjeloruska književnica i Nobelovka Svetlana Aleksijević\, pisci Javier Cercas\, Manuel Vilas\, Michael Martens\, Philippe Claudel i mnogi drugi. Ove godine u središtu interesa je slovenska i bjeloruska književnost i njihovi autori/ice. \nO bogatom programu Festivala saznajte više na internetskoj stranici izdavača te društvenim mrežama.
URL:https://kritika-hdp.hr/dogadjaji/9-festival-svjetske-knjizevnosti-5-11-rujna-u-zagrebu/
LOCATION:Zagreb
ATTACH;FMTTYPE=image/jpeg:https://kritika-hdp.hr/wp-content/uploads/2021/08/fsk_2021._-_plakat.jpg
END:VEVENT
BEGIN:VEVENT
DTSTART;VALUE=DATE:20200906
DTEND;VALUE=DATE:20200913
DTSTAMP:20260425T181823
CREATED:20200828T205906Z
LAST-MODIFIED:20220725T081141Z
UID:1227-1599350400-1599955199@kritika-hdp.hr
SUMMARY:Festival svjetske književnosti
DESCRIPTION:Osmi Festival svjetske književnosti \nZagreb\, 6.–12. rujna 2020. \npiše: Seid Serdarević\, programski direktor Festivala svjetske književnosti \nMožemo li živjeti pod maskama ili je književnost tu da ih skine\, da pokaže svijet onakvim kakvim jest ili kakvim bi mogao biti? Ove 2020. godine sve se okrenulo naglavačke i nakon nje više ništa neće biti kao što je bilo – ništa osim najdublje ljudske potrebe da pripovijeda i sluša priče i poeziju\, da uz titravo svjetlo svoga računala u ugodnoj atmosferi doma\, na plaži ili za radnim stolom čita i piše\, da stvara nove svjetove i pokuša razumjeti stare i drugačije. Književnost i kultura u svakom su kriznom vremenu\, pa tako i ovome\, esencijalne\, i zapravo tek u takvim vremenima shvatimo da su nam osnovne životne \npotrebe mnogo veće od samo hrane i stana. I upravo zato i ove godine organiziramo Festival svjetske književnosti\, osmi po redu\, dovodeći u Hrvatsku najbolje od suvremene književnosti. I mi smo se prilagodili te smo u suradnji s Hrvatskom radiotelevizijom producirali niz programa koje možete gledati na Trećem programu nacionalne televizije\, bilo uživo\, bilo premijerno. Drugi dio programa održat će se u novootvorenoj Knjižari Fraktura u Ulica kneza Mislava 17 u Zagrebu i te programe emitirat ćemo uživo putem svojih web-platformi i u suradnji s 24sata. Jedan program\, poštujući epidemiološke mjere\, \nodržat ćemo u Hrvatskom glazbenom zavodu\, gdje se prošle godine odvijao Festival. Izložbe će se održati u Galeriji Canvas i Galeriji Šira\, a filmove po književnim djelima moći ćete gledati također na Trećem programu. \nOve godine dovodimo šezdesetak autora iz dvanaest zemalja. Neki će gostovati i razgovarati s nama iz svojih domova ili TV studija\, no mnogi će nastupati uživo pred kamerama\, bilo iz studija HRT-a ili iz Knjižare Fraktura\, a na svakom događanju moći će prisustvovati i publika koliko to dopuštaju kapaciteti prostora uz pridržavanje svih mjera. \nVeć petoga rujna u najavnoj emisiji Festivala na HRT-u razgovarat ćemo o temama distopije i apokalipse u književnosti s IVANOM ROGAR\, LUDWIGOM BAUEROM\, o suvremenoj laži razgovarat ćemo s VIDOM BARIĆEM\, a OZREN GRABARIĆ i MATEJ MEŠTROVIĆ s vrhuncima predstave Krležino predavanje u Hrvatskom glazbenom zavodu podsjetit će nas kako je svijet budućnosti i književnost vidio Miroslav Krleža. Svečano otvaranje Festivala prenosit će se uživo sa Sunčane strane Prisavlja\, a u emisiji će gostovati najbolji svjetski kratkopričaš Izraelac ETGAR KERET\, zatim troje programskih direktora hrvatskih književnih festivala MAGDALENA VODOPIJA\, ROMAN SIMIĆ i SEID SERDAREVIĆ te ĐURĐICA ČILIĆ i SEMEZDIN MEHMEDINOVIĆ\, dvoje autora čije je pripovijedanje obilježeno autofikcijom\, a pritom je iznimno poetsko. \nNa tribini Razotkrivanje ove godine ugošćujemo jednog od stalnih kandidata za Nobelovu nagradu za književnost DAVIDA GROSSMANA\, s kojim ćemo razgovarati o njegovu romanu Kad je Nina znala inspiriranom životom Eve Panić. S nagrađivanom iznimno popularnom talijanskom autoricom FRANCESCOM MELANDRI o njezinu romanu Prava krv o afričkim emigrantima u Italiju\, kolonizatorskoj povijesti Italije i ratu u Etiopiji razgovarat će jedna od naših najboljih prevoditeljica s talijanskoga Ana Badurina\, a s ljubimcem hrvatske publike JAVIEROM CERCASOM\, autorom čiji je svaki novi roman književni dragulj\, razgovarat će književni teoretičar Tomislav Brlek. Ta tri Razotkrivanja možete gledati na TV programu\, a ETGAR KERET o svojim će novim pričama razgovarati s Romanom Simićem u Knjižari Fraktura. Taj i druge događaje iz Knjižare Fraktura moći ćete gledati uživo putem naših platformi i uz suradnju s našim medijskim pokroviteljima 24sata i tjednikom Express. \nRaspored programa i detalje o Festivalu svjetske književnosti pronađite na službenim stranicama \nFestival svjetske književnosti od svojih početka njeguje dijalog između svih sudionika\, a ta ideja najbolje se ogleda u programu Dvostruki portret\, gdje spajamo inozemne i domaće autore koji se negdje dodiruju – temom\, stilom\, idejom. Ove godine u tom programu spajamo dansku spisateljicu\, dobitnicu niza nagrada i finalisticu za nagradu Man Booker International DORTHE NORS i esejisticu\, prozaisticu i feministicu ASJU BAKIĆ\, s kojima će razgovarati Dunja Kučinac. Odrastanje u doba tranzicije jedna je od tema kojom se bavi niz pisaca tranzicijskih zemalja\, svaki sa svojim ponešto drugačijim iskustvom. Korana Serdarević o tome će razgovarati s rumunjskim piscem i književnim urednikom BOGDAN-ALEXANDRUOM STĂNESCUOM i s piscem\, urednikom i kulturtregerom ANDRIJOM ŠKAROM. U današnjem užurbanom\, hektičnom svijetu svima je potrebna svojevrsna smirenost\, potraga za istinskim poslom\, za nečim što nas ispunjava\, što nas povezuje s iskonskim ljudskim. O tim će iskustvima razgovarati Morana Zibar s OLEOM THORSTENENOM\, norveškim stolarom koji je postao svjetska književna senzacija\, i MILANOM MAJEROVIĆ-STILINOVIĆEM\, koji se pak našao na planini. S druge strane\, pisce i dalje proganjaju stvari koje uznemiravaju – pedofilija\, skrivene tajne čovjeka\, nasilje nad ženama. O tome će s dobitnikom Europske nagrade za književnost\, nizozemskim piscem JAMALOM OUARIACHIJEM i književnim otkrićem godine MAGDALENOM BLAŽEVIĆ razgovarati Antonela Marušić. \nU programu Pisac i njegov čitatelj ove godine ugostit ćemo neke iznimne pisce i njihove prevoditelje ili urednike. Kruno Lokotar razgovarat će s dva Marka\, MARKOM TOMAŠEM i MARKOM GREGUROM\, o njihovim novim romanima. Seid Serdarević će pak sa SEMEZDINOM MEHMEDINOVIĆEM i ĐURĐICOM ČILIĆ razgovarati o njihovim knjigama i poetikama\, o sjećanju i kako to sjećanje uhvatiti. \nOvogodišnje Književne matineje u ovim posebnim okolnostima održavamo na livadi Hrvatske radiotelevizije\, tako da su to i matineje i piknici. Učenici zagrebačke V. gimnazije razgovarat će s MIHAELOM GAŠPAR o njezinim romanima i temama koje ju opsjedaju\, učenici X. gimnazije “Ivan Supek” pokušat će vidjeti i čuti kako piše IVICA PRTENJAČA\, dok će VII. gimnazija razgovarati o flash pričama i detaljima koje lovi mobitelom s ANTOM ZLATKOM STOLICOM. \nSÜNJE LEWEJOHANN\, LARA MITRAKOVIĆ i OLJA SAVIČEVIĆ IVANČEVIĆ pjesnikinje su različitih generacija\, ali sličnih poetika. Njihove pjesme čut ćemo uživo\, a o poeziji će s njima razgovarati Monika Herceg. \nŽivimo u vremenu najveće globalne krize\, nakon koje ništa neće i ne može biti kao što je bilo. O temama koje se tiču svih nas\, kulture\, života\, a nadasve književnosti\, organizirali smo nekoliko okruglih stolova. Posljednjih mjeseci gledali smo krizu i snagu Europske unije; o tome je li Europa nedovršena unija\, Igor Štiks razgovarat će s IVANOM SAJKO\, BORISOM BUDENOM i VLADIMIROM ARSENIJEVIĆEM. O svijetu nakon pandemije uz još jednu moderaciju Igora Štiksa razgovarat će DEJAN JOVIĆ\, SEMEZDIN MEHMEDINOVIĆ i RENATA SALECL\, dok će o ulozi i važnosti književnosti Bruno Kragić razgovarati s MARIJOM OTT FRANOLIĆ\, MAŠOM GRDEŠIĆ\, DAMIROM RADIĆEM i ALEŠOM ŠTEGEROM. \nU ovim posebnim okolnostima priredili smo i dvije specijalne emisije\, jednu o poeziji\, Poezija u gradu\, koju je osmislila ROMANA PEREČINEC\, a u kojoj sudjeluju ALEN BRLEK\, ANA BRNARDIĆ\, DENIS ĆOSIĆ\, BRANKO ČEGEC\, MONIKA HERCEG\, MARIJA SKOČIBUŠIĆ i ANDRIANA ŠKUNCA\, dok druga propituje suvremenu prozu\, a osmislio ju je ANDRIJA ŠKARE\, s kojim o svojoj prozi razgovaraju VID BARIĆ\, LUIZA BOUHARAOUA\, IVA GJURKIN\, MARKO GREGUR\, IVANA ROGAR i KORANA SERDAREVIĆ. \nKao i svake godine organiziramo izložbe inspirirane književnim djelima\, ove godine čak dvije. Ona u Galeriji Canvas okuplja suvremene i eminentne likovne umjetnike\, a ona u Galeriji Šira pokazat će radove studenata Akademije likovnih umjetnosti u Zagrebu koji su pod mentorstvom svojih profesora motive za svoje radove našli u književnosti. \nNa Preradovićevu trgu svakoga dana u trinaest sati u kućici Bar caffea uz besplatnu kavu možete se družiti s autorima i dobiti njihov potpis. \nIako je vrijeme mesopusta odavno prošlo\, ipak navucite svoju masku i posjetite Festival svjetske književnosti\, bilo uživo\, bilo virtualno – jer književnost otvara svjetove.
URL:https://kritika-hdp.hr/dogadjaji/festival-svjetske-knjizevnosti/
LOCATION:Zagreb
ATTACH;FMTTYPE=image/jpeg:https://kritika-hdp.hr/wp-content/uploads/2020/08/FSK-2020.-plakat.jpg
END:VEVENT
END:VCALENDAR