BEGIN:VCALENDAR
VERSION:2.0
PRODID:-//Kritika HDP - ECPv6.15.20//NONSGML v1.0//EN
CALSCALE:GREGORIAN
METHOD:PUBLISH
X-WR-CALNAME:Kritika HDP
X-ORIGINAL-URL:https://kritika-hdp.hr
X-WR-CALDESC:Događaji za Kritika HDP
REFRESH-INTERVAL;VALUE=DURATION:PT1H
X-Robots-Tag:noindex
X-PUBLISHED-TTL:PT1H
BEGIN:VTIMEZONE
TZID:Europe/Zagreb
BEGIN:DAYLIGHT
TZOFFSETFROM:+0100
TZOFFSETTO:+0200
TZNAME:CEST
DTSTART:20220327T010000
END:DAYLIGHT
BEGIN:STANDARD
TZOFFSETFROM:+0200
TZOFFSETTO:+0100
TZNAME:CET
DTSTART:20221030T010000
END:STANDARD
BEGIN:DAYLIGHT
TZOFFSETFROM:+0100
TZOFFSETTO:+0200
TZNAME:CEST
DTSTART:20230326T010000
END:DAYLIGHT
BEGIN:STANDARD
TZOFFSETFROM:+0200
TZOFFSETTO:+0100
TZNAME:CET
DTSTART:20231029T010000
END:STANDARD
BEGIN:DAYLIGHT
TZOFFSETFROM:+0100
TZOFFSETTO:+0200
TZNAME:CEST
DTSTART:20240331T010000
END:DAYLIGHT
BEGIN:STANDARD
TZOFFSETFROM:+0200
TZOFFSETTO:+0100
TZNAME:CET
DTSTART:20241027T010000
END:STANDARD
BEGIN:DAYLIGHT
TZOFFSETFROM:+0100
TZOFFSETTO:+0200
TZNAME:CEST
DTSTART:20250330T010000
END:DAYLIGHT
BEGIN:STANDARD
TZOFFSETFROM:+0200
TZOFFSETTO:+0100
TZNAME:CET
DTSTART:20251026T010000
END:STANDARD
BEGIN:DAYLIGHT
TZOFFSETFROM:+0100
TZOFFSETTO:+0200
TZNAME:CEST
DTSTART:20260329T010000
END:DAYLIGHT
BEGIN:STANDARD
TZOFFSETFROM:+0200
TZOFFSETTO:+0100
TZNAME:CET
DTSTART:20261025T010000
END:STANDARD
END:VTIMEZONE
BEGIN:VEVENT
DTSTART;VALUE=DATE:20250317
DTEND;VALUE=DATE:20250323
DTSTAMP:20260421T234803
CREATED:20250306T174442Z
LAST-MODIFIED:20250306T174520Z
UID:15007-1742169600-1742687999@kritika-hdp.hr
SUMMARY:(18.) FESTIVAL PRIČANJA PRIČA „PRIČIGIN“
DESCRIPTION:Nulti dan\, ponedjeljak\, 17. 3. 2025. \n● 20.00 – Koncert Zoran Predin trio\nMjesto: Hrvatski dom Split \nPrvi dan\, utorak\, 18. 3. 2025. \n● 19.00 – Otvorenje \n● 19.15 – Priče hrvatskih spisateljica i spisatelja: “Globalno zahlađenje”\nPripovijedaju: Mladen Blažević\, Monika Herceg\, Ivan Jozić\, Gloria Lujanović\, Zrinka Pavlić\, Mima Simić\nVodi: Patricija Horvat\nMjesto: Dom mladih Split \n● 20.45 – Solo program: Zoran Predin\nVodi: Boris Dežulović\nMjesto: Dom mladih Split \nDrugi dan\, srijeda\, 19. 3. 2025. \n● 17.00 – Promocija romana Zorana Predina “Cirkus Astralis”\nSudionici: Zoran Predin\, Kruno Lokotar\, Patricija Horvat\nMjesto: Hrvatski dom Split \n● 19.00 – Humanitarna modna revija u suradnji sa Županijskom ligom protiv raka \n● 19.15 – Priče o optimizmu: “Rakova obratnica”\nPripovijedaju: Renata Bačanek\, Sonja Grgat\, Ivana Kalođera\, Dubravka Ledina\, Goranka Perc\, Marina Zečić\nVodi: Šime Kovačević\nMjesto: Hrvatski dom Split \n● 20.45 – Priče iz regije: “Dan kad sam rekao/la nikad više”\nPripovijedaju: Dada Batinić\, Tamara Bilankov\, Namik Kabil\, Jasminka Petrović\, Dušan Šarotar\, Nenad Škaljac\nVodi: Kruno Lokotar\nMjesto: Hrvatski dom Split \n  \nTreći dan\, četvrtak\, 20. 3. 2025. \n● 18.00 – Baštinsko pripovijedanje: “Pričom kroz Dalmaciju”\nPripovijedaju: Ivan Baranović\, Klaudija Gamulin\, Ina Nikolić\, Agata Ravlić\, Senka Vlahović\nVodi: Renata Tešija\nMjesto: Dom mladih Split \n● 19.30 – Priče novinarki i novinara: “Piši propalo (Sedma sila u devetom krugu)”\nPripovijedaju: Drago Hedl\, Ivica Ivanišević\, Sanja Mikleušević Pavić\, Domagoj Novokmet\, Helena Puljiz\, Zrinka Vrabec Mojzeš\nVodi: Morana Kasapović\nMjesto: Dom mladih Split \nČetvrti dan\, petak\, 21. 3. 2025. \n● 19.00 – Priče riječkih spisateljica i spisatelja (RI-SpLIT): “Riječke pričke”\nPripovijedaju: Gordana Brkić Žagar\, Enver Krivac\, Zoran Krušvar\, Doris Pandžić\, Milan Zagorac\nVodi: Patricija Horvat\nMjesto: Hrvatski dom Split \n● 20.30 – Solo program: Ana Rucner\nVodi: Morana Kasapović\nMjesto: Hrvatski dom Split \nPeti dan\, subota 22. 3. 2025. \n● 10.00 – Dječji Pričigin\nMjesto: Mjesto: Gradska knjižnica Marka Marulića\, Središnjica \n● 12.00 – Priče o Jakovu Gotovcu i Ivi Tijardoviću: “Spli’ska dota o’ nota”\nPripovijedaju: ranko Ivanda\, Orlan Mirković\, Helena Papić\, Emin Sarajlić + gosti iznenađenja\nVodi: Herci Ganza\nMjesto: Hrvatski dom Split \n● 18.00 – Srednjoškolski Pričigin: Priče o sreći\nVodi: Jasmina Žiljak\nMjesto: Backbar Plan B
URL:https://kritika-hdp.hr/dogadjaji/18-festival-pricanja-prica-pricigin/
ATTACH;FMTTYPE=image/png:https://kritika-hdp.hr/wp-content/uploads/2024/03/logo_pricigin.png
END:VEVENT
BEGIN:VEVENT
DTSTART;VALUE=DATE:20230321
DTEND;VALUE=DATE:20230327
DTSTAMP:20260421T234803
CREATED:20230308T111708Z
LAST-MODIFIED:20230308T111751Z
UID:8152-1679360400-1679792399@kritika-hdp.hr
SUMMARY:16. Pričigin
DESCRIPTION:Objavljen je program ovogodišnjeg Pričigina koji će se održati od 21. do 25. ožujka ove godine! \nAmfiteatar Doma mladih (MKC) \nPrvi dan\, utorak\, 21. 3. 2023. \n19.00: Otvaranje Šesnaestog Pričigina + Hrvatske spisateljice i spisatelji pričaju: „Više nego jučer\, manje nego sutra“\, priče o inflaciji \nGosti: Sanja Baković\, Lidija Deduš\, Siniša Pavić\, Andrija Škare\, Davor Špišić\, Marina Vujčić \nVodi: Patricija Horvat \n20.45: „Sevdah kao priča u pjesmi“ – autorska večer \nGošća: Amira Medunjanin \nVodi: Boris Dežulović \n22.00\, Klub Kocka: Pričiginski party\, DJ Duple \n  \nDrugi dan\, srijeda\, 22. 3. 2023. \n19.00: Lijepa vaša: „Sram me i stid bilo!“\, priče o… hm\, kako da vam kažem… \nGosti: Đorđe Gregović (CG)\, Nikola Kuprešanin (HR)\, Aleksandar Prokopiev (MAK)\, Nenad Škaljac (HR)\, Goran Vojnović (SLO) \nVodi: Kruno Lokotar \n20.30: „Ajte vi\, svitu\, lipo doma“\, priče turističkih vodiča \nGosti: Tina Biluš\, Lana Iljadica\, Dino Ivančić\, Danijela Matijević\, Leo Nikolić\, Ivica Profaca \nVodi: Katja Grcić \n  \nTreći dan\, četvrtak\, 23. 3. 2023. \n19.00: „Sa Zagrebačke gore nikad ne vidi se more“\, priče namjernih Trećićana \nGosti: Nataša Bokor\, Ana Dokmanović\, Žan Jakopač\, Diana Magdić\, Igor Tomljenović \nVodi: Renato Baretić \n20.30: „Kako prodati bijele bubrege“\, PR-ovske priče \nGosti: Željko Erceg\, Krešimir Macan\, Ankica Mamić\, Jerko Trogrlić\, Gordan Turković \nVodi: Jasen Boko \n  \nČetvrti dan\, petak\, 24. 3. 2023. \n19.00: Splitske spisateljice i spisatelji pričaju: „Zemljo\, otvori se“\, priče o blamaži \nGosti: Marijo Glavaš\, Aleksandra Kardum\, Siniša Kekez\, Miro Morović\, Boris Škifić \nVodi: Edi Matić \n20.30: „Radujte se\, narodi“ – autorska večer \nGost: Rade Šerbedžija \nVodi: Ivica Ivanišević \n  \nPeti dan\, subota 25. 3. 2023. \n10.00: Dječji Pričigin: „PriČAgin“ \nMjesto: Gradska knjižnica Marka Marulića\, Središnjica \n12.00: „Moglo je i svršit gore“\, Hommage Miljenku Smoji \nGosti: Boris Dežulović\, Ivica Ivanišević\, Siniša Reljić\, Željko Rogošić \nVodi: Herci Ganza \nMjesto: Oštarija u Viđakovi‘ \nPrije priča – fotografije \nOvoga petka (10. ožujka) u Foto-klubu Split\, u Marmontovoj\, bit će u 19 sati otvorena izložba naziva “Pričigin narodu”\, kojom će se publika moći podsjetiti proteklih petnaest godina festivala priča. Fotografije potpisuje nekolicina autora\, one su vizualni dokument koji je teško\, no ne i nemoguće\, prepričati. Pričigin govori više od tisuću riječi. \n 
URL:https://kritika-hdp.hr/dogadjaji/16-pricigin/
LOCATION:Split
ATTACH;FMTTYPE=image/jpeg:https://kritika-hdp.hr/wp-content/uploads/2023/03/325599140_715952029903881_2729494563646116871_n.jpg
END:VEVENT
END:VCALENDAR