BEGIN:VCALENDAR
VERSION:2.0
PRODID:-//Kritika HDP - ECPv6.15.20//NONSGML v1.0//EN
CALSCALE:GREGORIAN
METHOD:PUBLISH
X-ORIGINAL-URL:https://kritika-hdp.hr
X-WR-CALDESC:Događaji za Kritika HDP
REFRESH-INTERVAL;VALUE=DURATION:PT1H
X-Robots-Tag:noindex
X-PUBLISHED-TTL:PT1H
BEGIN:VTIMEZONE
TZID:Europe/Zagreb
BEGIN:DAYLIGHT
TZOFFSETFROM:+0100
TZOFFSETTO:+0200
TZNAME:CEST
DTSTART:20200329T010000
END:DAYLIGHT
BEGIN:STANDARD
TZOFFSETFROM:+0200
TZOFFSETTO:+0100
TZNAME:CET
DTSTART:20201025T010000
END:STANDARD
BEGIN:DAYLIGHT
TZOFFSETFROM:+0100
TZOFFSETTO:+0200
TZNAME:CEST
DTSTART:20210328T010000
END:DAYLIGHT
BEGIN:STANDARD
TZOFFSETFROM:+0200
TZOFFSETTO:+0100
TZNAME:CET
DTSTART:20211031T010000
END:STANDARD
BEGIN:DAYLIGHT
TZOFFSETFROM:+0100
TZOFFSETTO:+0200
TZNAME:CEST
DTSTART:20220327T010000
END:DAYLIGHT
BEGIN:STANDARD
TZOFFSETFROM:+0200
TZOFFSETTO:+0100
TZNAME:CET
DTSTART:20221030T010000
END:STANDARD
END:VTIMEZONE
BEGIN:VEVENT
DTSTART;TZID=Europe/Zagreb:20211203T190000
DTEND;TZID=Europe/Zagreb:20211203T200000
DTSTAMP:20260423T125535
CREATED:20211130T190042Z
LAST-MODIFIED:20220729T030235Z
UID:1324-1638558000-1638561600@kritika-hdp.hr
SUMMARY:Ciklus tribina HDP-a "Kultura na remontu"
DESCRIPTION:Nakon prve tribine u ciklusu koja je nosila naziv ”Od čega vi zapravo živite” a koja se bavila materijalnim i egzistencijalnim  uvjetima života pisaca na malom tržištu\, institucionalnim okvirom kao i mitovima o potrebnoj muci i siromaštvu za dobru  inspiraciju\, tribina HDP-a ide dalje i ovoga puta postavlja pitanje: ”O čemu vi zapravo pišete?” Što je ono što autorice i autore pokreće\,  postoje li cjeloživotne teme\, bira li pisac temu ili tema njega/nju\, što vam ne da da se dignete od ekrana\, zbog čega  žrtvujete sate u propitivanju\, što je za vas crvena nit u priči? Je li\, u konačnici\, važno samo da pišete ili je važno samo ono o čemu pišete? \nO svemu tome razgovarat će Dorta Jagić\, Ena Katarina Haler i Drago Glamuzina\, uz voditeljicu tribine Ivanu Bodrožić.. \nTribina u organizaciji Hrvatskog društva pisaca i partnera Bookse / Kulturtregera održat će se u petak\, 03. prosinca 2021. u 19 sati\, u parku ispred Bookse (Martićeva 14d) u Zagrebu.
URL:https://kritika-hdp.hr/dogadjaji/ciklus-tribina-hdp-kultura-na-remontu/
LOCATION:Booksa\, Martićeva ul. 14D\, Zagreb\, Croatia (Local Name: Hrvatska)
ATTACH;FMTTYPE=image/png:https://kritika-hdp.hr/wp-content/uploads/2021/11/unnamed.png
END:VEVENT
END:VCALENDAR