BEGIN:VCALENDAR
VERSION:2.0
PRODID:-//Kritika HDP - ECPv6.15.20//NONSGML v1.0//EN
CALSCALE:GREGORIAN
METHOD:PUBLISH
X-ORIGINAL-URL:https://kritika-hdp.hr
X-WR-CALDESC:Događaji za Kritika HDP
REFRESH-INTERVAL;VALUE=DURATION:PT1H
X-Robots-Tag:noindex
X-PUBLISHED-TTL:PT1H
BEGIN:VTIMEZONE
TZID:Europe/Zagreb
BEGIN:DAYLIGHT
TZOFFSETFROM:+0100
TZOFFSETTO:+0200
TZNAME:CEST
DTSTART:20230326T010000
END:DAYLIGHT
BEGIN:STANDARD
TZOFFSETFROM:+0200
TZOFFSETTO:+0100
TZNAME:CET
DTSTART:20231029T010000
END:STANDARD
BEGIN:DAYLIGHT
TZOFFSETFROM:+0100
TZOFFSETTO:+0200
TZNAME:CEST
DTSTART:20240331T010000
END:DAYLIGHT
BEGIN:STANDARD
TZOFFSETFROM:+0200
TZOFFSETTO:+0100
TZNAME:CET
DTSTART:20241027T010000
END:STANDARD
BEGIN:DAYLIGHT
TZOFFSETFROM:+0100
TZOFFSETTO:+0200
TZNAME:CEST
DTSTART:20250330T010000
END:DAYLIGHT
BEGIN:STANDARD
TZOFFSETFROM:+0200
TZOFFSETTO:+0100
TZNAME:CET
DTSTART:20251026T010000
END:STANDARD
END:VTIMEZONE
BEGIN:VEVENT
DTSTART;VALUE=DATE:20241025
DTEND;VALUE=DATE:20241028
DTSTAMP:20260421T035434
CREATED:20241023T192423Z
LAST-MODIFIED:20241024T083206Z
UID:13100-1729814400-1730073599@kritika-hdp.hr
SUMMARY:Balkan forum
DESCRIPTION:Balkan forum je dvodnevni programski produžetak Subversive Festivala\, koji će se održavati od petka\, 25. do nedjelje 27. listopada u Galeriji SKD Prosvjeta i Kulturno informativnom centru (KIC).\nBalkan forum će kroz šest tematskih panela sa sudionicama iz različitih zemalja regije pružati okvir i mjesto za razgovor\, razmjenu iskustava aktera na regionalnoj lijevoj sceni\, produbljivanje međusobnih komunikacijskih veza\, upoznavanje specifičnosti tuđih iskustava i njihove komparacije s vlastitim.\n\n\n—\nRASPORED:\nPetak 25.10.\nGalerija SKD Prosvjeta\, Preradovićeva 21\n17 sati: Od pokreta do stranke\nSudjeluju: Marin Živković (Zagreb\, Možemo)\, Katarina Peović (Zagreb\, Radnička fronta)\, Luka Petrović (Beograd\, Zeleno-levi front)\nModerator: Marko Kostanić\n—\nSubota 26.10.\nKulturno informativni centar – KIC\, Preradovićeva 5\n11 sati: Ljevica i mediji\nSudjeluju: Sandra Bašić Hrvatin (Kopar\, Univerza na Primorskem)\, Vida Knežević (Beograd\, portal Mašina)\, Andrea Radak (Zagreb\, Novosti)\, Lela Vujanić (Rijeka/Beograd\, istraživačica i urednica)\nModeratorica: Matea Grgurinović\n15 sati: Sindikati i ljevica\nSudjeluju: Sunčica Brnardić (Zagreb\, SSSH)\, Iva Ivšić (Zagreb\, Sindikat obrazovanja\, medija i kulture)\, Miloš Baković Jadžić (Beograd\, Centar za politike emancipacije)\, Tina Podbevšek (Ljubljana\, Centar za družbeno raziskovanje – CEDRA)\nModeratorica: Jelena Ostojić\n17.10 sati: Migracije\, migranti\, manjine\nSudjeluju: Selma Banich (Zagreb\, umjetnica i aktivistica)\, Duško Petrović (Zagreb\, FFZG/ERIM)\, Goran Lukić (Ljubljana\, Delavska svetovalnica)\nModerator: Stipe Ćurković\n—\nNedjelja 27.10.\nKulturno informativni centar – KIC\, Preradovićeva 5\n10 sati: Feminizmi i pitanje roda\nSudjeluju: Saša Hajzler (Ljubljana\, Institut za suvremenu povijest)\, Stipe Nogalo (Zagreb\, Status M)\,Irena Pejić (Beograd\, portal Mašina)\, Jovan Džoli Ulićević (Podgorica\, Asocijacija Spectra/ Trans Mreža Balkan)\nModeratorica: Karolina Hrga\n12.10 sati: Okolišna pravda\nSudjeluju: Tihomir Dakić (Banja Luka\, Centar za životnu sredinu)\, Branko Ančić (Zagreb\, Možemo)\, Iskra Krstić (Beograd\, Polekol/ Pravo na vodu)\, Vlado Odar (Ljubljana)\nModeratorica: Marija Mileta\n—\nViše informacija o programu: https://subversivefestival.com/…/balkan-forum-2024…/
URL:https://kritika-hdp.hr/dogadjaji/balkan-forum/
ATTACH;FMTTYPE=image/png:https://kritika-hdp.hr/wp-content/uploads/2024/10/blk.png
END:VEVENT
END:VCALENDAR