BEGIN:VCALENDAR
VERSION:2.0
PRODID:-//Kritika HDP - ECPv6.15.20//NONSGML v1.0//EN
CALSCALE:GREGORIAN
METHOD:PUBLISH
X-WR-CALNAME:Kritika HDP
X-ORIGINAL-URL:https://kritika-hdp.hr
X-WR-CALDESC:Događaji za Kritika HDP
REFRESH-INTERVAL;VALUE=DURATION:PT1H
X-Robots-Tag:noindex
X-PUBLISHED-TTL:PT1H
BEGIN:VTIMEZONE
TZID:Europe/Zagreb
BEGIN:DAYLIGHT
TZOFFSETFROM:+0100
TZOFFSETTO:+0200
TZNAME:CEST
DTSTART:20220327T010000
END:DAYLIGHT
BEGIN:STANDARD
TZOFFSETFROM:+0200
TZOFFSETTO:+0100
TZNAME:CET
DTSTART:20221030T010000
END:STANDARD
BEGIN:DAYLIGHT
TZOFFSETFROM:+0100
TZOFFSETTO:+0200
TZNAME:CEST
DTSTART:20230326T010000
END:DAYLIGHT
BEGIN:STANDARD
TZOFFSETFROM:+0200
TZOFFSETTO:+0100
TZNAME:CET
DTSTART:20231029T010000
END:STANDARD
BEGIN:DAYLIGHT
TZOFFSETFROM:+0100
TZOFFSETTO:+0200
TZNAME:CEST
DTSTART:20240331T010000
END:DAYLIGHT
BEGIN:STANDARD
TZOFFSETFROM:+0200
TZOFFSETTO:+0100
TZNAME:CET
DTSTART:20241027T010000
END:STANDARD
END:VTIMEZONE
BEGIN:VEVENT
DTSTART;TZID=Europe/Zagreb:20231001T100000
DTEND;TZID=Europe/Zagreb:20231031T000000
DTSTAMP:20260421T042905
CREATED:20231018T181403Z
LAST-MODIFIED:20231018T181457Z
UID:10014-1696154400-1698710400@kritika-hdp.hr
SUMMARY:Natječaj kreativnog pisanja povodom 140. rođendana Franza Kafke
DESCRIPTION:Austrijska čitaonica Osijek poziva sve spisatelje iz razonode da se prijave na natječaj kreativnog pisanja “Ti si zadatak” povodom 140. rođendana Franza Kafke.\n\nAforizmom „Ti si zadatak. Niti jednog učenika nadaleko i naširoko” Kafka nam je ostavio izazov\, koji svatko za sebe može prihvatiti. To je svojevrsna potraga za smislom i prije svega poziv na kreativno bavljenje sobom samim i svojom okolinom.\nDužina proznog teksta nije zadana.\nProzni tekstovi na njemačkom ili hrvatskom jeziku mogu se poslati do 31. listopada 2023. godine.\nDodatne informacije:\nhttps://kulturforum-zagreb.org/
URL:https://kritika-hdp.hr/dogadjaji/natjecaj-kreativnog-pisanja-povodom-140-rodendana-franza-kafke/
ATTACH;FMTTYPE=image/jpeg:https://kritika-hdp.hr/wp-content/uploads/2023/10/4641339125_5683b16c47_o.jpg
END:VEVENT
END:VCALENDAR