BEGIN:VCALENDAR
VERSION:2.0
PRODID:-//Kritika HDP - ECPv6.15.20//NONSGML v1.0//EN
CALSCALE:GREGORIAN
METHOD:PUBLISH
X-WR-CALNAME:Kritika HDP
X-ORIGINAL-URL:https://kritika-hdp.hr
X-WR-CALDESC:Događaji za Kritika HDP
REFRESH-INTERVAL;VALUE=DURATION:PT1H
X-Robots-Tag:noindex
X-PUBLISHED-TTL:PT1H
BEGIN:VTIMEZONE
TZID:Europe/Zagreb
BEGIN:DAYLIGHT
TZOFFSETFROM:+0100
TZOFFSETTO:+0200
TZNAME:CEST
DTSTART:20230326T010000
END:DAYLIGHT
BEGIN:STANDARD
TZOFFSETFROM:+0200
TZOFFSETTO:+0100
TZNAME:CET
DTSTART:20231029T010000
END:STANDARD
BEGIN:DAYLIGHT
TZOFFSETFROM:+0100
TZOFFSETTO:+0200
TZNAME:CEST
DTSTART:20240331T010000
END:DAYLIGHT
BEGIN:STANDARD
TZOFFSETFROM:+0200
TZOFFSETTO:+0100
TZNAME:CET
DTSTART:20241027T010000
END:STANDARD
BEGIN:DAYLIGHT
TZOFFSETFROM:+0100
TZOFFSETTO:+0200
TZNAME:CEST
DTSTART:20250330T010000
END:DAYLIGHT
BEGIN:STANDARD
TZOFFSETFROM:+0200
TZOFFSETTO:+0100
TZNAME:CET
DTSTART:20251026T010000
END:STANDARD
END:VTIMEZONE
BEGIN:VEVENT
DTSTART;TZID=Europe/Zagreb:20240820T080000
DTEND;TZID=Europe/Zagreb:20240916T170000
DTSTAMP:20260419T210617
CREATED:20240820T203246Z
LAST-MODIFIED:20240820T203354Z
UID:12629-1724140800-1726506000@kritika-hdp.hr
SUMMARY:Otvorene su prijave za Kulturpunktovu novinarsku školicu!
DESCRIPTION:Prenosimo Kulturpunktov poziv! \nKako bismo obilježili 15 godina Kulturpunktove novinarske školice\, otvaramo prijave za paralelni online program otvoren svima zainteresiranima i program koji se već tradicionalno odvija uživo u Zagrebu. Sveukupno će Kulturpunktova novinarska školica ove godine primiti do 30 polaznika\, 15 u Zagrebu i 15 online. Pri prijavi za program nužno je odabrati format pohađanja Školice. Online dio programa obavezan je za polaznice_ke koji će Školicu pohađati uživo u Zagrebu. \nŠkolica počinje 25. rujna i traje do 19. prosinca 2024. godine. Program se održava ponedjeljkom i četvrtkom od 18 sati online\, te srijedom u Pogonu Mislavova i drugim prostorima nezavisne kulture. \nDetaljan raspored i program polaznici i polaznice će dobiti pri prvom susretu. \nKulturpunktova novinarska školica u Zagrebu sastoji se od četiri tematske cjeline: nezavisna kulturna scena (kulturne politike te prakse i modeli razvijani u polju)\, medijska pismenost (kritičko čitanje i transformacije medija)\, suvremena umjetnost (angažirane\, eksperimentalne i kritičke umjetničke i kustoske prakse) te proizvodnja medijskog sadržaja (praktičan novinarski rad i objavljivanje radova). U ovom segmentu programa kao predavačice i voditeljice praktikuma sudjeluju Irena Borić i Miona Muštra (vizualne umjetničke prakse)\, Agata Juniku\, Igor Ružić i Iva Nerina Sibila (izvedbene umjetničke prakse)\, Nebojša Slijepčević i Višnja Pentić (dokumentarni film)\, Antonio Poščić (suvremena glazba)\, Klara Berdais (audio produkcija novinarskih radova\, fakultativno)\, Matija Mrakovčić i Ivana Pejić (kulturne i medijske politike). \nNovinarske radionice vodi Barbara Matejčić\, koja će u siječnju 2025. mentorirati obavezne završne radove polaznika u Zagrebu. \nOnline program podijeljen je u tri dijela. Prvi dio je osmišljen kako bi se polaznice_i upoznali s medijima i novinarskim alatima. Predavači_ce u ovom segmentu su Iva Nenadić\, Barbara Matejčić\, Petar Vidov\, Jelena Prtorić\, Dora Santos Silva\, Jelena Berković. Drugi segment isprepliće pitanja održivosti i zelene tranzicije s konceptima skrbi i spore mobilnosti te budućnost rada u kulturnom i medijskom sektoru i u njemu sudjeluju Ana Žuvela\, Davor Mišković te Šumski univerzitet – Goran Tomka i Višnja Kisić. Treći segment odnosi se na prezentaciju inkluzivnih medijskih praksi u našem okruženju i uključivanje nezastupljenih skupina u društvene procese. Svoj će rad predstaviti mediji In Portal i Phralipen iz Zagreba\, KLFM iz Splita\, Meduza iz Skoplja i Oblakoder iz Beograda. Polaznice_i će krajem prosinca moći predložiti individualne ili grupne novinarske projekte za koje će pet odabranih ostvariti financijsku potporu i mentorstvo do travnja 2025. \nPrijave za program šalju se putem ONLINE OBRASCA do 16. rujna 2024. u 24 sata. \nPrijava za edukacijski program sadrži kontakt podatke\, kratki životopis\, motivacijsko pismo te kratki autorski osvrt na temu iz područja kulture i/ili medija. \nNa adresu novinarska.skolica@gmail.com možete poslati sve upite vezane uz prijavu i program\, a 5. rujna 2024. u 18 sati na platformi Zoom održat će se info dan o pozivu na kojem ćemo odgovoriti na sva vaša pitanja – spojiti se možete putem POVEZNICE. \nSvi prijavljeni će o rezultatima selekcije biti obaviješteni putem maila najkasnije do 20. rujna 2024.
URL:https://kritika-hdp.hr/dogadjaji/otvorene-su-prijave-za-kulturpunktovu-novinarsku-skolicu/
ATTACH;FMTTYPE=image/png:https://kritika-hdp.hr/wp-content/uploads/2024/08/455813524_1300185044668239_7949042381722153734_n-1.png
END:VEVENT
END:VCALENDAR