BEGIN:VCALENDAR
VERSION:2.0
PRODID:-//Kritika HDP - ECPv6.15.20//NONSGML v1.0//EN
CALSCALE:GREGORIAN
METHOD:PUBLISH
X-WR-CALNAME:Kritika HDP
X-ORIGINAL-URL:https://kritika-hdp.hr
X-WR-CALDESC:Događaji za Kritika HDP
REFRESH-INTERVAL;VALUE=DURATION:PT1H
X-Robots-Tag:noindex
X-PUBLISHED-TTL:PT1H
BEGIN:VTIMEZONE
TZID:Europe/Zagreb
BEGIN:DAYLIGHT
TZOFFSETFROM:+0100
TZOFFSETTO:+0200
TZNAME:CEST
DTSTART:20210328T010000
END:DAYLIGHT
BEGIN:STANDARD
TZOFFSETFROM:+0200
TZOFFSETTO:+0100
TZNAME:CET
DTSTART:20211031T010000
END:STANDARD
BEGIN:DAYLIGHT
TZOFFSETFROM:+0100
TZOFFSETTO:+0200
TZNAME:CEST
DTSTART:20220327T010000
END:DAYLIGHT
BEGIN:STANDARD
TZOFFSETFROM:+0200
TZOFFSETTO:+0100
TZNAME:CET
DTSTART:20221030T010000
END:STANDARD
BEGIN:DAYLIGHT
TZOFFSETFROM:+0100
TZOFFSETTO:+0200
TZNAME:CEST
DTSTART:20230326T010000
END:DAYLIGHT
BEGIN:STANDARD
TZOFFSETFROM:+0200
TZOFFSETTO:+0100
TZNAME:CET
DTSTART:20231029T010000
END:STANDARD
BEGIN:DAYLIGHT
TZOFFSETFROM:+0100
TZOFFSETTO:+0200
TZNAME:CEST
DTSTART:20240331T010000
END:DAYLIGHT
BEGIN:STANDARD
TZOFFSETFROM:+0200
TZOFFSETTO:+0100
TZNAME:CET
DTSTART:20241027T010000
END:STANDARD
END:VTIMEZONE
BEGIN:VEVENT
DTSTART;VALUE=DATE:20221201
DTEND;VALUE=DATE:20230124
DTSTAMP:20260420T112359
CREATED:20221201T193712Z
LAST-MODIFIED:20240201T200416Z
UID:7237-1669852800-1674518399@kritika-hdp.hr
SUMMARY:Otvorene prijave za Paul Celan Fellowship Program 2023/24
DESCRIPTION:Paul Celan Fellowship program nudi stipendije za prevoditelje za akademsku godinu 2023/24. Stipendija uključuje boravak u Beču i mjesečnu stipendiju od 3000 eura. Prijave se tiču prijevoda sa zapadnih europskih jezika na istočne\, i obrnuto\, kao i prijevode istočnoeuropskih autora\, iz domene humanistike\, društvenih znanosti i kulturnih studija. Fikcija i proza se ne razmatraju. Rok za prijavu je 23. siječnja 2023. godine. \nOvom stipendijom organizatori žele doprinijeti nadilaženju asimetrije u razmjeni ideja i recepcije akademske literature koja proizlazi iz podjele Europe u dvadesetom stoljeću. Samim time program daje potpore prevoditeljima kanonskih tekstova i suvremenih ključnih djela u humanistici\, društvenim znanostima i kulturnim studijima s istočnih na zapadne\, zapadnih na istočne ili između dva istočnoeuropska jezika. Poseban je naglasak na prijevode relevantnih djela istočnoeuropskih autora ili znanstvenica. \nFikcija i poezija se ne razmatraju za ovu stipendiju. \nStipendija uključuje provođenje tri mjeseca u Beču (u razdoblju od rujna 2023. godine do lipnja 2024.) i mjesečnu stipendiju od 3000 eura za pokrivanje svih troškova svog boravka tamo. Nadalje\, stipendistima se pruža na korištenje ured s pristupom internetu\, i ostalo. U principu rezidencija počinje prvoga u mjesecu te završava zadnjeg dana u mjesecu. \nPrijava se izvršava online te uključuje: \n\nCurriculum vitae s bibliografijom prijevoda i drugih relevantnih publikacija\nIme autora i djela koje se prevodi (s izvornog jezika) i objašnjenje odabira istoga\nTočan broj stranica\nUgovor ili pismo namjere izdavača\nDokaz da prevoditelj ili izdavač imaju prava na prijevod i objavu\nPlanirani datum objave\nSvi dokumenti šalju se u PDF-u.\n\nRok za prijave: 23. siječnja 2023. godine\, 23:59 \nŽiri odluku donosi u travnju ili svibnju 2023. godine. \nSve daljnje informacije o prijavi\, žiriju i ostalom nađite na sljedećoj poveznici: Paul Celan Fellowship.
URL:https://kritika-hdp.hr/dogadjaji/otvorene-prijave-za-paul-celan-fellowship-program-za-prevoditelje-2023-24/
ATTACH;FMTTYPE=image/jpeg:https://kritika-hdp.hr/wp-content/uploads/2022/12/Untitled.jpg
END:VEVENT
END:VCALENDAR