BEGIN:VCALENDAR
VERSION:2.0
PRODID:-//Kritika HDP - ECPv6.15.20//NONSGML v1.0//EN
CALSCALE:GREGORIAN
METHOD:PUBLISH
X-WR-CALNAME:Kritika HDP
X-ORIGINAL-URL:https://kritika-hdp.hr
X-WR-CALDESC:Događaji za Kritika HDP
REFRESH-INTERVAL;VALUE=DURATION:PT1H
X-Robots-Tag:noindex
X-PUBLISHED-TTL:PT1H
BEGIN:VTIMEZONE
TZID:Europe/Zagreb
BEGIN:DAYLIGHT
TZOFFSETFROM:+0100
TZOFFSETTO:+0200
TZNAME:CEST
DTSTART:20220327T010000
END:DAYLIGHT
BEGIN:STANDARD
TZOFFSETFROM:+0200
TZOFFSETTO:+0100
TZNAME:CET
DTSTART:20221030T010000
END:STANDARD
BEGIN:DAYLIGHT
TZOFFSETFROM:+0100
TZOFFSETTO:+0200
TZNAME:CEST
DTSTART:20230326T010000
END:DAYLIGHT
BEGIN:STANDARD
TZOFFSETFROM:+0200
TZOFFSETTO:+0100
TZNAME:CET
DTSTART:20231029T010000
END:STANDARD
BEGIN:DAYLIGHT
TZOFFSETFROM:+0100
TZOFFSETTO:+0200
TZNAME:CEST
DTSTART:20240331T010000
END:DAYLIGHT
BEGIN:STANDARD
TZOFFSETFROM:+0200
TZOFFSETTO:+0100
TZNAME:CET
DTSTART:20241027T010000
END:STANDARD
END:VTIMEZONE
BEGIN:VEVENT
DTSTART;TZID=Europe/Zagreb:20231124T090000
DTEND;TZID=Europe/Zagreb:20231224T180000
DTSTAMP:20260419T202701
CREATED:20231125T180436Z
LAST-MODIFIED:20231218T180810Z
UID:10562-1700816400-1703440800@kritika-hdp.hr
SUMMARY:Otvoren natječaj za 21. broj časopisa "The Split Mind"
DESCRIPTION:Uredništvo časopisa prima\, kao i dosada\, poeziju\, kratku prozu\, prijevode\, eseje\, kritike te likovne radove i fotografije\, a novost je što u ovome broju prima i osvrte na knjige\, filmove\, izložbe i predstave. \nUVJETI NATJEČAJA za poeziju\, prozu\, prijevode\, eseje\, kritike i osvrte:\n– radovi moraju biti napisani hrvatskim ili engleskim jezikom\n– radovi ne smiju biti prethodno objavljeni\n– radovi moraju biti napisani u nekoj inačici programa MS WORD:\n> format teksta: font: Times New Roman\, veličina: 12;\n> sve radove pošaljite u istome dokumentu i naslovite ga svojim imenom i prezimenom\n– jedna osoba može poslati najviše 3 pjesme\, 1 priču dužine do 8 kartica (12 000 znakova s prazninama)\, 1 esej i/ili kritiku i/ili osvrt dužine do 8 kartica\, te prijevode najviše triju pjesama \nRadovi se šalju e-mailom kao privitak na adresu: thesplitmind1@gmail.com s naslovom maila “Za natječaj 2023”.\n– U mailu je potrebno navesti ime i prezime autora\, godinu rođenja\, adresu stanovanja\, adresu elektroničke pošte i broj mobitela. Studenti koji se prijavljuju neka naznače i na kojemu fakultetu studiraju. \nUVJETI NATJEČAJA za naslovnicu i likovne radove:\n– časopis objavljuje ilustracije\, slike i fotografije\n– radovi se šalju u .jpg i .png formatu\n– jedna osoba može poslati najviše 3 likovna rada \nRadovi se šalju e-mailom kao privitak na adresu: thesplitmind1@gmail.com\, s naslovom “Za naslovnicu 2023”.\n– U mailu je potrebno navesti ime i prezime autora\, godinu rođenja\, adresu stanovanja\, adresu elektroničke pošte i broj mobitela. Studenti koji se prijavljuju neka naznače i na kojemu fakultetu studiraju. \nOdabir radova vrši uredništvo The Split Minda. Jedini je kriterij odabira radova njihova kvaliteta i prethodno navedeni uvjeti natječaja\, a popis odabranih autora bit će objavljen na službenoj Facebook stranici. Časopis je otvoren svim autorima neovisno o dobi ili državljanstvu.
URL:https://kritika-hdp.hr/dogadjaji/otvoren-natjecaj-za-21-broj-casopisa-the-split-mind/
ATTACH;FMTTYPE=image/jpeg:https://kritika-hdp.hr/wp-content/uploads/2023/12/271183510_2252620298210906_8638669261096452074_n.jpg
END:VEVENT
END:VCALENDAR