BEGIN:VCALENDAR
VERSION:2.0
PRODID:-//Kritika HDP - ECPv6.15.20//NONSGML v1.0//EN
CALSCALE:GREGORIAN
METHOD:PUBLISH
X-WR-CALNAME:Kritika HDP
X-ORIGINAL-URL:https://kritika-hdp.hr
X-WR-CALDESC:Događaji za Kritika HDP
REFRESH-INTERVAL;VALUE=DURATION:PT1H
X-Robots-Tag:noindex
X-PUBLISHED-TTL:PT1H
BEGIN:VTIMEZONE
TZID:Europe/Zagreb
BEGIN:DAYLIGHT
TZOFFSETFROM:+0100
TZOFFSETTO:+0200
TZNAME:CEST
DTSTART:20220327T010000
END:DAYLIGHT
BEGIN:STANDARD
TZOFFSETFROM:+0200
TZOFFSETTO:+0100
TZNAME:CET
DTSTART:20221030T010000
END:STANDARD
BEGIN:DAYLIGHT
TZOFFSETFROM:+0100
TZOFFSETTO:+0200
TZNAME:CEST
DTSTART:20230326T010000
END:DAYLIGHT
BEGIN:STANDARD
TZOFFSETFROM:+0200
TZOFFSETTO:+0100
TZNAME:CET
DTSTART:20231029T010000
END:STANDARD
BEGIN:DAYLIGHT
TZOFFSETFROM:+0100
TZOFFSETTO:+0200
TZNAME:CEST
DTSTART:20240331T010000
END:DAYLIGHT
BEGIN:STANDARD
TZOFFSETFROM:+0200
TZOFFSETTO:+0100
TZNAME:CET
DTSTART:20241027T010000
END:STANDARD
BEGIN:DAYLIGHT
TZOFFSETFROM:+0100
TZOFFSETTO:+0200
TZNAME:CEST
DTSTART:20250330T010000
END:DAYLIGHT
BEGIN:STANDARD
TZOFFSETFROM:+0200
TZOFFSETTO:+0100
TZNAME:CET
DTSTART:20251026T010000
END:STANDARD
END:VTIMEZONE
BEGIN:VEVENT
DTSTART;TZID=Europe/Zagreb:20231208T090000
DTEND;TZID=Europe/Zagreb:20240526T190000
DTSTAMP:20260419T190156
CREATED:20231208T180041Z
LAST-MODIFIED:20231218T180634Z
UID:10557-1702026000-1716750000@kritika-hdp.hr
SUMMARY:Otvoren je šesti regionalni natječaj za kratku priču "Biber"
DESCRIPTION:Prenosimo tekst natječaja sa stranica organizatora: \nKao i na prethodnim konkursima Biber\, pored priča koje tematizuju pomirenje u kontekstu zaostavštine ratova i nasilja u zemljama bivše Jugoslavije\, dolaze u obzir i priče koje mogu da doprinesu boljem razumijevanju među ljudima\, smanjenju mržnje i razgradnji predrasuda\, antiratne priče\, priče koje se bave suočavanjem s prošlošću\, razgradnjom slika o neprijateljima\, saosjećanjem sa drugima\, hrabre priče koje se usuđuju da hodaju u “neprijateljskim” cipelama\, priče koje pomjeraju granice i otvaraju nam puteve da gradimo izvjesniju\, bezbjedniju i slobodniju budućnost za sve. \nKonkurs je otvoren do 26. 05. 2024. godine. \nIzbor pristiglih priča napraviće žiri u sastavu: Tanja Stupar Trifunović\, Almin Kaplan i Jasna Dimitrijević. Najmanje dvadeset izabranih radova biće objavljeno u višejezičnoj zbirci. \nAutori/ke tri najbolje priče biće nagrađeni novčanim nagradama (u bruto iznosu):\n1. nagrada 1.100 evra\n2. nagrada 850 evra\n3. nagrada 600 eura. \n  \nOdluka žirija biće objavljena sredinom novembra/studenog 2024. god. \n  \nKonkurs organizuje Biber tim Centra za nenasilnu akciju Sarajevo-Beograd.
URL:https://kritika-hdp.hr/dogadjaji/otvoren-je-sesti-regionalni-natjecaj-za-kratku-pricu-biber/
ATTACH;FMTTYPE=image/jpeg:https://kritika-hdp.hr/wp-content/uploads/2023/12/Untitled.jpg
END:VEVENT
END:VCALENDAR